BEGIN:VCALENDAR
VERSION:2.0
METHOD:PUBLISH
PRODID:-//hacksw/handcal//NONSGML v1.0//EN
BEGIN:VEVENT
DTSTAMP:20260419T165633Z
DTSTART:20160815T080000Z
DTEND:20160815T200000Z
UID:20160815T080000Z-20160815T200000Z-379@www.runningsocks.de
SUMMARY:Bad Staffelsteiner Bierbrauerfest
DESCRIPTION:Jedes Jahr am 15. August\, dem katholischen Feiertag Mariä
  Himmelfahrt\, findet auf dem Marktplatz das Bad Staffelstein Brauerei
 fest statt. Nicht weniger als zehn Brauereien im Stadtgebiet von Bad S
 taffelstein im Oberen Maintal  wetteifern um die Gunst der Bierfreunde
 . Die zumeist kleinen Hausbrauereien produzieren ihr Bier lediglich fü
 r den Ausschank in ihren eigenen Gaststätten und Bierkellern – und das
  in einer Qualität und unübertrefflichen Geschmacksvielfalt\, wie dies
  nur handwerkliche Arbeit und Liebe zum Genuss zustande bringen.\n\n(T
 extquellen: Geniesserbier.de\, Stadt Staffelstein )\n\n\nBierwanderweg
 e und Brauereien:
X-ALT-DESC;FMTTYPE=text/html:<p>Jedes Jahr am 15. August\, dem katholi
 schen Feiertag Mariä Himmelfahrt\, findet auf dem Marktplatz das Bad S
 taffelstein Brauereifest statt. Nicht weniger als zehn Brauereien im S
 tadtgebiet von Bad Staffelstein im Oberen Maintal  wetteifern um die G
 unst der Bierfreunde. Die zumeist kleinen Hausbrauereien produzieren i
 hr Bier lediglich für den Ausschank in ihren eigenen Gaststätten und B
 ierkellern – und das in einer Qualität und unübertrefflichen Geschmack
 svielfalt\, wie dies nur handwerkliche Arbeit und Liebe zum Genuss zus
 tande bringen.</p>\n<p>(Textquellen: <a href=http://www.geniesserbier.
 de/bierfeste/bad-staffelsteiner-brauereifest>Geniesserbier.de</a>\, <a
  href=http://www.bad-staffelstein.de/de/tourismus/genuss/bierbrauerfes
 t.php target=_blank rel=noopener>Stadt Staffelstein )<br>\n</a></p>\n<
 p>Bierwanderwege und Brauereien:<br>\n<code><iframe loading=lazy src=h
 ttps://www.google.com/maps/d/embed?mid=zCighx3434L0.kBROCSa3LKi0 width
 =640 height=480></iframe></code></p>\n
URL:https://www.runningsocks.de/wordpress/terminkalender/eventsinglepa
 ge/?event_id=379&lang=de
ATTACH:https://www.runningsocks.de/wordpress/terminkalender/eventsingl
 epage/?event_id=379&lang=de
LOCATION:Bad Staffelstein\, Marktplatz 1\, Bad Staffelstein
END:VEVENT
END:VCALENDAR
