BEGIN:VCALENDAR
VERSION:2.0
METHOD:PUBLISH
PRODID:-//hacksw/handcal//NONSGML v1.0//EN
BEGIN:VEVENT
DTSTAMP:20260419T165232Z
DTSTART:20100418T073000Z
DTEND:20100418T100000Z
UID:20100418T073000Z-20100418T100000Z-38@www.runningsocks.de
SUMMARY:Nutrichem Jubiläums-Halbmarathon
DESCRIPTION:Wettbewerb: \nHalbmarathon über 21\,1 km von Spalt nach  R
 oth\nDer Halbmarathonwettbewerb ist ein vom  Bayer. Leichtathletik-Ver
 band e.V. offiziell genehmigter Volkslauf.\n\n\nStart: 9:30 Uhr \nStad
 t Spalt\, Hauptstraße (Nähe  Geschäftsstelle der Raiffeisenbank)\n \n\
 nZiel: \nKreisstadt Roth\, am Stadtgarten (Nähe  Festplatz bzw. Stadth
 alle)\n\n\n\nStreckenführung (voraussichtlich):\nSpalt (Stadtmitte) – 
 Wasserzell –  Georgensgmünd – Bernlohe – Barnsdorf – in Roth: Münchene
 r Str. –  Westring – Bahnhof – Stieberpark-Brücke – Werksdurchquerung 
 der LEONI AG  – Stieberstraße – Hauptstraße – Marktplatz – Traubengass
 e –  Gartenstraße – Hilpoltsteiner Str. – Am Hasenbuck – Stadtgarten (
 Nähe  Festplatz am Lohgarten).\n\n\nAusschreibung: SpaltRoth21_Broschu
 ere (PDF Datei\, 3\,7MB)\n\nWeiter Infos und Anmeldung beim Veranstalt
 er: TSG 08 Roth e.V.
X-ALT-DESC;FMTTYPE=text/html:<div><strong>Wettbewerb: </strong></div>\
 n<div>Halbmarathon über 21\,1 km von Spalt nach  Roth</div>\n<div>Der 
 Halbmarathonwettbewerb ist ein vom  Bayer. Leichtathletik-Verband e.V.
  offiziell genehmigter Volkslauf.</div>\n<div></div>\n<div>\n<div><str
 ong>Start: 9:30 Uhr </strong></div>\n<div>Stadt Spalt\, Hauptstraße (N
 ähe  Geschäftsstelle der Raiffeisenbank)</div>\n<div><strong> </strong
 ></div>\n<div></div>\n<div><strong>Ziel: </strong></div>\n<div>Kreisst
 adt Roth\, am Stadtgarten (Nähe  Festplatz bzw. Stadthalle)</div>\n</d
 iv>\n<div></div>\n<div>\n<div><strong>Streckenführung (voraussichtlich
 ):</strong></div>\n<div>Spalt (Stadtmitte) – Wasserzell –  Georgensgmü
 nd – Bernlohe – Barnsdorf – in Roth: Münchener Str. –  Westring – Bahn
 hof – Stieberpark-Brücke – Werksdurchquerung der LEONI AG  – Stieberst
 raße – Hauptstraße – Marktplatz – Traubengasse –  Gartenstraße – Hilpo
 ltsteiner Str. – Am Hasenbuck – Stadtgarten (Nähe  Festplatz am Lohgar
 ten).</div>\n</div>\n<div></div>\n<div>Ausschreibung: <a href=https://
 www.runningsocks.de/wordpress/wp-content/uploads/2010/04/SpaltRoth21_B
 roschuere.pdf>SpaltRoth21_Broschuere</a> (PDF Datei\, 3\,7MB)</div>\n<
 div></div>\n<div>Weiter Infos und Anmeldung beim Veranstalter: <em>T<a
  href=http://www.spaltroth21.de/ target=_blank>SG 08 Roth e.V.</a></em
 ></div>\n
URL:https://www.runningsocks.de/wordpress/terminkalender/eventsinglepa
 ge/?event_id=38&lang=de
ATTACH:https://www.runningsocks.de/wordpress/terminkalender/eventsingl
 epage/?event_id=38&lang=de
LOCATION:Geschäftsstelle der Raiffeisenbank\, Hauptstrasse\, Spalt
END:VEVENT
END:VCALENDAR
