BEGIN:VCALENDAR
VERSION:2.0
METHOD:PUBLISH
PRODID:-//hacksw/handcal//NONSGML v1.0//EN
BEGIN:VEVENT
DTSTAMP:20260419T165231Z
DTSTART;VALUE=DATE:20160525
DTEND;VALUE=DATE:20160530
UID:20160524T220000Z-20160529T215959Z-385@www.runningsocks.de
SUMMARY:Fränkisches Bierfest Nürnberg - 2016
DESCRIPTION:In einigen Wochen ist es wieder soweit. Das Fränkische Bie
 rfest Nürnberg schlägt seine Zelte / Schirme im Burggraben zwischen Ti
 ergärtner Tor und Maxtor auf. Dieses Jahr bieten 41 Brauereien über 10
 0 verschiedene Biersorten an - somit sollte für jeden Geschmack etwas 
 dabei sein.\n\nDie Öffnungszeiten lassen jedem Zeit für einen Besuch:\
 n\n\n\n25.05.\nMittwoch\nab 17:00 - 23:00\n\n\n26.05.\nDonnerstag\nab 
 11:00 - 23:00\n\n\n27.05.\nFreitag\nab 14:00 - 23:00\n\n\n28.05.\nSaam
 stag\nab 11:00 - 23:00\n\n\n29.05.\nSonntag\nab 11:00 - 22:00\n\n\n\n\
 nDownloads:\n\n[wpfilebase tag=list id=260 tpl=data-table pagenav=1 /]
 \n\nAlle aktuellen Infos\, Veranstaltungsprogramm sowie teilnehmende B
 rauereien siehe hier: Fränkisches Bierfest Nürnberg
X-ALT-DESC;FMTTYPE=text/html:<p>In einigen Wochen ist es wieder soweit
 . Das Fränkische Bierfest Nürnberg schlägt seine Zelte / Schirme im Bu
 rggraben zwischen Tiergärtner Tor und Maxtor auf. Dieses Jahr bieten 4
 1 Brauereien über 100 verschiedene Biersorten an &#8211\; somit sollte
  für jeden Geschmack etwas dabei sein.</p>\n<p>Die Öffnungszeiten lass
 en jedem Zeit für einen Besuch:</p>\n<table style=height: 221px\;>\n<t
 body>\n<tr><td style=text-align: left\;>25.05.</td>\n<td style=text-al
 ign: left\;>Mittwoch</td>\n<td style=text-align: left\;>ab 17:00 &#821
 1\; 23:00</td></tr>\n<tr><td>26.05.</td>\n<td>Donnerstag</td>\n<td>ab 
 11:00 &#8211\; 23:00</td></tr>\n<tr><td>27.05.</td>\n<td>Freitag</td>\
 n<td>ab 14:00 &#8211\; 23:00</td></tr>\n<tr><td style=text-align: left
 \;>28.05.</td>\n<td style=text-align: left\;>Saamstag</td>\n<td style=
 text-align: left\;>ab 11:00 &#8211\; 23:00</td></tr>\n<tr><td>29.05.</
 td>\n<td>Sonntag</td>\n<td>ab 11:00 &#8211\; 22:00<strong><span style=
 color: #da1e00\;><br>\n</span></strong></td></tr>\n</tbody>\n</table>\
 n<p>Downloads:</p>\n<p>[wpfilebase tag=list id=260 tpl=data-table page
 nav=1 /]</p>\n<p>Alle aktuellen Infos\, Veranstaltungsprogramm sowie t
 eilnehmende Brauereien siehe hier: <a href=http://www.bierfest-franken
 .de/ target=_blank>Fränkisches Bierfest Nürnberg</a></p>\n
URL:https://www.runningsocks.de/wordpress/terminkalender/eventsinglepa
 ge/?event_id=385&lang=de
ATTACH:https://www.runningsocks.de/wordpress/terminkalender/eventsingl
 epage/?event_id=385&lang=de
LOCATION:Burggraben unterhalb der Kaiserburg\, Auf der Burg 13\, Nürnb
 erg
END:VEVENT
END:VCALENDAR
