BEGIN:VCALENDAR
VERSION:2.0
METHOD:PUBLISH
PRODID:-//hacksw/handcal//NONSGML v1.0//EN
BEGIN:VEVENT
DTSTAMP:20260419T165717Z
DTSTART:20160507T150000Z
DTEND:20160507T170000Z
UID:20160507T150000Z-20160507T170000Z-387@www.runningsocks.de
SUMMARY:16. Happurger Stauseelauf
DESCRIPTION:Wie gewohnt werden diverse Kinder- und Schülerläufe\, der 
 Hobbylauf mit einer Stauseerunde sowie der Hauptlauf über 10 km verans
 taltet.\nDie Strecken:\n\n\n\nStrecke\nKlasse\nStartgeld\nStartzeit\nB
 emerkung\n\n\n400 m\nVorschulkinder\n2 EUR\nab 14:45\n\n\n\n800 m\nU10
 -U12\, M/W\n4 EUR\nab 15:00\n\n\n\n1\,6 Km\nU14-U16\, M/W\n4 EUR\n15:4
 0\n\n\n\n3\,4 Km\nHobbylauf\n6 EUR\n16:15\no. Klassenwertung\n\n\n10 K
 m\nHauptlauf\n6 EUR / 8 EUR\n17:00\nm. Klassenwertung\n\n\n\nMannschaf
 tswertung:\n\n 	Jeweils 3 Herren bzw. 3 Damen innerhalb eines Vereines
  erhalten einen Mannschaftspreis.\n 	Jede Mannschaft erhält einen Sach
 preis.\n\nMeldeschluß:\n\n 	06.05. bzw. am Wettkampftag bis 2h vor jew
 eiligem Rennen\n 	Nachmeldegebühr: 2 EUR\n\nWeitere Info's und Anmeldu
 ng beim Veranstalter:  SC Happurg\n\nDownloads:\n\n[wpfilebase tag=fil
 e path='lauf/happurger-stauseelauf/20160507/20160507_HappurgerStauseel
 auf_Ausschreibung.pdf' /]
X-ALT-DESC;FMTTYPE=text/html:<p style=text-align: center\;>Wie gewohnt
  werden diverse Kinder- und Schülerläufe\, der Hobbylauf mit einer Sta
 useerunde sowie der Hauptlauf über 10 km veranstaltet.</p>\n<p><strong
 >Die Strecken:</strong></p>\n<table border=0>\n<tbody>\n<tr><td style=
 text-align: center\;><strong>Strecke</strong></td>\n<td style=text-ali
 gn: center\;><strong>Klasse</strong></td>\n<td style=text-align: cente
 r\;><strong>Startgeld</strong></td>\n<td style=text-align: center\;><s
 trong>Startzeit</strong></td>\n<td style=text-align: center\;><strong>
 Bemerkung</strong></td></tr>\n<tr><td style=text-align: center\;>400 m
 </td>\n<td style=text-align: center\;>Vorschulkinder</td>\n<td style=t
 ext-align: center\;>2 EUR</td>\n<td style=text-align: center\;>ab 14:4
 5</td>\n<td style=text-align: center\;></td></tr>\n<tr><td style=text-
 align: center\;>800 m</td>\n<td style=text-align: center\;>U10-U12\, M
 /W</td>\n<td style=text-align: center\;>4 EUR</td>\n<td style=text-ali
 gn: center\;>ab 15:00</td>\n<td style=text-align: center\;></td></tr>\
 n<tr><td style=text-align: center\;>1\,6 Km</td>\n<td style=text-align
 : center\;>U14-U16\, M/W</td>\n<td style=text-align: center\;>4 EUR</t
 d>\n<td style=text-align: center\;>15:40</td>\n<td style=text-align: c
 enter\;></td></tr>\n<tr><td style=text-align: center\;>3\,4 Km</td>\n<
 td style=text-align: center\;>Hobbylauf</td>\n<td style=text-align: ce
 nter\;>6 EUR</td>\n<td style=text-align: center\;>16:15</td>\n<td styl
 e=text-align: center\;>o. Klassenwertung</td></tr>\n<tr><td style=text
 -align: center\;>10 Km</td>\n<td style=text-align: center\;>Hauptlauf<
 /td>\n<td style=text-align: center\;>6 EUR / 8 EUR</td>\n<td style=tex
 t-align: center\;>17:00</td>\n<td style=text-align: center\;>m. Klasse
 nwertung</td></tr>\n</tbody>\n</table>\n<p><strong>Mannschaftswertung:
 </strong></p>\n<ul>\n<li>Jeweils 3 Herren bzw. 3 Damen innerhalb eines
  Vereines erhalten einen Mannschaftspreis.</li>\n<li>Jede Mannschaft e
 rhält einen Sachpreis.</li>\n</ul>\n<p><strong>Meldeschluß:</strong></
 p>\n<ul>\n<li>06.05. bzw. am Wettkampftag bis 2h vor jeweiligem Rennen
 </li>\n<li>Nachmeldegebühr: 2 EUR</li>\n</ul>\n<p>Weitere Info&#8217\;
 s und Anmeldung beim Veranstalter:  <a href=http://www.sc-happurg.de/s
 tauseelauf.php target=_blank>SC Happurg</a></p>\n<p><strong>Downloads:
 </strong><br>\n<br>\n[wpfilebase tag=file path=&#8217\;lauf/happurger-
 stauseelauf/20160507/20160507_HappurgerStauseelauf_Ausschreibung.pdf&#
 8216\; /]</p>\n
URL:https://www.runningsocks.de/wordpress/terminkalender/eventsinglepa
 ge/?event_id=387&lang=de
ATTACH:https://www.runningsocks.de/wordpress/terminkalender/eventsingl
 epage/?event_id=387&lang=de
LOCATION:Happurger See\, Seepromenade 1\, Happurg
END:VEVENT
END:VCALENDAR
