BEGIN:VCALENDAR
VERSION:2.0
METHOD:PUBLISH
PRODID:-//hacksw/handcal//NONSGML v1.0//EN
BEGIN:VEVENT
DTSTAMP:20260419T165736Z
DTSTART:20160710T070000Z
DTEND:20160710T170000Z
UID:20160710T070000Z-20160710T170000Z-388@www.runningsocks.de
SUMMARY:Running SUN MTB Tagesausfahrt
DESCRIPTION:Zwei Wochen vor dem MTB Wochenende im Karwendel / Zillerta
 l kann auf diesem MTB Marathon Tagesausflug noch einmal jeder seine Au
 sdauer und Kondition testen! Die Strecke ist technisch anspruchslos\, 
 fordert aber auf Grund der Streckenlänge und etlicher Höhenmetere eini
 ges an Stehvermögen und Sitzfleisch.\n\nEinen Teil der Stecke haben wi
 r letztes Jahr\, im November\, schon einmal unter die Reifen genommen\
 , heuer wollen wir versuchen\, die ganze Strecke an einem Tag zu schaf
 fen.\n\nWir starten (und enden) in Buttenheim und fahren in Uhrzeiger 
 Richtung. Da aus den diversen Dörfern und Heiligenstadt nur Busse Rich
 tung Buttenheim\, Forchheim\, Ebermannstadt fahren (kein Radtransport)
 \, müssen wir zumindest wieder Ebermannstadt erreichen\, um in den Zug
  einsteigen zu können.\n\nDetails zu  den Teilstrecken ... \n\n\n\nMeh
 r erfahren ›
X-ALT-DESC;FMTTYPE=text/html:<p>Zwei Wochen vor dem MTB Wochenende im 
 Karwendel / Zillertal kann auf diesem MTB Marathon Tagesausflug noch e
 inmal jeder seine Ausdauer und Kondition testen! Die Strecke ist techn
 isch anspruchslos\, fordert aber auf Grund der Streckenlänge und etlic
 her Höhenmetere einiges an Stehvermögen und Sitzfleisch.</p>\n<p>Einen
  Teil der Stecke haben wir letztes Jahr\, im November\, schon einmal u
 nter die Reifen genommen\, heuer wollen wir versuchen\, die ganze Stre
 cke an einem Tag zu schaffen.</p>\n<p>Wir starten (und enden) in Butte
 nheim und fahren in Uhrzeiger Richtung. Da aus den diversen Dörfern un
 d Heiligenstadt nur Busse Richtung Buttenheim\, Forchheim\, Ebermannst
 adt fahren (kein Radtransport)\, müssen wir zumindest wieder Ebermanns
 tadt erreichen\, um in den Zug einsteigen zu können.</p>\n<p><a href=h
 ttps://www.runningsocks.de/wordpress/2015/10/24/mtb-touren-rund-um-hei
 ligenstadt/>Details zu  den Teilstrecken &#8230\; </a></p>\n<p><code><
 script src=https://www.outdooractive.com/de/mountainbike/fraenkische-s
 chweiz/grosse-mtb-runde-um-heiligenstadt/105341351/tour2go type=text/j
 avascript></script></code></p>\n<p><a href=http://www.outdooractive.co
 m//de/r/105341351/ target=_blank>Mehr erfahren ›</a></p>\n
URL:https://www.runningsocks.de/wordpress/terminkalender/eventsinglepa
 ge/?event_id=388&lang=de
ATTACH:https://www.runningsocks.de/wordpress/terminkalender/eventsingl
 epage/?event_id=388&lang=de
END:VEVENT
END:VCALENDAR
