BEGIN:VCALENDAR
VERSION:2.0
METHOD:PUBLISH
PRODID:-//hacksw/handcal//NONSGML v1.0//EN
BEGIN:VEVENT
DTSTAMP:20260419T165905Z
DTSTART:20161009T083000Z
DTEND:20161009T120000Z
UID:20161009T083000Z-20161009T120000Z-389@www.runningsocks.de
SUMMARY:24. Schwabacher Citylauf\, RIBE Citylauf
DESCRIPTION:Jedes Jahr am Sonntag nach dem 3. Oktober findet die größt
 e Laufveranstaltung Schwabachs statt\, der Citylauf. Zentraler Schaupl
 atz ist für Start\, Ziel und Siegerehrung der historischer Marktplatz.
 \n\nFür Läuferinnen und Läufer von Nah und Fern ist der Citylauf eine 
 gute Gelegenheit\, seinen Leistungsstand unter Wettkampfbedingungen zu
  messen. Regelmäßig werden über 500 Teilnehmer begrüßt\, von den Bambi
 ni über die Halbmarathonläufer bis hin zu Nordic Walkern. Gerade Inter
 essierte aus der Region können dabei bis fast zur letzten Minute abwar
 ten\, was das Wetter macht\, und sich noch am Lauftag zum Start melden
 .\n\nAlle Informationen rund um den nächsten Citylauf finden sich auf 
 der Homepage des Veranstalters: Angebotene Läufe\, Laufstrecken\, Zeit
 plan\, Teilnehmerinformationen. Langfristig vor dem Start des nächsten
  Laufs wird auch die Möglichkeit freigeschaltet\, sich direkt online a
 nzumelden. Viel Spaß beim Stöbern auf den Seiten\, in den Ergebnislist
 en und Bilderserien der vergangenen Läufe\, und  herzlich willkommen b
 eim Schwabacher Citylauf!\n\nLäufe\, Startzeiten\, Startgeld:\n\n\n\n\
 nUhrzeit\nLauf\nStartgebühr\nNachmeld.\n\n\n10:15 Uhr\nStart Memmert -
  Bambiniläufe 400 m\n3 EUR\n2 EUR\n\n\n10:30 Uhr\nStart Sparkassen - H
 albmarathon 21\,1 km\n18 EUR\n2 EUR\n\n\n10:35 Uhr\nStart Niehoff - Ki
 nderläufe 1200 m\n3 EUR\n2 EUR\n\n\n11:00 Uhr\nStart Stadtwerke-Schwab
 ach - Schülerläufe 1.800 m\n3 EUR\n2 EUR\n\n\nca. 11:30 Uhr\nSiegerehr
 ung Bambiniläufe\n\n\n\n\nab 11:45 Uhr\nSiegerehrung Kinder- und Schül
 erläufe\n\n\n\n\n13:00 Uhr\nStart Bäcker Distler's - Hobbylauf 5\,3 km
 \n8 EUR\n2 EUR\n\n\n13:05 Uhr\nStart RIBE - Hauptlauf 10 km\n8 EUR\n2 
 EUR\n\n\n13:10 Uhr\nStart AOK - Nordic Walking 5\,3 km\n5 EUR\n2 EUR\n
 \n\nca. 13:15 Uhr\nSiegerehrung Halbmarathon\n\n\n\n\nab ca. 14:15 Uhr
 \nSiegerehrungen Hobbylauf\, Hauptlauf\, Nordic Walking\n\n\n\n\n\nLei
 stungen:\n\n\n\n» Markierte Laufstrecken\n» Medizinische Versorgung\n\
 n\n» Streckenabsicherung\n» Chip-Zeitnahme\n\n\n» HM: Jeder km ausgesc
 hildert\n» Obst und Getränke am Ziel\n\n\n» 3 Stationen mit Wasser und
  Isogetränk\,\n» Entmüdungsmassagen\n\n\n» Powerriegel auf der HM-Stre
 cke\n» Persönliche Urkunde\n\n\n\nsowie viele weitere Geld- und Sachpr
 eise auf alle Strecken.\n\nCitylauf Funktionsshirt:\n\nBei Bestellung 
 im Rahmen der Anmeldung bis zum 31. August bekommt man das qualitativ 
 hochwertige Shirt für nur 8\,- Euro! Streng limitiert\, nur solange de
 r Vorrat reicht!\n\nFlyer\, Ausschreibung:\n\n[wpfilebase tag=file pat
 h='lauf/schwabacher-citylauf/20161009/20161009_RIBE-Citylauf_flyer.pdf
 ' /]\n\nWeitere Info's und Online Anmeldung beim Veranstalter: TV 1848
  Schwabach e.V.
X-ALT-DESC;FMTTYPE=text/html:<p>Jedes Jahr am Sonntag nach dem 3. Okto
 ber findet die größte Laufveranstaltung Schwabachs statt\, der Citylau
 f. Zentraler Schauplatz ist für Start\, Ziel und Siegerehrung der hist
 orischer Marktplatz.</p>\n<p>Für Läuferinnen und Läufer von Nah und Fe
 rn ist der Citylauf eine gute Gelegenheit\, seinen Leistungsstand unte
 r Wettkampfbedingungen zu messen. Regelmäßig werden über 500 Teilnehme
 r begrüßt\, von den Bambini über die Halbmarathonläufer bis hin zu Nor
 dic Walkern. Gerade Interessierte aus der Region können dabei bis fast
  zur letzten Minute abwarten\, was das Wetter macht\, und sich noch am
  Lauftag zum Start melden.</p>\n<p>Alle Informationen rund um den näch
 sten Citylauf finden sich auf der Homepage des Veranstalters: Angebote
 ne Läufe\, Laufstrecken\, Zeitplan\, Teilnehmerinformationen. Langfris
 tig vor dem Start des nächsten Laufs wird auch die Möglichkeit freiges
 chaltet\, sich direkt online anzumelden. Viel Spaß beim Stöbern auf de
 n Seiten\, in den Ergebnislisten und Bilderserien der vergangenen Läuf
 e\, und  herzlich willkommen beim Schwabacher Citylauf!</p>\n<p><span 
 style=text-decoration: underline\;>Läufe\, Startzeiten\, Startgeld:<br
 >\n</span></p>\n<table class=moduletable_default border=0>\n<tbody>\n<
 tr style=height: 24px\;><td style=height: 24px\;><strong>Uhrzeit</stro
 ng></td>\n<td style=height: 24px\;><strong>Lauf</strong></td>\n<td sty
 le=text-align: center\; height: 24px\;><strong>Startgebühr</strong></t
 d>\n<td style=text-align: center\; height: 24px\;><strong>Nachmeld.</s
 trong></td></tr>\n<tr style=height: 24px\;><td style=height: 24px\;>10
 :15 Uhr</td>\n<td style=height: 24px\;>Start <a href=http://www.tv1848
 schwabach.de/citylaufprogramm/bambinilauf>Memmert &#8211\; Bambiniläuf
 e 400 m</a></td>\n<td style=text-align: center\; height: 24px\;>3 EUR<
 /td>\n<td style=text-align: center\; height: 24px\;>2 EUR</td></tr>\n<
 tr style=height: 24px\;><td style=height: 24px\;>10:30 Uhr</td>\n<td s
 tyle=height: 24px\;>Start <a href=http://www.tv1848schwabach.de/cityla
 ufprogramm/halbmarathon-21-1-km>Sparkassen &#8211\; Halbmarathon 21\,1
  km</a></td>\n<td style=text-align: center\; height: 24px\;>18 EUR</td
 >\n<td style=text-align: center\; height: 24px\;>2 EUR</td></tr>\n<tr 
 style=height: 24px\;><td style=height: 24px\;>10:35 Uhr</td>\n<td styl
 e=height: 24px\;>Start <a href=http://www.tv1848schwabach.de/citylaufp
 rogramm/kinderlauf target=_self>Niehoff &#8211\; Kinderläufe 1200 m</a
 ></td>\n<td style=text-align: center\; height: 24px\;>3 EUR</td>\n<td 
 style=text-align: center\; height: 24px\;>2 EUR</td></tr>\n<tr style=h
 eight: 24px\;><td style=height: 24px\;>11:00 Uhr</td>\n<td style=heigh
 t: 24px\;>Start <a href=http://www.tv1848schwabach.de/citylaufprogramm
 /schuelerlauf-1-800-m>Stadtwerke-Schwabach &#8211\; Schülerläufe 1.800
  m</a></td>\n<td style=text-align: center\; height: 24px\;>3 EUR</td>\
 n<td style=text-align: center\; height: 24px\;>2 EUR</td></tr>\n<tr st
 yle=height: 24px\;><td style=height: 24px\;>ca. 11:30 Uhr</td>\n<td st
 yle=height: 24px\;>Siegerehrung Bambiniläufe</td>\n<td style=text-alig
 n: center\; height: 24px\;></td>\n<td style=text-align: center\; heigh
 t: 24px\;></td></tr>\n<tr style=height: 25.25px\;><td style=height: 25
 .25px\;>ab 11:45 Uhr</td>\n<td style=height: 25.25px\;>Siegerehrung Ki
 nder- und Schülerläufe</td>\n<td style=text-align: center\; height: 25
 .25px\;></td>\n<td style=text-align: center\; height: 25.25px\;></td><
 /tr>\n<tr style=height: 24px\;><td style=height: 24px\;>13:00 Uhr</td>
 \n<td style=height: 24px\;>Start <a href=http://www.tv1848schwabach.de
 /citylaufprogramm/hobbylauf-5-3-km>Bäcker Distler&#8217\;s &#8211\; Ho
 bbylauf 5\,3 km</a></td>\n<td style=text-align: center\; height: 24px\
 ;>8 EUR</td>\n<td style=text-align: center\; height: 24px\;>2 EUR</td>
 </tr>\n<tr style=height: 24px\;><td style=height: 24px\;>13:05 Uhr</td
 >\n<td style=height: 24px\;>Start <a href=http://www.tv1848schwabach.d
 e/citylaufprogramm/hauptlauf-10-km>RIBE &#8211\; Hauptlauf 10 km</a></
 td>\n<td style=text-align: center\; height: 24px\;>8 EUR</td>\n<td sty
 le=text-align: center\; height: 24px\;>2 EUR</td></tr>\n<tr style=heig
 ht: 24px\;><td style=height: 24px\;>13:10 Uhr</td>\n<td style=height: 
 24px\;>Start <a href=http://www.tv1848schwabach.de/citylaufprogramm/no
 rdic-walking-5-3-km>AOK &#8211\; Nordic Walking 5\,3 km</a></td>\n<td 
 style=text-align: center\; height: 24px\;>5 EUR</td>\n<td style=text-a
 lign: center\; height: 24px\;>2 EUR</td></tr>\n<tr style=height: 24px\
 ;><td style=height: 24px\;>ca. 13:15 Uhr</td>\n<td style=height: 24px\
 ;>Siegerehrung Halbmarathon</td>\n<td style=text-align: center\; heigh
 t: 24px\;></td>\n<td style=text-align: center\; height: 24px\;></td></
 tr>\n<tr style=height: 48px\;><td style=height: 48px\;>ab ca. 14:15 Uh
 r</td>\n<td style=height: 48px\;>Siegerehrungen Hobbylauf\, Hauptlauf\
 , Nordic Walking</td>\n<td style=text-align: center\; height: 48px\;><
 /td>\n<td style=text-align: center\; height: 48px\;></td></tr>\n</tbod
 y>\n</table>\n<p><span style=text-decoration: underline\;>Leistungen:<
 /span></p>\n<table border=0>\n<tbody>\n<tr><td>» Markierte Laufstrecke
 n</td>\n<td>» Medizinische Versorgung</td></tr>\n<tr><td>» Streckenabs
 icherung</td>\n<td>» Chip-Zeitnahme</td></tr>\n<tr><td>» HM: Jeder km 
 ausgeschildert</td>\n<td>» Obst und Getränke am Ziel</td></tr>\n<tr><t
 d>» 3 Stationen mit Wasser und Isogetränk\,</td>\n<td>» Entmüdungsmass
 agen</td></tr>\n<tr><td>» Powerriegel auf der HM-Strecke</td>\n<td>» P
 ersönliche Urkunde</td></tr>\n</tbody>\n</table>\n<p>sowie viele weite
 re Geld- und Sachpreise auf alle Strecken.</p>\n<p><span style=text-de
 coration: underline\;>Citylauf Funktionsshirt:</span><br>\n<br>\nBei B
 estellung im Rahmen der Anmeldung <strong>bis zum 31. August </strong>
 bekommt man das <a href=http://www.tv1848schwabach.de/fotogalerie/city
 lauf/beitraege/2016-funktionsshirts-9010 target=_blank>qualitativ hoch
 wertige Shirt </a>für nur 8\,- Euro! Streng limitiert\, <strong>nur so
 lange der Vorrat reicht</strong>!</p>\n<p><span style=text-decoration:
  underline\;>Flyer\, Ausschreibung:</span><br>\n<br>\n[wpfilebase tag=
 file path=&#8217\;lauf/schwabacher-citylauf/20161009/20161009_RIBE-Cit
 ylauf_flyer.pdf&#8216\; /]</p>\n<p>Weitere Info&#8217\;s und Online An
 meldung beim Veranstalter: <a href=http://www.tv1848schwabach.de/cityl
 auf-aktuelles target=_blank>TV 1848 Schwabach e.V.</a></p>\n
URL:https://www.runningsocks.de/wordpress/terminkalender/eventsinglepa
 ge/?event_id=389&lang=de
ATTACH:https://www.runningsocks.de/wordpress/terminkalender/eventsingl
 epage/?event_id=389&lang=de
LOCATION:Marktplatz Schwabach\, Martkplatz\, Schwabach
END:VEVENT
END:VCALENDAR
