BEGIN:VCALENDAR
VERSION:2.0
METHOD:PUBLISH
PRODID:-//hacksw/handcal//NONSGML v1.0//EN
BEGIN:VEVENT
DTSTAMP:20260419T165350Z
DTSTART:20101231T120000Z
DTEND:20101231T140000Z
UID:20101231T120000Z-20101231T140000Z-39@www.runningsocks.de
SUMMARY:8. Nürnberger Silvesterlauf
DESCRIPTION:NÜRNBERG - Der Nürnberger Silvesterlauf wird von Jahr zu J
 ahr beliebter  und eilt vom Teilnehmerrekord zu Teilnehmerrekord. Im s
 iebten Jahr  seines Bestehens (2009) hatten über 1500 Läuferinnen und 
 Läufern gemeldet und  weit über 1100 machten sich auf den Weg über 5 o
 der 10 Kilometer rund um  den Wöhrder See.\n\nFür den Hauptlauf musste
  bereits Mitte  Dezember die Meldeliste geschlossen werden\, weil die 
 maximale  Starterzahl von 1111 schon erreicht war. «Die teilweise schm
 alen Wege  verkraften einfach nicht mehr Menschen»\, erläuterte Werner
  Bruns der für  die Organisation des vom Team Klinikum veranstalteten 
 Lauf  verantwortlich zeichnet. Tatsächlich geht kurz nach Start auf de
 r  Wöhrder Wiese schon richtig eng zu. Da wird gedrängelt und geschobe
 n\,  obwohl in diesem Jahr erstmals jeder Teilnehmer mit einem Chip  a
 usgestattet wurde\, der eine individuelle Zeitmessung möglich machte.\
 n\nGutmann Team Cup:\n\nMit dem diesjährigen Silvesterlauf 2010 haben 
 wir die neue Mannschaftswertung\, den „Gutmann-Team-Cup“ eingeführt. B
 eim 10-km-Hauptlauf werden alle Teams gewertet\, die mit gleichem Vere
 ins- oder Gruppennamen (bitte bei der Online-Anmeldung unbedingt auf g
 leiche Bezeichnung achten!) eingetragen sind.\n\nAktuell:\n\nSeit 13. 
 Oktober 2010 läuft die Anmeldung zum größten Laufevent in  Nordbayern 
 an Silvester. Wir erwarten wieder über 1500 TeilnehmerInnen -  die Plä
 tze sind begrenzt also bitte rechtzeitig anmelden!\n\n\n	(Anmeldestand
   24.10.10: mehr als 350 TeilnehmerInnen)\n	(Anmeldestand 26.11.10: me
 hr als 945 TeilnehmerInnen)\n	(Anmeldestand 29.11.10: mehr als 1070 Te
 ilnehmerInnen)\n\n\nAusschreibung\, Veranstalter\, Anmeldung:\n\nAussc
 hreibung\, Flyer:\n\n[filebase:file:file=45]\n\nWeitere Info und Anmel
 dung beim Veranstalter: Team Klinikum Nürnberg e. V.\n\nZur Online-Anm
 eldung: Anmeldung
X-ALT-DESC;FMTTYPE=text/html:<p>NÜRNBERG &#8211\; Der Nürnberger Silve
 sterlauf wird von Jahr zu Jahr beliebter  und eilt vom Teilnehmerrekor
 d zu Teilnehmerrekord. Im siebten Jahr  seines Bestehens (2009) hatten
  über 1500 Läuferinnen und Läufern gemeldet und  weit über 1100 machte
 n sich auf den Weg über 5 oder 10 Kilometer rund um  den Wöhrder See.<
 /p>\n<p>Für den Hauptlauf musste bereits Mitte  Dezember die Meldelist
 e geschlossen werden\, weil die maximale  Starterzahl von 1111 schon e
 rreicht war. «Die teilweise schmalen Wege  verkraften einfach nicht me
 hr Menschen»\, erläuterte Werner Bruns der für  die Organisation des v
 om Team Klinikum veranstalteten Lauf  verantwortlich zeichnet. Tatsäch
 lich geht kurz nach Start auf der  Wöhrder Wiese schon richtig eng zu.
  Da wird gedrängelt und geschoben\,  obwohl in diesem Jahr erstmals je
 der Teilnehmer mit einem Chip  ausgestattet wurde\, der eine individue
 lle Zeitmessung möglich machte.</p>\n<p><span style=text-decoration: u
 nderline\;><strong>Gutmann Team Cup:</strong></span></p>\n<p>Mit dem d
 iesjährigen Silvesterlauf 2010 haben wir die neue Mannschaftswertung\,
  den „Gutmann-Team-Cup“ eingeführt. Beim 10-km-Hauptlauf werden alle T
 eams gewertet\, die mit gleichem Vereins- oder Gruppennamen (bitte bei
  der Online-Anmeldung unbedingt auf gleiche Bezeichnung achten!) einge
 tragen sind.</p>\n<p><span style=text-decoration: underline\;><strong>
 Aktuell:</strong></span></p>\n<p>Seit 13. Oktober 2010 läuft die Anmel
 dung zum größten Laufevent in  Nordbayern an Silvester. Wir erwarten w
 ieder über 1500 TeilnehmerInnen &#8211\;  die Plätze sind begrenzt als
 o bitte rechtzeitig anmelden!</p>\n<ul>\n<li>(Anmeldestand  24.10.10: 
 mehr als 350 TeilnehmerInnen)</li>\n<li>(Anmeldestand 26.11.10: mehr a
 ls 945 TeilnehmerInnen)</li>\n<li>(Anmeldestand 29.11.10: mehr als 107
 0 TeilnehmerInnen)</li>\n</ul>\n<p><span style=text-decoration: underl
 ine\;>Ausschreibung\, Veranstalter\, Anmeldung:</span></p>\n<p>Ausschr
 eibung\, Flyer:</p>\n<p>[filebase:file:file=45]</p>\n<p>Weitere Info u
 nd Anmeldung beim Veranstalter: <a href=http://www.silvesterlauf-nuern
 berg.de/ target=_blank>Team Klinikum Nürnberg e. V.</a></p>\n<p>Zur On
 line-Anmeldung: <a href=http://www.silvesterlauf-nuernberg.de/anmeldun
 g.html target=_blank>Anmeldung</a></p>\n
URL:https://www.runningsocks.de/wordpress/terminkalender/eventsinglepa
 ge/?event_id=39&lang=de
ATTACH:https://www.runningsocks.de/wordpress/terminkalender/eventsingl
 epage/?event_id=39&lang=de
LOCATION:Wöhrder Wiese\, Wöhrder Wiese\, Nürnberg
END:VEVENT
END:VCALENDAR
