BEGIN:VCALENDAR
VERSION:2.0
METHOD:PUBLISH
PRODID:-//hacksw/handcal//NONSGML v1.0//EN
BEGIN:VEVENT
DTSTAMP:20260419T165632Z
DTSTART:20160828T080000Z
DTEND:20160828T130000Z
UID:20160828T080000Z-20160828T130000Z-390@www.runningsocks.de
SUMMARY:29. Neustädter Volkstriathlon
DESCRIPTION:Nachdem letztes Jahr die Veranstaltung wegen Bauarbeiten a
 bgesagt werden musste\, findet der der 29. Auto Maier Volkstriathlon d
 ieses jahr nun zum 29. male statt\nZeitplan Samstag:\n\n14:30 - 16:00:
  Startnummernausgabe für alle aus der näheren Umgebung\nZeitplan Sonnt
 ag:\n\n\n\n\n\n\n08:00 - 09:00\nStartnummernausgabe\n\n\n\n\n09:15\nWe
 ttkampfbesprechung (Teilnahmepflicht)\n\n\n\n\n10:00\n1. Start zu Grup
 pen von 40 Teilnehmern | 8 Starter pro Bahn. Weitere Starts im Abstand
  von je 15 Minuten\n\n\n\n\nca. 14:30\n\nSiegerehrung (Terrasse am Sch
 wimmerbecken)\n\n\n\nDistanzen:\nSchwimmen\n0\,4 Km (8 Bahnen)\n\n\n\n
 \nRadfahren\n20 Km (NEA-Neuschauerberg–NEA)\n\n\n\n\nLaufen\n5 Km  (St
 adtpark\, südlich Freibad)\n\n\n\nTeilnahme:\nStartberechtigt sind Per
 sonen ab 16 Jahre\n\n\n\n\nStartgeld:\n25\,00 € über Lastschrifteinzug
  bei online-Anmeldung sonst siehe Bankverbindung\n\n\nAnmeldung:\nhier
  geht's zum Meldeformular\n\n\nMeldeschluss:\n22.08.  um 23:55\n\n\nNa
 chmeldungen:\n30\,00 € bei Nachmeldung bzw. Zahlung nach Meldeschluss\
 n\n\nQuelle:\nAllen Infos von: http://www.dlrg-nea.de\n\n\n\n \n\n \n\
 n \n\n \n\n \n\n \n\n \n\n \n\n \n\n \n\n \n\n \n\n \n\nWeitere Info's
  und Onlineanmeldung beim Veranstalter: DLRG OV Neustadt a.d. Aisch\n\
 nAusschreibung:\n\n[wpfilebase tag=file path='triathlon/neustadt-aisch
 /20160828/20160828_Tria_NeustadtAisch_Ausschreibung.pdf' /]
X-ALT-DESC;FMTTYPE=text/html:<p style=text-align: center\;>Nachdem let
 ztes Jahr die Veranstaltung wegen Bauarbeiten abgesagt werden musste\,
  findet der der 29. Auto Maier Volkstriathlon dieses jahr nun zum 29. 
 male statt</p>\n<p style=text-align: left\;><span style=text-decoratio
 n: underline\;>Zeitplan Samstag:</span><span style=color: #000000\;><s
 trong><span style=text-decoration: underline\;><br>\n</span></strong><
 /span></p>\n<p style=text-align: left\;>14:30 &#8211\; 16:00: Startnum
 mernausgabe für alle aus der näheren Umgebung</p>\n<p style=text-align
 : left\;><span style=text-decoration: underline\;>Zeitplan Sonntag:</s
 pan><span style=color: #000000\;><strong><span style=text-decoration: 
 underline\;><br>\n</span></strong></span></p>\n<table style=width: 700
 px\; border=0 cellspacing=5 cellpadding=5 align=left>\n<tbody>\n<tr><t
 d valign=top></td>\n<td><span style=font-size: small\;>08:00 &#8211\; 
 09:00</span></td>\n<td colspan=2 valign=top><span style=font-size: sma
 ll\;>Startnummernausgabe</span></td>\n<td></td></tr>\n<tr><td valign=t
 op></td>\n<td><span style=font-size: small\;>09:15</span></td>\n<td co
 lspan=2><span style=font-size: small\;>Wettkampfbesprechung (Teilnahme
 pflicht)</span></td>\n<td></td></tr>\n<tr><td valign=top></td>\n<td va
 lign=top><span style=font-size: small\;>10:00</span></td>\n<td colspan
 =2><span style=font-size: small\;>1. Start zu Gruppen von 40 Teilnehme
 rn | 8 Starter pro Bahn. Weitere Starts im Abstand von je 15 Minuten</
 span></td>\n<td></td></tr>\n<tr><td valign=top></td>\n<td><span style=
 font-size: small\;>ca. 14:30<br>\n</span></td>\n<td colspan=2><span st
 yle=font-size: small\;>Siegerehrung (Terrasse am Schwimmerbecken)</spa
 n></td>\n<td></td></tr>\n<tr><td valign=top><span style=font-size: sma
 ll\;>Distanzen:</span></td>\n<td><span style=font-size: small\;>Schwim
 men</span></td>\n<td colspan=2><span style=font-size: small\;>0\,4 Km 
 (8 Bahnen)</span></td>\n<td></td></tr>\n<tr><td valign=top></td>\n<td>
 <span style=font-size: small\;>Radfahren</span></td>\n<td colspan=2><s
 pan style=font-size: small\;>20 Km (NEA-Neuschauerberg–NEA)</span></td
 >\n<td></td></tr>\n<tr><td valign=top></td>\n<td><span style=font-size
 : small\;>Laufen</span></td>\n<td colspan=2><span style=font-size: sma
 ll\;>5 Km  (Stadtpark\, südlich Freibad)</span></td>\n<td></td></tr>\n
 <tr><td valign=top><span style=font-size: small\;>Teilnahme:</span></t
 d>\n<td colspan=3><span style=font-size: small\;>Startberechtigt sind 
 Personen ab 16 Jahre<br>\n</span></td>\n<td></td></tr>\n<tr><td valign
 =top><span style=font-size: small\;>Startgeld:</span></td>\n<td colspa
 n=4><span style=font-size: small\;>25\,00 € über Lastschrifteinzug bei
  online-Anmeldung sonst siehe Bankverbindung</span></td></tr>\n<tr><td
  valign=top><span style=font-size: small\;>Anmeldung:</span></td>\n<td
  colspan=4><span style=font-size: small\;>hier geht&#8217\;s zum <a hr
 ef=https://neustadt-aisch.dlrg.de/triathlon/triathlon-infos.html targe
 t=_blank>Meldeformular</a></span></td></tr>\n<tr><td valign=top><span 
 style=font-size: small\;>Meldeschluss:</span></td>\n<td colspan=4><spa
 n style=font-size: small\;>22.08.  um 23:55</span></td></tr>\n<tr><td 
 valign=top><span style=font-size: small\;>Nachmeldungen:</span></td>\n
 <td colspan=4><span style=font-size: small\;>30\,00 € bei Nachmeldung 
 bzw. Zahlung nach Meldeschluss</span></td></tr>\n<tr><td valign=top><s
 pan style=font-size: small\;>Quelle:</span></td>\n<td colspan=4><span 
 style=font-size: small\;>Allen Infos von: <a href=https://neustadt-ais
 ch.dlrg.de/triathlon.html>http://www.dlrg-nea.de</a></span></td></tr>\
 n</tbody>\n</table>\n<p>&nbsp\;</p>\n<p>&nbsp\;</p>\n<p>&nbsp\;</p>\n<
 p>&nbsp\;</p>\n<p>&nbsp\;</p>\n<p>&nbsp\;</p>\n<p>&nbsp\;</p>\n<p>&nbs
 p\;</p>\n<p>&nbsp\;</p>\n<p>&nbsp\;</p>\n<p>&nbsp\;</p>\n<p>&nbsp\;</p
 >\n<p>&nbsp\;</p>\n<p>Weitere Info&#8217\;s und Onlineanmeldung beim V
 eranstalter: <a href=https://neustadt-aisch.dlrg.de/triathlon.html tar
 get=_blank>DLRG OV Neustadt a.d. Aisch</a></p>\n<p>Ausschreibung:</p>\
 n<p>[wpfilebase tag=file path=&#8217\;triathlon/neustadt-aisch/2016082
 8/20160828_Tria_NeustadtAisch_Ausschreibung.pdf&#8216\; /]</p>\n
URL:https://www.runningsocks.de/wordpress/terminkalender/eventsinglepa
 ge/?event_id=390&lang=de
ATTACH:https://www.runningsocks.de/wordpress/terminkalender/eventsingl
 epage/?event_id=390&lang=de
LOCATION:Neustädter Waldbad\, Eilersweg 5\, Neustadt a. d. Aisch
END:VEVENT
END:VCALENDAR
