BEGIN:VCALENDAR
VERSION:2.0
METHOD:PUBLISH
PRODID:-//hacksw/handcal//NONSGML v1.0//EN
BEGIN:VEVENT
DTSTAMP:20260419T165114Z
DTSTART:20170618T050000Z
DTEND:20170618T130000Z
UID:20170618T050000Z-20170618T130000Z-391@www.runningsocks.de
SUMMARY:6. Stadttriathlon Forchheim
DESCRIPTION:Im Jahr 2010 ging mit dem 18. Altstadtfest-Triathlon des V
 FB in Forchheim eine Ära zu Ende. Die Weiterführung des beliebten Tria
 thlon stand auf der Kippe. Jedoch führte der SSV Forchheim ab 2012 die
  Tradition des Forchheimer Stadt-Triathlon fort. Und somit findet dies
 es Jahr der nun 6. Stadttriathlon in Forchheim statt. Die Strecken sin
 d für Schüler und Jedermänner ausgerichtet\, und bieten somit für Anfä
 nger\, Fortgeschrittene oder auch Profis einen Anreiz.\nStrecken:\n\n\
 n\n\nSchwimmen\nRadfahren\nLaufen\n\n\nLandesliga Nord\n0\,75 Km\n20 K
 m\n5 Km\n\n\nJedermann\n0\,5 Km\n20 Km\n5 Km\n\n\nFitnessdistanz\n0\,3
  Km\n10 Km\n2\,5 Km\n\n\nSchülerdistanz\n0\,3 Km\n10 Km\n2\,5 Km\n\n\n
 \nZeitplan:\n\n\n\nSamstag\, 17. Juni \n\n\n16:00 - 18:00\nRegistrieru
 ng und Ausgabe der Startnummern im Königsbad\n\n\nSonntag\, 18. Juni \
 n\n\n7:00 - 8:30\nRegistrierung und Ausgabe der Startnummern im Königs
 bad für alle Starter\n\n\n7:00 - 8:30\nCheck-In in die Wechselzone am 
 Königsbad\nZum Check in sind mitzubringen Fahrrad und Radhelm mit jewe
 ils angebrachter Klebenummer\, Check in mit aufgesetztem und geschloss
 enem Helm sowie alle Laufsachen.\n\n\n8:40\nWettkampfbesprechung für a
 lle Teilnehmer am Außenbecken\, Freibad Käsröthe\nTeilnahme an der Wet
 tkampfbesprechung ist Pflicht!\n\n\nStart ab 9:00\n\n \n\n \n\n \n\n \
 n\n \nDer Start erfolgt in Wellen mit ca. 8 Personen pro 50 m-Schwimmb
 ahn\, danach Schwimmstart in Abständen von ca. 15 min. Die Startnummer
  und Start-Uhrzeit des jeweiligen Athleten wird auf der Homepage im Vo
 rfeld sowie im Freibad auf der Infotafel angegeben. Die Teilnehmer sin
 d selbst dafür verantwortlich\, rechtzeitig im Vorstartbereich einzutr
 effen.\n\nab ca.  9:00 Schüler (300 m) Gruppe 1\n\nab ca. 9:15 Fitness
  (300m) Gruppe 2\n\nab ca. 9:35 Jedermann (500m) Gruppe 3\n\n.....\nbi
 s ca. 11:00 Jedermann (500 m) Gruppe 8\n\nca. 11:45 Landesliga (750m) 
 Gruppe 9\n\n\n10:00 - 15:00\nTriathlon Messe\n\n\n14:00 - 16:00\nCheck
 -Out\, Fahrradaushändigung inkl. Wechselbeutel nur an die Teilnehmer g
 egen Vorlage der Startnummer und Rückgabe des Transponders.\n\n\nca. 1
 3:30\nSiegerehrung (alle Distanzen u. Wertungen) im Zielbereich\ndavor
  Tombola (Verlosung vieler schöner Sachpreise)\n\n\n\nStartgelder:\n\n
 \n\nStartgeld\nSchüler         \nFitness \nJedermann   \nStaffel Jeder
 mann   \nLandesliga\n\n\nMeldung bis 30. April\n19 €\n24 €\n35 €\n65 €
 \n35 €\n\n\nMeldung ab 1. Mai\n24 €\n29 €\n39 €\n74 €\n39 €\n\n\n\nOnl
 ine Anmeldung bis: 09.06.\n\nNachmeldung: 17.06.\, 16:00 bis 18:00\, s
 ofern noch Startplätze zur VErfügung stehen\n\nNachmeldegebühr: 5 €\n\
 nAlle weiteren\, aktuellen Infos\, sowie Online Anmeldung direkt beim 
 Veranstalter: SSV Forchheim\n\nAusschreibung:\n\n[wpfilebase tag=file 
 path='triathlon/stadttriathlon-forchheim/20170618/20170619_Stadttriath
 lon-Forchheim_Ausschreibung.pdf' /]
X-ALT-DESC;FMTTYPE=text/html:<p style=text-align: center\;>Im Jahr 201
 0 ging mit dem 18. Altstadtfest-Triathlon des VFB in Forchheim eine Är
 a zu Ende. Die Weiterführung des beliebten Triathlon stand auf der Kip
 pe. Jedoch führte der SSV Forchheim ab 2012 die Tradition des Forchhei
 mer Stadt-Triathlon fort. Und somit findet dieses Jahr der nun 6. Stad
 ttriathlon in Forchheim statt. Die Strecken sind für Schüler und Jeder
 männer ausgerichtet\, und bieten somit für Anfänger\, Fortgeschrittene
  oder auch Profis einen Anreiz.</p>\n<p>Strecken:</p>\n<table class= a
 ligncenter>\n<tbody>\n<tr><td></td>\n<td style=text-align: center\;><s
 trong>Schwimmen</strong></td>\n<td style=text-align: center\;><strong>
 Radfahren</strong></td>\n<td style=text-align: center\;><strong>Laufen
 </strong></td></tr>\n<tr><td>Landesliga Nord</td>\n<td style=text-alig
 n: center\;>0\,75 Km</td>\n<td style=text-align: center\;>20 Km</td>\n
 <td style=text-align: center\;>5 Km</td></tr>\n<tr><td>Jedermann</td>\
 n<td style=text-align: center\;>0\,5 Km</td>\n<td style=text-align: ce
 nter\;>20 Km</td>\n<td style=text-align: center\;>5 Km</td></tr>\n<tr>
 <td>Fitnessdistanz</td>\n<td style=text-align: center\;>0\,3 Km</td>\n
 <td style=text-align: center\;>10 Km</td>\n<td style=text-align: cente
 r\;>2\,5 Km</td></tr>\n<tr><td>Schülerdistanz</td>\n<td style=text-ali
 gn: center\;>0\,3 Km</td>\n<td style=text-align: center\;>10 Km</td>\n
 <td style=text-align: center\;>2\,5 Km</td></tr>\n</tbody>\n</table>\n
 <p>Zeitplan:</p>\n<table border=0>\n<tbody>\n<tr><td colspan=2><strong
 >Samstag\, 17. Juni </strong></td></tr>\n<tr><td>16:00 &#8211\; 18:00<
 /td>\n<td>Registrierung und Ausgabe der Startnummern im Königsbad</td>
 </tr>\n<tr><td colspan=2><strong>Sonntag\, 18. Juni </strong></td></tr
 >\n<tr><td>7:00 &#8211\; 8:30</td>\n<td>Registrierung und Ausgabe der 
 Startnummern im Königsbad für alle Starter</td></tr>\n<tr><td align=le
 ft valign=top>7:00 &#8211\; 8:30</td>\n<td><strong>Check-In in die Wec
 hselzone</strong> am Königsbad<br>\nZum Check in sind mitzubringen Fah
 rrad und Radhelm mit jeweils angebrachter Klebenummer\, Check in mit a
 ufgesetztem und geschlossenem Helm sowie alle Laufsachen.</td></tr>\n<
 tr><td>8:40</td>\n<td><strong>Wettkampfbesprechung für alle Teilnehmer
 </strong> am Außenbecken\, Freibad Käsröthe<br>\nTeilnahme an der Wett
 kampfbesprechung ist Pflicht!</td></tr>\n<tr><td valign=top>Start ab 9
 :00</p>\n<p>&nbsp\;</p>\n<p>&nbsp\;</p>\n<p>&nbsp\;</p>\n<p>&nbsp\;</p
 >\n<p>&nbsp\;</td>\n<td>Der Start erfolgt in Wellen mit ca. 8 Personen
  pro 50 m-Schwimmbahn\, danach Schwimmstart in Abständen von ca. 15 mi
 n. Die Startnummer und Start-Uhrzeit des jeweiligen Athleten wird auf 
 der Homepage im Vorfeld sowie im Freibad auf der Infotafel angegeben. 
 Die Teilnehmer sind selbst dafür verantwortlich\, rechtzeitig im Vorst
 artbereich einzutreffen.</p>\n<p>ab ca.  9:00 Schüler (300 m) Gruppe 1
 </p>\n<p>ab ca. 9:15 Fitness (300m) Gruppe 2</p>\n<p>ab ca. 9:35 Jeder
 mann (500m) Gruppe 3</p>\n<p>&#8230\;..<br>\nbis ca. 11:00 Jedermann (
 500 m) Gruppe 8</p>\n<p>ca. 11:45 Landesliga (750m) Gruppe 9</td></tr>
 \n<tr><td align=left valign=top>10:00 &#8211\; 15:00</td>\n<td><strong
 >Triathlon Messe</strong></td></tr>\n<tr><td>14:00 &#8211\; 16:00</td>
 \n<td><strong>Check-Ou</strong>t\, Fahrradaushändigung inkl. Wechselbe
 utel nur an die Teilnehmer gegen Vorlage der Startnummer und Rückgabe 
 des Transponders.</td></tr>\n<tr><td>ca. 13:30</td>\n<td><strong>Siege
 rehrung</strong> (alle Distanzen u. Wertungen) im Zielbereich<br>\ndav
 or Tombola (Verlosung vieler schöner Sachpreise)</td></tr>\n</tbody>\n
 </table>\n<p>Startgelder:</p>\n<table border=0>\n<tbody>\n<tr><td>Star
 tgeld</td>\n<td style=text-align: center\;><strong>Schüler         </s
 trong></td>\n<td style=text-align: center\;><strong>Fitness </strong><
 /td>\n<td style=text-align: center\;><strong>Jedermann   </strong></td
 >\n<td style=text-align: center\;><strong>Staffel Jedermann   </strong
 ></td>\n<td style=text-align: center\;><strong>Landesliga</strong></td
 ></tr>\n<tr><td>Meldung bis 30. April</td>\n<td style=text-align: cent
 er\;>19 €</td>\n<td style=text-align: center\;>24 €</td>\n<td style=te
 xt-align: center\;>35 €</td>\n<td style=text-align: center\;>65 €</td>
 \n<td style=text-align: center\;>35 €</td></tr>\n<tr><td>Meldung ab 1.
  Mai</td>\n<td style=text-align: center\;>24 €</td>\n<td style=text-al
 ign: center\;>29 €</td>\n<td style=text-align: center\;>39 €</td>\n<td
  style=text-align: center\;>74 €</td>\n<td style=text-align: center\;>
 39 €</td></tr>\n</tbody>\n</table>\n<p>Online Anmeldung bis: 09.06.</p
 >\n<p>Nachmeldung: 17.06.\, 16:00 bis 18:00\, sofern noch Startplätze 
 zur VErfügung stehen</p>\n<p>Nachmeldegebühr: 5 €</p>\n<p>Alle weitere
 n\, aktuellen Infos\, sowie<a href=http://www.stadttriathlon-forchheim
 .de/index.php/anmeldung/anmeldung-einzel target=_blank> Online Anmeldu
 ng</a> direkt beim Veranstalter: <a href=http://www.stadttriathlon-for
 chheim.de/ target=_blank>SSV Forchheim</a></p>\n<p>Ausschreibung:</p>\
 n<p>[wpfilebase tag=file path=&#8217\;triathlon/stadttriathlon-forchhe
 im/20170618/20170619_Stadttriathlon-Forchheim_Ausschreibung.pdf&#8216\
 ; /]</p>\n
URL:https://www.runningsocks.de/wordpress/terminkalender/eventsinglepa
 ge/?event_id=391&lang=de
ATTACH:https://www.runningsocks.de/wordpress/terminkalender/eventsingl
 epage/?event_id=391&lang=de
LOCATION:Königsbad Forchheim\, Käsröthe 4\, Forchheim
END:VEVENT
END:VCALENDAR
