BEGIN:VCALENDAR
VERSION:2.0
METHOD:PUBLISH
PRODID:-//hacksw/handcal//NONSGML v1.0//EN
BEGIN:VEVENT
DTSTAMP:20260419T165529Z
DTSTART:20161120T090000Z
DTEND:20161120T160000Z
UID:20161120T090000Z-20161120T160000Z-392@www.runningsocks.de
SUMMARY:2. Kulmbacher Crosstriathlon
DESCRIPTION:Nach der erfolgreichen Auftaktveranstalung 2015 trägt der 
 ASV Kulmbach auch 2016 wieder einen Cross Triathlon aus.\nGeschwommen 
 wird im Hallenbad Kulmbach. Der Start erfolgt in Wellen ab 10:00. Dana
 ch haben die Athleten Zeit\, sich auf das Radfahren (MTB) und Laufen v
 orzubereiten. Das Radfahren und Laufen findet in / und um das Stadion 
 Sportzentrum Weiher statt.\n\nAb 14:00 startet das MTB fahren. Hier si
 nd 4 Runden zu je 4Km zu bewältigen. Die Strecke führt über Asphalt\, 
 Forstwegen und Single-Trails. Man darf gespannt sein\, welche Strecken
 fühung der Veranstalter dieser Jahr ausgeheckt hat. Direkt im Anschluß
  wird auf die Laufstrecke gewechselt\, hier sind 4 Runde zu je 1\,25Km
  zu Laufen. Bei jeder Runde\, Radfahren oder Laufen\, kommt man durch 
 das Stadion\, was vor allem die Zuschauer erfreuen wird.\n\nAuf Grund 
 des frühwinterlichen Termins ist bei dieser Veranstaltung die aktuelle
  Wetterlage sicher ausschlaggebend\, für den Zieleinlauf. Bei einer Sc
 hneelage tun sich selbst hartgesottene mit dem MTB auf Singletrails sc
 hwer.\n\nDistanzen:\n\n\n\nArt\nDistanz\nBemerkung\n\n\nSchwimmen\n0\,
 5Km\nHallenbad\n\n\nRadfahren\n16Km\n4x 4Km MTB\, bei jeder Runde durc
 hs Stadion\n\n\nLaufen\n5Km\n4x 1\,25Km\, bei jeder Runde durchs Stadi
 on\n\n\n\nZeitplan:\n\n\n\n8.00 Uhr bis 9.30 Uhr\nAbholung der Startun
 terlagen und Nachmeldungen im Hallenbad.\n\n\n10.00 Uhr bis 12.00 Uhr\
 nSchwimmstarts in Wellen\, alle 15 Minuten ein Start\, im Hallenbad.\n
 \n\n13.15 Uhr\nWettkampfbesprechung in der Wechselzone.\n\n\nAb 13.30 
 Uhr\nStartaufstellung zum MTB Start im Stadion Sportzentrum Weiher\n\n
 \n13.45 Uhr\nKontrolle der Ablauflängen in der Startaufstellung bei Te
 ilnehmern unter 18 Jahren.\n\n\nUm 14.00 Uhr\nMTB-Start im Stadion Spo
 rtzentrum Weiher.\n\n\nCa. 17.00 Uhr\nSiegerehrung mit Tombola im Spor
 tzentrum Weiher.\n\n\n\nStartgebühr:\n\n\n\nCross-Triathlon Einzel (50
 0m – 16km – 5km):\n19\,00 Euro\n\n\nCross-Triathlon Staffel (500m – 16
 km – 5km):\n24\,00 Euro\n\n\n\nAnmeldung:\n\nOnline bis 19.11.\n\nNach
 meldung:\n\nAm 20.11. von 08:30 - 09:30 vor Ort. Nachmeldegebühr: 5 EU
 R\n\nTeilnehmerlimit:\n\n200 Starter\n\nAlle Daten und Informationen o
 hne Gewähr. Aktuelle Informationen und Onlineanmeldung deriekt beim Ve
 ranstalter: ASV Kulmbach\n\nAusschreibung:\n\n[wpfilebase tag=file pat
 h='triathlon/kulmbacher-crosstriathlon/20161120/20161120_Ausschreibung
 _Kulmbach-CrossTriathlon.pdf' /]
X-ALT-DESC;FMTTYPE=text/html:<p style=text-align: center\;>Nach der er
 folgreichen Auftaktveranstalung 2015 trägt der ASV Kulmbach auch 2016 
 wieder einen Cross Triathlon aus.</p>\n<p>Geschwommen wird im Hallenba
 d Kulmbach. Der Start erfolgt in Wellen ab 10:00. Danach haben die Ath
 leten Zeit\, sich auf das Radfahren (MTB) und Laufen vorzubereiten. Da
 s Radfahren und Laufen findet in / und um das Stadion Sportzentrum Wei
 her statt.</p>\n<p>Ab 14:00 startet das MTB fahren. Hier sind 4 Runden
  zu je 4Km zu bewältigen. Die Strecke führt über Asphalt\, Forstwegen 
 und Single-Trails. Man darf gespannt sein\, welche Streckenfühung der 
 Veranstalter dieser Jahr ausgeheckt hat. Direkt im Anschluß wird auf d
 ie Laufstrecke gewechselt\, hier sind 4 Runde zu je 1\,25Km zu Laufen.
  Bei jeder Runde\, Radfahren oder Laufen\, kommt man durch das Stadion
 \, was vor allem die Zuschauer erfreuen wird.</p>\n<p>Auf Grund des &#
 8222\;frühwinterlichen&#8220\; Termins ist bei dieser Veranstaltung di
 e aktuelle Wetterlage sicher ausschlaggebend\, für den Zieleinlauf. Be
 i einer Schneelage tun sich selbst hartgesottene mit dem MTB auf Singl
 etrails schwer.</p>\n<p><strong>Distanzen</strong>:</p>\n<table class=
  aligncenter>\n<tbody>\n<tr><td style=text-align: center\;>Art</td>\n<
 td style=text-align: center\;>Distanz</td>\n<td style=text-align: cent
 er\;>Bemerkung</td></tr>\n<tr><td style=text-align: center\;>Schwimmen
 </td>\n<td style=text-align: center\;>0\,5Km</td>\n<td>Hallenbad</td><
 /tr>\n<tr><td style=text-align: center\;>Radfahren</td>\n<td style=tex
 t-align: center\;>16Km</td>\n<td>4x 4Km MTB\, bei jeder Runde durchs S
 tadion</td></tr>\n<tr><td style=text-align: center\;>Laufen</td>\n<td 
 style=text-align: center\;>5Km</td>\n<td>4x 1\,25Km\, bei jeder Runde 
 durchs Stadion</td></tr>\n</tbody>\n</table>\n<p><strong>Zeitplan</str
 ong>:</p>\n<table border=0 width=700 cellspacing=2 cellpadding=0>\n<tb
 ody>\n<tr><td valign=top width=300>8.00 Uhr bis 9.30 Uhr</td>\n<td>Abh
 olung der Startunterlagen und Nachmeldungen im Hallenbad.</td></tr>\n<
 tr><td valign=top>10.00 Uhr bis 12.00 Uhr</td>\n<td>Schwimmstarts in W
 ellen\, alle 15 Minuten ein Start\, im Hallenbad.</td></tr>\n<tr><td v
 align=top>13.15 Uhr</td>\n<td>Wettkampfbesprechung in der Wechselzone.
 </td></tr>\n<tr><td valign=top>Ab 13.30 Uhr</td>\n<td>Startaufstellung
  zum MTB Start im Stadion Sportzentrum Weiher</td></tr>\n<tr><td valig
 n=top>13.45 Uhr</td>\n<td>Kontrolle der Ablauflängen in der Startaufst
 ellung bei Teilnehmern unter 18 Jahren.</td></tr>\n<tr><td valign=top>
 Um 14.00 Uhr</td>\n<td>MTB-Start im Stadion Sportzentrum Weiher.</td><
 /tr>\n<tr><td valign=top>Ca. 17.00 Uhr</td>\n<td>Siegerehrung mit Tomb
 ola im Sportzentrum Weiher.</td></tr>\n</tbody>\n</table>\n<p><strong>
 Startgebühr</strong>:</p>\n<table border=0 width=700 cellspacing=2 cel
 lpadding=0>\n<tbody>\n<tr><td valign=top width=450>Cross-Triathlon Ein
 zel (500m – 16km – 5km):</td>\n<td>19\,00 Euro</td></tr>\n<tr><td vali
 gn=top>Cross-Triathlon Staffel (500m – 16km – 5km):</td>\n<td>24\,00 E
 uro</td></tr>\n</tbody>\n</table>\n<p><strong>Anmeldung</strong>:</p>\
 n<p>Online bis 19.11.</p>\n<p><strong>Nachmeldung:</strong><br>\n<br>\
 nAm 20.11. von 08:30 &#8211\; 09:30 vor Ort. Nachmeldegebühr: 5 EUR</p
 >\n<p><strong>Teilnehmerlimit</strong>:</p>\n<p>200 Starter</p>\n<p>Al
 le Daten und Informationen ohne Gewähr. Aktuelle Informationen und Onl
 ineanmeldung deriekt beim Veranstalter: <a href=http://ausdauersport-k
 ulmbach.de/ target=_blank>ASV Kulmbach</a></p>\n<p>Ausschreibung:</p>\
 n<p>[wpfilebase tag=file path=&#8217\;triathlon/kulmbacher-crosstriath
 lon/20161120/20161120_Ausschreibung_Kulmbach-CrossTriathlon.pdf&#8216\
 ; /]</p>\n
URL:https://www.runningsocks.de/wordpress/terminkalender/eventsinglepa
 ge/?event_id=392&lang=de
ATTACH:https://www.runningsocks.de/wordpress/terminkalender/eventsingl
 epage/?event_id=392&lang=de
LOCATION:Hallenbad Kulmbach\, Hardenbergstraße 41\, Kulmbach
END:VEVENT
END:VCALENDAR
