BEGIN:VCALENDAR
VERSION:2.0
METHOD:PUBLISH
PRODID:-//hacksw/handcal//NONSGML v1.0//EN
BEGIN:VEVENT
DTSTAMP:20260419T165718Z
DTSTART;VALUE=DATE:20170611
DTEND;VALUE=DATE:20170612
UID:20170610T220000Z-20170611T215959Z-394@www.runningsocks.de
SUMMARY:19. Jura Radmarathon\, Lupburg
DESCRIPTION:Jura-Radmarathon - Die etwas andere Veranstaltung in famil
 iärer Atmosphäre\nAktueller Flyer und Streckenpläne zum 19. Jura Radma
 rathon rund um Lupburg:\n\nOnline\, sobald verfügbar .....\n\nOnlinean
 meldung: ab 01.03.\nWeitere Info's und Onlineanmeldung beim Veranstalt
 er: Sportverein 1959 Lupburg e.V
X-ALT-DESC;FMTTYPE=text/html:<p style=text-align: center\;><span style
 =font-size: 18px\;><em>&#8222\;Jura-Radmarathon &#8211\; Die etwas and
 ere Veranstaltung in familiärer Atmosphäre&#8220\;</em></span></p>\n<p
 >Aktueller Flyer und Streckenpläne zum 19. Jura Radmarathon rund um Lu
 pburg:</p>\n<p>Online\, sobald verfügbar &#8230\;..</p>\n<p>Onlineanme
 ldung: ab 01.03.</p>\n<p style=text-align: justify\;>Weitere Info&#821
 7\;s und Onlineanmeldung beim Veranstalter: <a href=http://www.jura-ra
 dmarathon.de target=_blank>Sportverein 1959 Lupburg e.V</a></p>\n
URL:https://www.runningsocks.de/wordpress/terminkalender/eventsinglepa
 ge/?event_id=394&lang=de
ATTACH:https://www.runningsocks.de/wordpress/terminkalender/eventsingl
 epage/?event_id=394&lang=de
LOCATION:Schul- und Sportgelände\, Reiselbergweg 3\, Lupburg
END:VEVENT
END:VCALENDAR
