BEGIN:VCALENDAR
VERSION:2.0
METHOD:PUBLISH
PRODID:-//hacksw/handcal//NONSGML v1.0//EN
BEGIN:VEVENT
DTSTAMP:20260419T165615Z
DTSTART:20170430T080000Z
DTEND:20170430T150000Z
UID:20170430T080000Z-20170430T150000Z-395@www.runningsocks.de
SUMMARY:8. Weltkulturerbelauf Bamberg
DESCRIPTION:Die Spannung steigt\, der Ruhepuls auch\, freudige Erwartu
 ng macht sich breit. Lange\, bevor die Teilnehmerinnen und Teilnehmer 
 des Weltkulturerbelaufs 2017 an den Start gehen\, breitet sich in Bamb
 erg wieder das Lauffieber aus. Wer sich von diesem sympathischen und g
 esundheitlich unbedenklichen Zustand anstecken lassen möchte\, sollte 
 ich den 30.04.2017 dick im Kalender anstreichen. Zum 8. Mal veranstalt
 et der gemeinnützige Weltkulturerbelauf Bamberg e.V. mit Unterstützung
  von rund 1300 Helfern dieses sportliche und gesellschaftliche Großere
 ignis.\nWettbewerbe\n\n\n\nBöhnlein-Bambinilauf  Kindergartenkinder zw
 ischen vier und sechs Jahren)\n800 m\n\n\n\nFuchs-Schülerlauf Grundsch
 üler der 1. und 2. Klasse\n1\,6 km\n\n\n\nFuchs-Schülerlauf Grundschül
 er der 3. und 4. Klasse\n1\,6 km\n\n\n\nBambados-LaufSchüler der 5. mi
 t 13. Klasse\n4\,1 km\n\n\n\nwieland-Lauf2004 und älter\n4\,4 km\n\n\n
 \nBrose-Lauf1997 und älter\n10\,9 km\n\n\n\nSparkassen-Lauf1995 und äl
 ter\n21\,1 km\n\n\n\nStreckenbeschaffenheit\nDie Laufstrecken führen t
 eilweise über Asphalt-\, Pflaster-\, Schotter-\, Sand- und Waldwege. B
 edingt durch die engen Gassen der Altstadt müssen einige rechtwinklige
  Abbiegungen gelaufen werden. Besonders beim Sparkassen-Lauf sind ansp
 ruchsvolle Steigungen und Gefälle zu bewältigen.\nHöhenmeter\n\n\n\nBö
 hnlein-Bambinilauf\nflach\n\n\nFuchs-Schülerläufe\nflach\n\n\nBambados
 -Lauf \nca. 30 Höhenmeter\n\n\nwieland-Lauf \nca. 35 Höhenmeter\n\n\nB
 rose-Lauf \nca. 75 Höhenmeter\n\n\nSparkassen-Lauf \nca. 280 Höhenmete
 r\n\n\n\nStart/Ziel\nDer Start erfolgt am Markusplatz\, Ziel ist der M
 aximiliansplatz\n\nAusnahme: Böhnlein-Bambinilauf. Hier ist der Start 
 an der Ecke Franz-Ludwig-Straße/Grüner Markt\, das Ziel ist der Maximi
 liansplatz.\nStartzeiten 30.04.2017\n\n\n\nBöhnlein-Bambinilauf \n11:3
 0 Uhr\n\n\nFuchs-Schülerlauf (1. und 2. Klasse) \n12:00 Uhr\n\n\nFuchs
 -Schülerlauf (3. und 4. Klasse) \n12:30 Uhr\n\n\nStadtwerke Schülerlau
 f\n13:00 Uhr\n\n\nwieland-Lauf \n14:00 Uhr\n\n\nBrose-Lauf \n14:30 Uhr
 \n\n\nSparkassen-Lauf \n15:30 Uhr\n\n\n\nStartgeld und Anmeldefristen\
 n\n\n\nBöhnlein-Bambinilauf\nAnmeldung zwischen 07.11.2016 - 24.02.201
 7\n5\,- €\n\n\nFuchs-Schülerlauf:  1. und 2. KlassenFuchs-Schülerlauf:
   3. und 4. KlassenBambados-Lauf:      5. Klassen und höher\nAnmeldung
  zwischen 07.11.2016 - 24.02.2017\n8\,- €\n\n\nwieland-Lauf \n05.10.20
 16 - 17.03.2017\n18\,- €\n\n\nBrose-Lauf \n05.10.2016 - 17.03.2017\n28
 \,- €\n\n\nSparkassen-Lauf\n05.10.2016 - 17.03.2017\n38\,- €\n\n\n\nDi
 e Online Anmeldung startet am 05.10.2016 um 06:00 ! Meldeschluß ist de
 r 17.03.2017. Im Preis ist einT-Shirt inklusive.\n\nWeitere Info's und
  Onlineanmeldung auf der Seite des Veranstalters: Bamberger Weltkultur
 erbe Lauf
X-ALT-DESC;FMTTYPE=text/html:<p>Die Spannung steigt\, der Ruhepuls auc
 h\, freudige Erwartung macht sich breit. Lange\, bevor die Teilnehmeri
 nnen und Teilnehmer des Weltkulturerbelaufs 2017 an den Start gehen\, 
 breitet sich in Bamberg wieder das Lauffieber aus. Wer sich von diesem
  sympathischen und gesundheitlich unbedenklichen Zustand anstecken las
 sen möchte\, sollte ich den 30.04.2017 dick im Kalender anstreichen. Z
 um 8. Mal veranstaltet der gemeinnützige &#8222\;Weltkulturerbelauf Ba
 mberg e.V.&#8220\; mit Unterstützung von rund 1300 Helfern dieses spor
 tliche und gesellschaftliche Großereignis.</p>\n<h3><strong>Wettbewerb
 e</strong></h3>\n<table style=width: 679px\; border=0 cellspacing=1 ce
 llpadding=1>\n<tbody>\n<tr><td><strong><a href=http://www.weltkulturer
 belauf.de/article.php?id=132>Böhnlein-Bambinilauf</a> </strong> Kinder
 gartenkinder zwischen vier und sechs Jahren)</td>\n<td>800 m</td>\n<td
 ></td></tr>\n<tr><td><strong><a href=http://www.weltkulturerbelauf.de/
 article.php?id=203>Fuchs-Schülerlauf </a></strong>Grundschüler der 1. 
 und 2. Klasse</td>\n<td>1\,6 km</td>\n<td></td></tr>\n<tr><td><strong>
 <a href=http://www.weltkulturerbelauf.de/article.php?id=195>Fuchs-Schü
 lerlauf </a></strong>Grundschüler der 3. und 4. Klasse</td>\n<td>1\,6 
 km</td>\n<td></td></tr>\n<tr><td><strong><a href=http://www.weltkultur
 erbelauf.de/article.php?id=192>Bambados-Lauf</a></strong>Schüler der 5
 . mit 13. Klasse</td>\n<td>4\,1 km</td>\n<td></td></tr>\n<tr><td><stro
 ng><a href=http://www.weltkulturerbelauf.de/article.php?id=190>wieland
 -Lauf</a></strong>2004 und älter</td>\n<td>4\,4 km</td>\n<td></td></tr
 >\n<tr><td><strong><a href=http://www.weltkulturerbelauf.de/article.ph
 p?id=175>Brose-Lauf</a></strong>1997 und älter</td>\n<td>10\,9 km</td>
 \n<td></td></tr>\n<tr><td><strong><a href=http://www.weltkulturerbelau
 f.de/article.php?id=181>Sparkassen-Lauf</a></strong>1995 und älter</td
 >\n<td>21\,1 km</td></tr>\n</tbody>\n</table>\n<h3>Streckenbeschaffenh
 eit</h3>\n<p>Die Laufstrecken führen teilweise über Asphalt-\, Pflaste
 r-\, Schotter-\, Sand- und Waldwege. Bedingt durch die engen Gassen de
 r Altstadt müssen einige rechtwinklige Abbiegungen gelaufen werden. Be
 sonders beim <a href=http://www.weltkulturerbelauf.de/article.php?id=1
 81>Sparkassen-Lauf </a>sind anspruchsvolle Steigungen und Gefälle zu b
 ewältigen.</p>\n<h3>Höhenmeter</h3>\n<table style=width: 100%\; border
 =0 cellspacing=1 cellpadding=1>\n<tbody>\n<tr><td><a href=http://www.w
 eltkulturerbelauf.de/article.php?id=132>Böhnlein-Bambinilauf</a></td>\
 n<td>flach</td></tr>\n<tr><td><a href=http://www.weltkulturerbelauf.de
 /article.php?id=195>Fuchs-Schülerläufe</a></td>\n<td>flach</td></tr>\n
 <tr><td><a href=http://www.weltkulturerbelauf.de/article.php?id=192>Ba
 mbados-Lauf </a></td>\n<td>ca. 30 Höhenmeter</td></tr>\n<tr><td><a hre
 f=http://www.weltkulturerbelauf.de/article.php?id=190>wieland-Lauf </a
 ></td>\n<td>ca. 35 Höhenmeter</td></tr>\n<tr><td><a href=http://www.we
 ltkulturerbelauf.de/article.php?id=175>Brose-Lauf </a></td>\n<td>ca. 7
 5 Höhenmeter</td></tr>\n<tr><td><a href=http://www.weltkulturerbelauf.
 de/article.php?id=181>Sparkassen-Lauf </a></td>\n<td>ca. 280 Höhenmete
 r</td></tr>\n</tbody>\n</table>\n<h3>Start/Ziel</h3>\n<p>Der Start erf
 olgt am Markusplatz\, Ziel ist der Maximiliansplatz</p>\n<p>Ausnahme: 
 <a href=http://www.weltkulturerbelauf.de/article.php?id=132>Böhnlein-B
 ambinilauf</a>. Hier ist der Start an der Ecke Franz-Ludwig-Straße/Grü
 ner Markt\, das Ziel ist der Maximiliansplatz.</p>\n<h3>Startzeiten 30
 .04.2017</h3>\n<table border=0 cellspacing=1 cellpadding=1>\n<tbody>\n
 <tr><td><a href=http://www.weltkulturerbelauf.de/article.php?id=132>Bö
 hnlein-Bambinilauf </a></td>\n<td>11:30 Uhr</td></tr>\n<tr><td><a href
 =http://www.weltkulturerbelauf.de/article.php?id=203>Fuchs-Schülerlauf
  (1. und 2. Klasse) </a></td>\n<td>12:00 Uhr</td></tr>\n<tr><td><a hre
 f=http://www.weltkulturerbelauf.de/article.php?id=195>Fuchs-Schülerlau
 f (3. und 4. Klasse) </a></td>\n<td>12:30 Uhr</td></tr>\n<tr><td><a hr
 ef=http://www.weltkulturerbelauf.de/article.php?id=192>Stadtwerke Schü
 lerlauf</a></td>\n<td>13:00 Uhr</td></tr>\n<tr><td><a href=http://www.
 weltkulturerbelauf.de/article.php?id=190>wieland-Lauf </a></td>\n<td>1
 4:00 Uhr</td></tr>\n<tr><td><a href=http://www.weltkulturerbelauf.de/a
 rticle.php?id=175>Brose-Lauf </a></td>\n<td>14:30 Uhr</td></tr>\n<tr><
 td><a href=http://www.weltkulturerbelauf.de/article.php?id=181>Sparkas
 sen-Lauf </a></td>\n<td>15:30 Uhr</td></tr>\n</tbody>\n</table>\n<h3>S
 tartgeld und Anmeldefristen</h3>\n<table style=width: 679px\; border=0
  cellspacing=1 cellpadding=1>\n<tbody>\n<tr><td><a href=http://www.wel
 tkulturerbelauf.de/article.php?id=132>Böhnlein-Bambinilauf</a></td>\n<
 td>Anmeldung zwischen 07.11.2016 &#8211\; 24.02.2017</td>\n<td>5\,- €<
 /td></tr>\n<tr><td><a href=http://www.weltkulturerbelauf.de/article.ph
 p?id=203>Fuchs-Schülerlauf:  1. und 2. Klassen</a><a href=http://www.w
 eltkulturerbelauf.de/article.php?id=195>Fuchs-Schülerlauf:  3. und 4. 
 Klassen</a><a href=http://www.weltkulturerbelauf.de/article.php?id=192
 >Bambados-Lauf:      5. Klassen und höher</a></td>\n<td>Anmeldung zwis
 chen 07.11.2016 &#8211\; 24.02.2017</td>\n<td>8\,- €</td></tr>\n<tr><t
 d><a href=http://www.weltkulturerbelauf.de/article.php?id=190>wieland-
 Lauf </a></td>\n<td>05.10.2016 &#8211\; 17.03.2017</td>\n<td>18\,- €</
 td></tr>\n<tr><td><a href=http://www.weltkulturerbelauf.de/article.php
 ?id=175>Brose-Lauf </a></td>\n<td>05.10.2016 &#8211\; 17.03.2017</td>\
 n<td>28\,- €</td></tr>\n<tr><td><a href=http://www.weltkulturerbelauf.
 de/article.php?id=181>Sparkassen-Lauf</a></td>\n<td>05.10.2016 &#8211\
 ; 17.03.2017</td>\n<td>38\,- €</td></tr>\n</tbody>\n</table>\n<p>Die O
 nline Anmeldung startet am 05.10.2016 um 06:00 ! Meldeschluß ist der 1
 7.03.2017. Im Preis ist einT-Shirt inklusive.</p>\n<p>Weitere Info&#82
 17\;s und Onlineanmeldung auf der Seite des Veranstalters: <a href=htt
 p://www.weltkulturerbelauf.de/ target=_blank>Bamberger Weltkulturerbe 
 Lauf</a></p>\n
URL:https://www.runningsocks.de/wordpress/terminkalender/eventsinglepa
 ge/?event_id=395&lang=de
ATTACH:https://www.runningsocks.de/wordpress/terminkalender/eventsingl
 epage/?event_id=395&lang=de
LOCATION:Bamberg\, Markusplatz\, Markusplatz\, Bamberg
END:VEVENT
END:VCALENDAR
