BEGIN:VCALENDAR
VERSION:2.0
METHOD:PUBLISH
PRODID:-//hacksw/handcal//NONSGML v1.0//EN
BEGIN:VEVENT
DTSTAMP:20260419T165734Z
DTSTART:20170723T060000Z
DTEND:20170723T150000Z
UID:20170723T060000Z-20170723T150000Z-396@www.runningsocks.de
SUMMARY:35. GEALAN Triathlon Hof
DESCRIPTION:Kurzinfo:\n\nStreckenlängen:\n\n 	1\,5Km / 40Km / 10Km (Ol
 ymische Distanz\, Einzel und Staffel)\n 	0\,75Km / 20Km / 5Km (Jederma
 nn/Sprint\, Einzel und Stafffel)\n\nStartzeiten:\n\n 	Olymische Distan
 z\, Einzel und Staffel: 11:10\n 	Jedermann/Sprint\, Einzel und Stafffe
 l: 10:00\n\nAusgabe Startunterlagen (Therapeutisches Zentraum Hof):\n\
 n 	Am Vortag: 18:00 - 20:00\n 	Am Wettkampftag: 08:00 - 09:30\n\nStart
 gelder:\n\n\n\n\nVolksdistanz\nSprintdistanz\nSprintdistanz Staffel\nK
 urzdistanz\nKurzdistanz Staffel\n\n\nBis 31.03.\n18\,00 €\n23\,00 €\n5
 1\,00 €\n28\,00 €\n66\,00 €\n\n\nBis 31.05.\n23\,00 €\n28\,00 €\n51\,0
 0 €\n33\,00 €\n66\,00 €\n\n\nAb 01.06.\n28\,00 €\n33\,00 €\n51\,00 €\n
 38\,00 €\n66\,00 €\n\n\nNachmeldung\nsofern noch Kontingent vorhanden 
 ist am Wettkampftag von 8.00Uhr bis 9.00Uhr und am Vortag\nvon 18:00Uh
 r bis 20:00Uhr gegen eine Nachmeldegebühr von 5€\n\n\nTageslizenz ohne
 \nDTU-Startpass\n\n\n\n16\,00 €\n\n\n\n\nWeitere Details bitte der Aus
 schreibung entnehmen.  Alle weiteren\, aktuellen Infos und Online Anme
 ldung direkt beim Veranstalter: Gealan Triathlon Hof\n\nAusschreibung:
 \n\n[wpfilebase tag=file path='triathlon/gealan-hof/20170723/20170723_
 Gealan-Hof_Ausschreibung.pdf' /]
X-ALT-DESC;FMTTYPE=text/html:<p>Kurzinfo:</p>\n<p><span style=text-dec
 oration: underline\;><strong>Streckenlängen:</strong></span></p>\n<ul>
 \n<li>1\,5Km / 40Km / 10Km (Olymische Distanz\, Einzel und Staffel)</l
 i>\n<li>0\,75Km / 20Km / 5Km (Jedermann/Sprint\, Einzel und Stafffel)<
 /li>\n</ul>\n<p><span style=text-decoration: underline\;><strong>Start
 zeiten:</strong></span></p>\n<ul>\n<li>Olymische Distanz\, Einzel und 
 Staffel: 11:10</li>\n<li>Jedermann/Sprint\, Einzel und Stafffel: 10:00
 </li>\n</ul>\n<p><span style=text-decoration: underline\;><strong>Ausg
 abe Startunterlagen (Therapeutisches Zentraum Hof):</strong></span></p
 >\n<ul>\n<li>Am Vortag: 18:00 &#8211\; 20:00</li>\n<li>Am Wettkampftag
 : 08:00 &#8211\; 09:30</li>\n</ul>\n<p><span style=text-decoration: un
 derline\;><strong>Startgelder:</strong></span></p>\n<table width=510>\
 n<tbody>\n<tr><td width=93></td>\n<td width=85><strong>Volksdistanz</s
 trong></td>\n<td width=88><strong>Sprintdistanz</strong></td>\n<td wid
 th=88><strong>Sprintdistanz Staffel</strong></td>\n<td width=78><stron
 g>Kurzdistanz</strong></td>\n<td width=78><strong>Kurzdistanz Staffel<
 /strong></td></tr>\n<tr><td>Bis 31.03.</td>\n<td style=text-align: cen
 ter\; width=85>18\,00 €</td>\n<td style=text-align: center\; width=88>
 23\,00 €</td>\n<td style=text-align: center\; width=88>51\,00 €</td>\n
 <td style=text-align: center\; width=78>28\,00 €</td>\n<td style=text-
 align: center\; width=78>66\,00 €</td></tr>\n<tr><td>Bis 31.05.</td>\n
 <td style=text-align: center\; width=85>23\,00 €</td>\n<td style=text-
 align: center\; width=88>28\,00 €</td>\n<td style=text-align: center\;
  width=88>51\,00 €</td>\n<td style=text-align: center\; width=78>33\,0
 0 €</td>\n<td style=text-align: center\; width=78>66\,00 €</td></tr>\n
 <tr><td>Ab 01.06.</td>\n<td style=text-align: center\; width=85>28\,00
  €</td>\n<td style=text-align: center\; width=88>33\,00 €</td>\n<td st
 yle=text-align: center\; width=88>51\,00 €</td>\n<td style=text-align:
  center\; width=78>38\,00 €</td>\n<td style=text-align: center\; width
 =78>66\,00 €</td></tr>\n<tr><td>Nachmeldung</td>\n<td style=text-align
 : center\; colspan=5 width=417>sofern noch Kontingent vorhanden ist am
  Wettkampftag von 8.00Uhr bis 9.00Uhr und am Vortag<br>\nvon 18:00Uhr 
 bis 20:00Uhr gegen eine Nachmeldegebühr von 5€</td></tr>\n<tr><td widt
 h=93>Tageslizenz ohne<br>\nDTU-Startpass</td>\n<td width=85></td>\n<td
  width=88></td>\n<td width=88></td>\n<td style=text-align: center\; wi
 dth=78>16\,00 €</td>\n<td width=78></td></tr>\n</tbody>\n</table>\n<p>
 Weitere Details bitte der Ausschreibung entnehmen.  Alle weiteren\, ak
 tuellen Infos und Online Anmeldung direkt beim Veranstalter: <a href=h
 ttp://www.ifl-hof.de/sportarten/triathlon/gealan-triathlon.html target
 =_blank>Gealan Triathlon Hof</a></p>\n<p><span style=text-decoration: 
 underline\;><strong>Ausschreibung:</strong></span><br>\n<br>\n[wpfileb
 ase tag=file path=&#8217\;triathlon/gealan-hof/20170723/20170723_Geala
 n-Hof_Ausschreibung.pdf&#8216\; /]</p>\n
URL:https://www.runningsocks.de/wordpress/terminkalender/eventsinglepa
 ge/?event_id=396&lang=de
ATTACH:https://www.runningsocks.de/wordpress/terminkalender/eventsingl
 epage/?event_id=396&lang=de
LOCATION:Untreusee\, Untreusee\, Hof
END:VEVENT
END:VCALENDAR
