BEGIN:VCALENDAR
VERSION:2.0
METHOD:PUBLISH
PRODID:-//hacksw/handcal//NONSGML v1.0//EN
BEGIN:VEVENT
DTSTAMP:20260419T165531Z
DTSTART:20161231T120000Z
DTEND:20161231T140000Z
UID:20161231T120000Z-20161231T140000Z-397@www.runningsocks.de
SUMMARY:14. Nürnberger Silvesterlauf
DESCRIPTION:Liebe Läuferinnen und Läufer des letztjährigen Silvesterla
 ufs\, es ist wieder soweit. Ab 3. 10. ist die Online-Anmeldung zum Nür
 nberger Silvesterlauf geöffnet.\nBis 19.11. gibt es Frühbucher Rabatte
 \, also schnell zuschlagen und nicht vergessen.  Erfahrungsgemäß ist d
 er Lauf schon vor Ende der Anmeldefrist ausgebucht (Teilnehmerlimit: 1
 316). Von der Startgebühr wird ein Teil gespendet:\n0\,50 € der Startg
 ebühr gehen als Spende an die Wärmestube der Caritas und der Stadtmiss
 ion Nürnberg.\nStart und Ziel:\n\nBeim Café Seehaus auf dem Johann-Soe
 rgel-Weg direkt vor dem neuen Steg am Wöhrder See\n\nAnmelde\,- Startg
 ebühren:\n\nFrühbucherrabatt bis 19.11.\n10 km Hauptlauf: 14€\n5 km Ho
 bbylauf: 10 €\nBambini und Schülerlauf: 4 €\n\nNormalpreis ab 20.11.\n
 10 km Hauptlauf: 18 €\n5 km Hobbylauf: 12 €\nBambini und Schülerlauf: 
 4 €\n\nNachmeldungen ab 17.12.\n(sofern noch Plätze vorhanden)\n10 km 
 Hauptlauf: 23 €\n5 km Hobbylauf: 14 €\nBambini und Schülerlauf: 4 €\n\
 nEin Funktionsshirt kann für 13 EUR zusätzlich bei der Anmeldung beste
 llt werden (solange Vorrat reicht)\n\nGutmann Team Cup:\n\nAuch dieses
  Jahr gibt es wieder den Gutmann Team Cup.  Beim 10-km-Hauptlauf werde
 n alle Teams gewertet\, die mit gleichem Vereins- oder Gruppennamen (b
 itte bei der Online-Anmeldung unbedingt auf gleiche Bezeichnung achten
 !) eingetragen sind. Gewertet werden alle Teams mit den Zeiten der fün
 f bestplatzierten Finisher. Die Wertung erfolgt immer als Mixed-Wertun
 g\, d.h. es erfolgt keine getrennte Frauen- und Männerwertung.\n\nAuss
 chreibung\, Veranstalter\, Anmeldung:\n\nAusschreibung: direkt beim Ve
 ranstalter oder hier:\n\n[wpfilebase tag=file path='lauf/silvesterlauf
 -nuernberg/20161231/20161231_SilvesterlaufNuernberg_Ausschreibung.pdf'
  /]\n\nOnline Anmeldung: direkt beim Veranstalter\n\nWeitere\, aktuell
 e Info's und Anmeldung beim Veranstalter:\n\nTeam Klinikum Nürnberg e.
  V.
X-ALT-DESC;FMTTYPE=text/html:<p style=text-align: center\;>Liebe Läufe
 rinnen und Läufer des letztjährigen Silvesterlaufs\, es ist wieder sow
 eit. Ab 3. 10. ist die Online-Anmeldung zum Nürnberger Silvesterlauf g
 eöffnet.</p>\n<p>Bis 19.11. gibt es Frühbucher Rabatte\, also schnell 
 zuschlagen und nicht vergessen.  Erfahrungsgemäß ist der Lauf schon vo
 r Ende der Anmeldefrist ausgebucht (Teilnehmerlimit: 1316). Von der St
 artgebühr wird ein Teil gespendet:</p>\n<p style=text-align: center\;>
 0\,50 € der Startgebühr gehen als Spende an die Wärmestube der Caritas
  und der Stadtmission Nürnberg.</p>\n<p><span style=text-decoration: u
 nderline\;><strong>Start und Ziel:</strong></span><br>\n<br>\nBeim Caf
 é Seehaus auf dem Johann-Soergel-Weg direkt vor dem neuen Steg am Wöhr
 der See</p>\n<p><span style=text-decoration: underline\;><strong>Anmel
 de\,- Startgebühren:</strong></span></p>\n<p><strong>Frühbucherrabatt 
 bis 19.11.</strong><br>\n10 km Hauptlauf: 14€<br>\n5 km Hobbylauf: 10 
 €<br>\nBambini und Schülerlauf: 4 €</p>\n<p><strong>Normalpreis ab 20.
 11.<br>\n</strong>10 km Hauptlauf: 18 €<br>\n5 km Hobbylauf: 12 €<br>\
 nBambini und Schülerlauf: 4 €</p>\n<p><strong>Nachmeldungen ab 17.12.<
 br>\n(sofern noch Plätze vorhanden)<br>\n</strong>10 km Hauptlauf: 23 
 €<br>\n5 km Hobbylauf: 14 €<br>\nBambini und Schülerlauf: 4 €</p>\n<p>
 Ein Funktionsshirt kann für 13 EUR zusätzlich bei der Anmeldung bestel
 lt werden (solange Vorrat reicht)</p>\n<p><span style=text-decoration:
  underline\;><strong>Gutmann Team Cup:</strong></span><br>\n<br>\nAuch
  dieses Jahr gibt es wieder den Gutmann Team Cup.  Beim 10-km-Hauptlau
 f werden alle Teams gewertet\, die mit gleichem Vereins- oder Gruppenn
 amen (bitte bei der Online-Anmeldung unbedingt auf gleiche Bezeichnung
  achten!) eingetragen sind. Gewertet werden alle Teams mit den Zeiten 
 der fünf bestplatzierten Finisher. Die Wertung erfolgt immer als Mixed
 -Wertung\, d.h. es erfolgt keine getrennte Frauen- und Männerwertung.<
 /p>\n<p><strong><span style=text-decoration: underline\;>Ausschreibung
 \, Veranstalter\, Anmeldung:</span></strong><br>\n<br>\nAusschreibung:
  <a href=https://team-klinikum-nuernberg.de/silvesterlauf/ausschreibun
 g target=_blank>direkt beim Veranstalter</a> oder hier:</p>\n<p>[wpfil
 ebase tag=file path=&#8217\;lauf/silvesterlauf-nuernberg/20161231/2016
 1231_SilvesterlaufNuernberg_Ausschreibung.pdf&#8216\; /]</p>\n<p>Onlin
 e Anmeldung: <a href=https://team-klinikum-nuernberg.de/silvesterlauf 
 target=_blank>direkt beim Veranstalter</a></p>\n<p>Weitere\, aktuelle 
 Info&#8217\;s und Anmeldung beim Veranstalter:</p>\n<p><a href=http://
 www.silvesterlauf-nuernberg.de/ target=_blank>Team Klinikum Nürnberg e
 . V.</a></p>\n
URL:https://www.runningsocks.de/wordpress/terminkalender/eventsinglepa
 ge/?event_id=397&lang=de
ATTACH:https://www.runningsocks.de/wordpress/terminkalender/eventsingl
 epage/?event_id=397&lang=de
LOCATION:Wöhrder Wiese\, Wöhrder Wiese\, Nürnberg
END:VEVENT
END:VCALENDAR
