BEGIN:VCALENDAR
VERSION:2.0
METHOD:PUBLISH
PRODID:-//hacksw/handcal//NONSGML v1.0//EN
BEGIN:VEVENT
DTSTAMP:20260419T165718Z
DTSTART;VALUE=DATE:20170819
DTEND;VALUE=DATE:20170820
UID:20170818T220000Z-20170819T215959Z-398@www.runningsocks.de
SUMMARY:Traditionales Bierfest Chodovar
DESCRIPTION:ACHTUNG: Termin ist noch unbestätigt !!\nDie 500 Jahre alt
 e Tradition des Bierbrauens\, romantische Unterkunft inmitten des hist
 orischen Anwesens der Familienbierbrau­erei Chodovar\, das Original-Bi
 erspa\, böhmische kulinarische Spezialitäten serviert in einem Restaur
 ant\, dessen Ambiente sich in den aus dem 12. Jh. stammenden Brauereik
 ellern in einem Felsengewölbe befindet\, und die naturbelassene Landsc
 haft des Böhmischen Waldes… Dies und vieles mehr bietet Ihnen das Chod
 ovar Beer Wellness Land an. (Quelle: http://www.chodovar.cz)\n\nSeit e
 inigen Jahren veranstaltet die Brauerei ein traditionelles Bierfest im
  großen Biergarten und dem Brauereigelände\, jeweils am vorletzten Aug
 ust Wochenende.\n\nProgramm (2015):\n\n 	Verkostungen im Brauereifelse
 n­keller\n 	Programm im Brauereibiergarten ab 13.00 bis 01.00 Uhr\n 	B
 ierbrauerei- Besichtigungen mit Überraschung\n 	„Chodovarexpress“ – Fa
 hrten mit den extra Zügen aus Pilsen und Karlsbad\n\nProgramm (2017 in
  Cz): Bierfest 2017 (Link folgt\, sobald Programm zur Verfügung steht)
X-ALT-DESC;FMTTYPE=text/html:<p style=text-align: center\;><span style
 =text-decoration: underline\;><span style=color: #ff0000\; text-decora
 tion: underline\;>ACHTUNG: Termin ist noch unbestätigt !!</span></span
 ></p>\n<p><strong>&#8222\;Die 500 Jahre alte Tradition</strong> des Bi
 erbrauens\, <strong>romantische Unterkunft</strong> inmitten des histo
 rischen Anwesens der Familienbierbrau­erei Chodovar\, das <strong>Orig
 inal-Bierspa</strong>\, böhmische kulinarische Spezialitäten serviert 
 <strong>in einem Restaurant\, dessen Ambiente sich in den aus dem 12. 
 Jh. stammenden Brauereikellern in einem Felsengewölbe</strong> befinde
 t\, und die naturbelassene <strong>Landschaft des Böhmischen Waldes</s
 trong>… Dies und vieles mehr bietet Ihnen das <strong>Chodovar Beer We
 llness Land</strong> an.&#8220\; (Quelle: http://www.chodovar.cz)</p>\
 n<p>Seit einigen Jahren veranstaltet die Brauerei ein traditionelles B
 ierfest im großen Biergarten und dem Brauereigelände\, jeweils am vorl
 etzten August Wochenende.</p>\n<p>Programm (2015):</p>\n<ul>\n<li>Verk
 ostungen im Brauereifelsen­keller</li>\n<li>Programm im Brauereibierga
 rten ab 13.00 bis 01.00 Uhr</li>\n<li>Bierbrauerei- Besichtigungen mit
  Überraschung</li>\n<li>„Chodovarexpress“ – Fahrten mit den extra Züge
 n aus Pilsen und Karlsbad</li>\n</ul>\n<p>Programm (2017 in Cz): Bierf
 est 2017 (Link folgt\, sobald Programm zur Verfügung steht)</p>\n
URL:https://www.runningsocks.de/wordpress/terminkalender/eventsinglepa
 ge/?event_id=398&lang=de
ATTACH:https://www.runningsocks.de/wordpress/terminkalender/eventsingl
 epage/?event_id=398&lang=de
LOCATION:Brauerei Chodovar\, Pivovarská 107\, Chodová Planá
END:VEVENT
END:VCALENDAR
