BEGIN:VCALENDAR
VERSION:2.0
METHOD:PUBLISH
PRODID:-//hacksw/handcal//NONSGML v1.0//EN
BEGIN:VEVENT
DTSTAMP:20260419T165140Z
DTSTART:20100307T093000Z
DTEND:20100307T113000Z
UID:20100307T093000Z-20100307T113000Z-4@www.runningsocks.de
SUMMARY:17. Finish Line Rothseelauf
DESCRIPTION:1 Runde  um den kleinen Rothsee (5\,2 Km - Hobbylauf)  auf
  flacher Strecke.\n2 Runden um den kleinen Rothsee (10\,4 Km - Hauptla
 uf) auf flacher Strecke.\nAusschreibung: Ausschreibug zum Rothseelauf\
 nWeitere Info's und Online Anmeldung beim Veranstalter: Finish Line
X-ALT-DESC;FMTTYPE=text/html:<p style=text-align: justify\;>1 Runde  u
 m den kleinen Rothsee (5\,2 Km &#8211\; Hobbylauf)  auf flacher Streck
 e.</p>\n<p style=text-align: justify\;>2 Runden um den kleinen Rothsee
  (10\,4 Km &#8211\; Hauptlauf) auf flacher Strecke.</p>\n<p style=text
 -align: justify\;>Ausschreibung: <a href=http://www.finish-line.de/upl
 oads/file/2009_11_FL_Rothseelauf_A5_Ausschreibung.pdf></a><a href=http
 s://www.runningsocks.de/wordpress/wp-content/uploads/2010/03/2009_11_F
 L_Rothseelauf_A5_Ausschreibung.pdf>Ausschreibug zum Rothseelauf</a></p
 >\n<p style=text-align: justify\;>Weitere Info&#8217\;s und Online Anm
 eldung beim Veranstalter: <a href=http://www.finish-line.de/wettkaempf
 e-ausschreibungen.htm target=_blank>Finish Line</a></p>\n
URL:https://www.runningsocks.de/wordpress/terminkalender/eventsinglepa
 ge/?event_id=4&lang=de
ATTACH:https://www.runningsocks.de/wordpress/terminkalender/eventsingl
 epage/?event_id=4&lang=de
LOCATION:Strandhaus Birkach\, Birkacher Uferweg 2\, Roth
END:VEVENT
END:VCALENDAR
