BEGIN:VCALENDAR
VERSION:2.0
METHOD:PUBLISH
PRODID:-//hacksw/handcal//NONSGML v1.0//EN
BEGIN:VEVENT
DTSTAMP:20260419T165315Z
DTSTART:20100529T080000Z
DTEND:20100529T100000Z
UID:20100529T080000Z-20100529T100000Z-40@www.runningsocks.de
SUMMARY:Einzelzeitfahren Hirschbachtal
DESCRIPTION:Liebe Teilnehmerinnen und Teilnehmer vom Zeitfahren Fischb
 ach\,\n\naufgrund  des großen Zuspruchs in den letzten drei Jahren und
  den bereits  zahlreichen Anfragen\, wird es heuer wieder ein Zeitfahr
 en geben.\nDieses  Jahr wird es zum ersten Mal ein offizielles und von
  den Behörden  genehmigtes Rennen sein! Die Strecke wird in das wunder
 schöne  Hirschbachtal (bei Hersbruck) verlegt.\n\nDatum: Samstag\,  de
 r 29.05.\, um 10Uhr\nOrt: Eschenbach\n\nStrecke:\n\n\nEinzelzeitfahren
  Hirschbachtal auf einer größeren Karte anzeigen\n\n\n\nWeitere Infos 
 und Anmeldung beim Veranstalter: www.fun-race.org
X-ALT-DESC;FMTTYPE=text/html:<p>Liebe Teilnehmerinnen und Teilnehmer v
 om Zeitfahren Fischbach\,</p>\n<p>aufgrund  des großen Zuspruchs in de
 n letzten drei Jahren und den bereits  zahlreichen Anfragen\, wird es 
 heuer wieder ein Zeitfahren geben.<br>\nDieses  Jahr wird es zum erste
 n Mal ein offizielles und von den Behörden  genehmigtes Rennen sein! D
 ie Strecke wird in das wunderschöne  Hirschbachtal (bei Hersbruck) ver
 legt.</p>\n<p><strong>Datum: Samstag\,  der 29.05.\, um 10Uhr<br>\nOrt
 : Eschenbach</strong></p>\n<p><strong>Strecke:</strong></p>\n<p><code>
 <iframe loading=lazy marginheight=0 marginwidth=0 src=http://maps.goog
 le.de/maps/ms?oe=utf-8&amp\;client=firefox-a&amp\;ie=UTF8&amp\;hq=&amp
 \;hnear=Hirschbach\,+Amberg-Sulzbach\,+Bayern&amp\;gl=de&amp\;ei=tEq-S
 _ycJJiZ_QbalaHcBg&amp\;ved=0CAoQ8gEwAA&amp\;hl=de&amp\;msa=0&amp\;msid
 =113824944251334972676.000483c07279fade063c4&amp\;ll=49.564356\,11.549
 87&amp\;spn=0.077937\,0.145912&amp\;z=12&amp\;output=embed frameborder
 =0 height=480 scrolling=no width=640></iframe><br>\n<small><a style=co
 lor: #0000ff\; text-align: left\; href=http://maps.google.de/maps/ms?o
 e=utf-8&amp\;client=firefox-a&amp\;ie=UTF8&amp\;hq=&amp\;hnear=Hirschb
 ach\,+Amberg-Sulzbach\,+Bayern&amp\;gl=de&amp\;ei=tEq-S_ycJJiZ_QbalaHc
 Bg&amp\;ved=0CAoQ8gEwAA&amp\;hl=de&amp\;msa=0&amp\;msid=11382494425133
 4972676.000483c07279fade063c4&amp\;ll=49.564356\,11.54987&amp\;spn=0.0
 77937\,0.145912&amp\;z=12&amp\;source=embed>Einzelzeitfahren Hirschbac
 htal</a> auf einer größeren Karte anzeigen</small></code></p>\n<p><br 
 class=spacer_ /></p>\n<p><strong>Weitere Infos und Anmeldung beim Vera
 nstalter: <a href=http://www.fun-race.org/termine-ausschreibungen/einz
 elzeitfahren-hirschbachtal/ target=_blank>www.fun-race.org</a><br>\n</
 strong></p>\n
URL:https://www.runningsocks.de/wordpress/terminkalender/eventsinglepa
 ge/?event_id=40&lang=de
ATTACH:https://www.runningsocks.de/wordpress/terminkalender/eventsingl
 epage/?event_id=40&lang=de
LOCATION:Eschenbach\, Eschenbach\, Eschenbach
END:VEVENT
END:VCALENDAR
