BEGIN:VCALENDAR
VERSION:2.0
METHOD:PUBLISH
PRODID:-//hacksw/handcal//NONSGML v1.0//EN
BEGIN:VEVENT
DTSTAMP:20260419T165529Z
DTSTART:20170701T060000Z
DTEND:20170701T180000Z
UID:20170701T060000Z-20170701T180000Z-400@www.runningsocks.de
SUMMARY:12 Stunden MTB Rennen Schnaittach
DESCRIPTION: \n12 Stunden auf dem Mountainbike!\nAls Einzelfahrer oder
  im Team! Egal ob Profi oder ambitionierte Breitensportler - Der Spaßf
 aktor steht im Vordergrund. Auf einem abgesteckten Rundkurs fahren die
  Mountainbikerinnen und Mountainbiker innerhalb von 12 Stunden möglich
 st viele Runden. Wer am meisten Runden schafft ist Sieger.\n\nNachdem 
 wir die Anmeldung 2016 um 15 Minuten verpasst haben  (das Startkonting
 ent für die 4er Teams war innerhalb 20 Min. ausgebucht)\, können wir e
 s 2017 nochmal versuchen !!\n\nWer kann starten:\n\n 	Einzelstarter (D
 amen\, Herren\, Senioren)\n 	Zweier-Team (Damen\, Herren\, Mixed)\n 	V
 ierer–Team (Damen\, Herren\, Mixed)\n\nTeilnehmerlimit: 120 Teams\n\nS
 tartgebühren:\n\n 	Einzelstarter           40\,00 € * / 50\,00 €\n 	2e
 r-Mannschaft      80\,00 € * / 100\,00 €\n 	4er-Mannschaft     160\,00
  € * /200\,00 €\n\n* bei Anmeldung bis zum 31.05.2017\n\nAnmeldung:\n\
 n 	ab 01.02.2017\n\nWeitere Infos und Online Anmeldung beim Veranstalt
 er: Radclub Schnaittachtal e.V.
X-ALT-DESC;FMTTYPE=text/html:<p>&nbsp\;</p>\n<h3 style=text-align: cen
 ter\;>12 Stunden auf dem Mountainbike!</h3>\n<p>Als Einzelfahrer oder 
 im Team! Egal ob &#8222\;Profi&#8220\; oder ambitionierte Breitensport
 ler &#8211\; Der Spaßfaktor steht im Vordergrund. Auf einem abgesteckt
 en Rundkurs fahren die Mountainbikerinnen und Mountainbiker innerhalb 
 von 12 Stunden möglichst viele Runden. Wer am meisten Runden schafft i
 st Sieger.</p>\n<p>Nachdem wir die Anmeldung 2016 um 15 Minuten verpas
 st haben  (das Startkontingent für die 4er Teams war innerhalb 20 Min.
  ausgebucht)\, können wir es 2017 nochmal versuchen !!</p>\n<p><strong
 >Wer kann starten:</strong></p>\n<ul>\n<li>Einzelstarter (Damen\, Herr
 en\, Senioren)</li>\n<li>Zweier-Team (Damen\, Herren\, Mixed)</li>\n<l
 i>Vierer–Team (Damen\, Herren\, Mixed)</li>\n</ul>\n<p>Teilnehmerlimit
 : 120 Teams</p>\n<p><strong>Startgebühren:</strong></p>\n<ul>\n<li>Ein
 zelstarter           40\,00 € * / 50\,00 €</li>\n<li>2er-Mannschaft   
    80\,00 € * / 100\,00 €</li>\n<li>4er-Mannschaft     160\,00 € * /20
 0\,00 €</li>\n</ul>\n<p>* bei Anmeldung bis zum 31.05.2017</p>\n<p><st
 rong>Anmeldung:</strong></p>\n<ul>\n<li>ab 01.02.2017</li>\n</ul>\n<p 
 style=text-align: justify\;>Weitere Infos und Online Anmeldung beim Ve
 ranstalter: <a href=http://www.12h-rc-schnaittachtal.de/cms/website.ph
 p target=_blank>Radclub Schnaittachtal e.V.</a></p>\n
URL:https://www.runningsocks.de/wordpress/terminkalender/eventsinglepa
 ge/?event_id=400&lang=de
ATTACH:https://www.runningsocks.de/wordpress/terminkalender/eventsingl
 epage/?event_id=400&lang=de
LOCATION:An der Alle / Badstraße\, Badstraße 4\, Schnaittach
END:VEVENT
END:VCALENDAR
