BEGIN:VCALENDAR
VERSION:2.0
METHOD:PUBLISH
PRODID:-//hacksw/handcal//NONSGML v1.0//EN
BEGIN:VEVENT
DTSTAMP:20260419T165506Z
DTSTART:20161211T130000Z
DTEND:20161211T160000Z
UID:20161211T130000Z-20161211T160000Z-401@www.runningsocks.de
SUMMARY:14. Run & Bike Ungerthal
DESCRIPTION:Inzwischen zum 8. male wird der Run & Bike im schönen Unge
 rthal\, nahe Schawabach\, durchgeführt. Eine kleine Gruppe eingefleisc
 hter und verrückter Sportler wird sich bei jeder Witterung den Anforde
 rungen der welligen Strecke stellen\, in der Hoffung\, noch einige Kuc
 henstücke und Glühwein nach dem Zieleinlauf zu ergattern :-)\n\nEin Ru
 n & Bike ist ein besonderer Lauf\, der wie folgt durchgeführt wird:\n\
 nZwei Läufer teilen sich ein Fahrrad. Dabei darf der Abstand zwischen 
 dem Läufer und dem Radfahrer niemals mehr als 10 Meter betragen. Das “
 Paar” kann sich beliebig jederzeit abwechseln.\n\n\n\nStart:\n14.00 Uh
 r\, Waldparkplatz im Ungerthal\n\n\nStrecke:\nWellige\, vom öffentlich
 en Verkehr geschlossene Waldwege\, ca. 17 km\n\n\nKlasseneinteilung:\n
 Männer\, Frauen und gemischte Paare\n\n\nOrganisationsbeitrag:\n20\,00
 € pro Paar\n\n\nAnmeldung:\nHier klicken\n\n\nNachmeldung:\nVor Ort\, 
 ab 13:00 Uhr\, 30\,00€ pro Paar\n\n\nSonstiges:\nKuchenbuffet\, Grille
 n\, Getränke im Zielraum\, sowie ein Lagerfeuer.\n(keine Duschmöglichk
 eiten)\n\n\nSiegerehrung:\nCa. 1/2 Std. nach dem letzten Zieleinlauf\n
 \n\nAusschreibung:\nHier klicken\n\n\n\nQuelle: www.fun-race.org
X-ALT-DESC;FMTTYPE=text/html:<p>Inzwischen zum 8. male wird der Run &a
 mp\; Bike im schönen Ungerthal\, nahe Schawabach\, durchgeführt. Eine 
 kleine Gruppe eingefleischter und verrückter Sportler wird sich bei je
 der Witterung den Anforderungen der welligen Strecke stellen\, in der 
 Hoffung\, noch einige Kuchenstücke und Glühwein nach dem Zieleinlauf z
 u ergattern :-)</p>\n<p>Ein Run &amp\; Bike ist ein besonderer Lauf\, 
 der wie folgt durchgeführt wird:</p>\n<p>Zwei Läufer teilen sich ein F
 ahrrad. Dabei darf der Abstand zwischen dem Läufer und dem Radfahrer n
 iemals mehr als 10 Meter betragen. Das “Paar” kann sich beliebig jeder
 zeit abwechseln.</p>\n<table style=border: 1px solid #b0c4de\; width: 
 636px\; height: 317px\; border=1 frame=void rules=all align=center>\n<
 tbody>\n<tr><td style=width: 180.533px\;><span style=font-size: small\
 ;>Start:</span></td>\n<td style=width: 448.467px\;><span style=font-si
 ze: small\;>14.00 Uhr\, Waldparkplatz im Ungerthal</span></td></tr>\n<
 tr><td style=width: 180.533px\;><span style=font-size: small\;>Strecke
 :</span></td>\n<td style=width: 448.467px\;><span style=font-size: sma
 ll\;>Wellige\, vom öffentlichen Verkehr geschlossene Waldwege\, ca. 17
  km</span></td></tr>\n<tr><td style=width: 180.533px\;><span style=fon
 t-size: small\;>Klasseneinteilung:</span></td>\n<td style=width: 448.4
 67px\;><span style=font-size: small\;>Männer\, Frauen und gemischte Pa
 are</span></td></tr>\n<tr><td style=width: 180.533px\;><span style=fon
 t-size: small\;>Organisationsbeitrag:</span></td>\n<td style=width: 44
 8.467px\;><span style=font-size: small\;>20\,00€ pro Paar</span></td><
 /tr>\n<tr><td style=width: 180.533px\;><span style=font-size: small\;>
 Anmeldung:</span></td>\n<td style=width: 448.467px\;><span style=font-
 size: small\;><a href=http://www.fun-race.org/termine>Hier klicken</a>
 </span></td></tr>\n<tr><td style=width: 180.533px\;><span style=font-s
 ize: small\;>Nachmeldung:</span></td>\n<td style=width: 448.467px\;><s
 pan style=font-size: small\;>Vor Ort\, ab 13:00 Uhr\, 30\,00€ pro Paar
 </span></td></tr>\n<tr><td style=width: 180.533px\;><span style=font-s
 ize: small\;>Sonstiges:</span></td>\n<td style=width: 448.467px\;><spa
 n style=font-size: small\;>Kuchenbuffet\, Grillen\, Getränke im Zielra
 um\, sowie ein Lagerfeuer.<br>\n(keine Duschmöglichkeiten)</span></td>
 </tr>\n<tr><td style=width: 180.533px\;><span style=font-size: small\;
 >Siegerehrung:</span></td>\n<td style=width: 448.467px\;><span style=f
 ont-size: small\;>Ca. 1/2 Std. nach dem letzten Zieleinlauf</span></td
 ></tr>\n<tr><td style=width: 180.533px\;><span style=font-size: small\
 ;>Ausschreibung:</span></td>\n<td style=width: 448.467px\;><a href=htt
 p://www.fun-race.org/termine><span style=font-size: small\;>Hier klick
 en</span></a></td></tr>\n</tbody>\n</table>\n<p>Quelle: <a href=http:/
 /www.fun-race.org/ target=_blank>www.fun-race.org</a></p>\n
URL:https://www.runningsocks.de/wordpress/terminkalender/eventsinglepa
 ge/?event_id=401&lang=de
ATTACH:https://www.runningsocks.de/wordpress/terminkalender/eventsingl
 epage/?event_id=401&lang=de
LOCATION:Waldparkplatz im Ungerthal\, Ungerthaler Straße\, Büchenbach
END:VEVENT
END:VCALENDAR
