BEGIN:VCALENDAR
VERSION:2.0
METHOD:PUBLISH
PRODID:-//hacksw/handcal//NONSGML v1.0//EN
BEGIN:VEVENT
DTSTAMP:20260419T165630Z
DTSTART:20170408T143000Z
DTEND:20170408T180000Z
UID:20170408T143000Z-20170408T180000Z-402@www.runningsocks.de
SUMMARY:7. IFB HiRo Run 21.1
DESCRIPTION:Schneller\, flacher Rundkurs um den Rothsee. Start und Zie
 l ist Hilpoltstein\nInfos :\n\n\n\nAusschreibung:\nIFB HiRo Run 21.1\n
 \n\nTermin:\nSamstag\, 08.04.\n\n\nVeranstalter:\nLa Carrera TriTeam R
 othsee 09 e.V.\n\n\nStartzeit:\n16:30 Uhr\n\n\nZielschluss:\n19:30 Uhr
 \n\n\nStart / Ziel:\nInnenstadt von Hilpoltstein - Marktstraße\n\n\nTe
 ilnehmerlimit:\n600 Starter Hauptlauf\, 300 Starter Hobbylauf\n\n\nMel
 deschluss:\nEntweder wenn das Teilnehmerlimit erreicht ist oder der 05
 .04.\n\n\nMeldegebühr:\n\n\n 	bis 30.11. (für 21\,1Km)\n 	bis 30.11. (
 für 9\,5Km)\n\n\n\n\n 	19 € (zuzügl. 2 € für Chip)\n 	8 € (zuzügl. 2 €
  für Chip)\n\n\n\n\n\n\n\n 	01.12. - 31.01. (für 21\,1Km)\n 	01.12. - 
 31.01. (für 9\,5Km)\n\n\n\n\n 	22 € (zuzügl. 2 € für Chip )\n 	10 € (z
 uzügl. 2 € für Chip)\n\n\n\n\n\n\n\n 	01.02. - 01.04. (für 21\,1Km)\n 
 	01.02. - 01.04. (für 9\,5Km)\n\n\n\n\n 	25 € (zuzügl. 2 € für Chip)\n
  	12 € (zuzügl. 2 € für Chip)\n\n\n\n\n Nachmeldungen am Veranstaltuns
 gtag von 12:00 - 15:30\n\n\n 	für 21\,1Km\n 	für 9\,5Km\n\n\n\n\n 	30 
 € (zuzügl. 2 € für Chip)\n 	15 € (zuzügl. 2 € für Chip)\n\n\n\n\nFunkt
 ionsshirt\nJeder Teilnehmer erhält für den Aufpreis von nur 10 Euro (A
 ngabe bei Anmeldung) beim Start ein HiRo Run Funktionsshirt. Bestellun
 g eines Funktionsshirt bei einer Anmeldung bis zum 31.01. möglich\n\n\
 n\n\n\n\nZugläufer\nfür 1:30h\, 1:45h\, 2:00h\, 2:15h Zielzeit\n\n\nZe
 itmessung\nEasychip von Davengo\n\n\nInternet mit Ausschreibung\, Meld
 ung und Ergebnissen:\nhttp://www.hiro-run.de\n\n\n\n(Quelle: http://ww
 w.hiro-run.de/)\n\nAlle weiteren\, aktuellen Infos sowie Online Anmeld
 ung auf der Seite des Veranstalters:  IFB HiRo Run 21.1\n\nFlyer zur A
 usschreibung:\n\n[wpfilebase tag=file path='lauf/ifb-hiro-run/20170408
 /20170408_ifb-hiro-run_flyer.pdf' /]
X-ALT-DESC;FMTTYPE=text/html:<p style=text-align: center\;>Schneller\,
  flacher Rundkurs um den Rothsee. Start und Ziel ist Hilpoltstein</p>\
 n<p><span style=text-decoration: underline\;><strong>Infos :</strong><
 /span></p>\n<table id=table4 style=width: 700px\; border=1>\n<tbody>\n
 <tr><td align=left valign=top width=150>Ausschreibung:</td>\n<td colsp
 an=2 align=left valign=top width=650>IFB HiRo Run 21.1</td></tr>\n<tr>
 <td align=left valign=top width=150>Termin:</td>\n<td colspan=2 align=
 left valign=top width=650>Samstag\, 08.04.</td></tr>\n<tr><td align=le
 ft valign=top width=150>Veranstalter:</td>\n<td colspan=2 align=left v
 align=top width=650><a href=http://www.lacarrera-triteam.de/ target=_b
 lank>La Carrera TriTeam Rothsee 09 e.V.</a></td></tr>\n<tr><td align=l
 eft valign=top width=150>Startzeit:</td>\n<td colspan=2 align=left val
 ign=top width=650>16:30 Uhr</td></tr>\n<tr><td align=left valign=top w
 idth=150>Zielschluss:</td>\n<td colspan=2 align=left valign=top width=
 650>19:30 Uhr</td></tr>\n<tr><td align=left valign=top width=150>Start
  / Ziel:</td>\n<td colspan=2 align=left valign=top width=650>Innenstad
 t von Hilpoltstein &#8211\; Marktstraße</td></tr>\n<tr><td align=left 
 valign=top width=150>Teilnehmerlimit:</td>\n<td colspan=2 align=left v
 align=top width=650>600 Starter Hauptlauf\, 300 Starter Hobbylauf</td>
 </tr>\n<tr><td align=left valign=top width=150>Meldeschluss:</td>\n<td
  colspan=2 align=left valign=top width=650>Entweder wenn das Teilnehme
 rlimit erreicht ist oder der 05.04.</td></tr>\n<tr><td align=left vali
 gn=top width=150>Meldegebühr:</td>\n<td align=left valign=top width=32
 5><ul>\n<li>bis 30.11. (für 21\,1Km)</li>\n<li>bis 30.11. (für 9\,5Km)
 </li>\n</ul></td>\n<td align=left valign=top width=325><ul>\n<li>19 € 
 (zuzügl. 2 € für Chip)</li>\n<li>8 € (zuzügl. 2 € für Chip)</li>\n</ul
 ></td></tr>\n<tr><td align=left valign=top width=150></td>\n<td align=
 left valign=top width=325><ul>\n<li>01.12. &#8211\; 31.01. (für 21\,1K
 m)</li>\n<li>01.12. &#8211\; 31.01. (für 9\,5Km)</li>\n</ul></td>\n<td
  align=left valign=top width=325><ul>\n<li>22 € (zuzügl. 2 € für Chip 
 )</li>\n<li>10 € (zuzügl. 2 € für Chip)</li>\n</ul></td></tr>\n<tr><td
  align=left valign=top width=150></td>\n<td align=left valign=top widt
 h=325><ul>\n<li>01.02. &#8211\; 01.04. (für 21\,1Km)</li>\n<li>01.02. 
 &#8211\; 01.04. (für 9\,5Km)</li>\n</ul></td>\n<td align=left valign=t
 op width=325><ul>\n<li>25 € (zuzügl. 2 € für Chip)</li>\n<li>12 € (zuz
 ügl. 2 € für Chip)</li>\n</ul></td></tr>\n<tr><td align=left valign=to
 p width=150> Nachmeldungen am Veranstaltunsgtag von 12:00 &#8211\; 15:
 30</td>\n<td align=left valign=top width=325><ul>\n<li>für 21\,1Km</li
 >\n<li>für 9\,5Km</li>\n</ul></td>\n<td align=left valign=top width=32
 5><ul>\n<li>30 € (zuzügl. 2 € für Chip)</li>\n<li>15 € (zuzügl. 2 € fü
 r Chip)</li>\n</ul></td></tr>\n<tr><td align=left valign=top width=150
 >Funktionsshirt</td>\n<td colspan=2 align=left valign=top width=650>Je
 der Teilnehmer erhält für den Aufpreis von nur 10 Euro (Angabe bei Anm
 eldung) beim Start ein <strong>HiRo Run Funktionsshirt.</strong> Beste
 llung eines Funktionsshirt bei einer Anmeldung bis zum 31.01. möglich<
 /td></tr>\n<tr><td align=left valign=top width=150></td>\n<td colspan=
 2 align=left valign=top width=650></td></tr>\n<tr><td align=left valig
 n=top width=150>Zugläufer</td>\n<td colspan=2 align=left valign=top wi
 dth=650>für 1:30h\, 1:45h\, 2:00h\, 2:15h Zielzeit</td></tr>\n<tr><td 
 align=left valign=top width=150>Zeitmessung</td>\n<td colspan=2 align=
 left valign=top width=650>Easychip von Davengo</td></tr>\n<tr><td alig
 n=left valign=top width=150>Internet mit Ausschreibung\, Meldung und E
 rgebnissen:</td>\n<td colspan=2 align=left valign=top width=650><a hre
 f=http://www.hiro-run.de/>http://www.hiro-run.de</a></td></tr>\n</tbod
 y>\n</table>\n<p>(Quelle: http://www.hiro-run.de/)</p>\n<p>Alle weiter
 en\, aktuellen Infos sowie Online Anmeldung auf der Seite des Veransta
 lters:<strong>  <a href=http://www.hiro-run.de/>IFB HiRo Run 21.1</a><
 /strong></p>\n<p><strong>Flyer zur Ausschreibung:</strong><br>\n<br>\n
 [wpfilebase tag=file path=&#8217\;lauf/ifb-hiro-run/20170408/20170408_
 ifb-hiro-run_flyer.pdf&#8216\; /]</p>\n
URL:https://www.runningsocks.de/wordpress/terminkalender/eventsinglepa
 ge/?event_id=402&lang=de
ATTACH:https://www.runningsocks.de/wordpress/terminkalender/eventsingl
 epage/?event_id=402&lang=de
LOCATION:Marktstrasse Hilpoltstein\, Marktstrasse 16\, Hilpoltstein
END:VEVENT
END:VCALENDAR
