BEGIN:VCALENDAR
VERSION:2.0
METHOD:PUBLISH
PRODID:-//hacksw/handcal//NONSGML v1.0//EN
BEGIN:VEVENT
DTSTAMP:20260419T165230Z
DTSTART;VALUE=DATE:20170707
DTEND;VALUE=DATE:20170710
UID:20170706T220000Z-20170709T215959Z-404@www.runningsocks.de
SUMMARY:MTB Wochenende 2017\, Termin 1
DESCRIPTION:Erster Termin für ein MTB Wochenende 2017. Details und Inf
 os unter: Planung
X-ALT-DESC;FMTTYPE=text/html:<p>Erster Termin für ein MTB Wochenende 2
 017. Details und Infos unter: <a href=https://www.runningsocks.de/word
 press/2016/10/22/planung-mtb-wochenende-woche-2017/>Planung </a></p>\n
URL:https://www.runningsocks.de/wordpress/terminkalender/eventsinglepa
 ge/?event_id=404&lang=de
ATTACH:https://www.runningsocks.de/wordpress/terminkalender/eventsingl
 epage/?event_id=404&lang=de
END:VEVENT
END:VCALENDAR
