BEGIN:VCALENDAR
VERSION:2.0
METHOD:PUBLISH
PRODID:-//hacksw/handcal//NONSGML v1.0//EN
BEGIN:VEVENT
DTSTAMP:20260419T165412Z
DTSTART;VALUE=DATE:20170816
DTEND;VALUE=DATE:20170820
UID:20170815T220000Z-20170819T215959Z-407@www.runningsocks.de
SUMMARY:20. Summer Breeze Open Air
DESCRIPTION:Die Karten sind bestellt\, die Bands können kommen. Auch 2
 017 werden wir uns ein paar harte Tage auf dem SBOA gönnen. Das Line U
 p zum 20-jährigen Bestehen des SBOA wird von Tag zu Tag besser. Da sin
 d die 99 EUR doch sehr gut angelegt  :twisted:
X-ALT-DESC;FMTTYPE=text/html:<p>Die Karten sind bestellt\, die Bands k
 önnen kommen. Auch 2017 werden wir uns ein paar harte Tage auf dem SBO
 A gönnen. Das Line Up zum 20-jährigen Bestehen des SBOA wird von Tag z
 u Tag besser. Da sind die 99 EUR doch sehr gut angelegt  :twisted:</p>
 \n
URL:https://www.runningsocks.de/wordpress/terminkalender/eventsinglepa
 ge/?event_id=407&lang=de
ATTACH:https://www.runningsocks.de/wordpress/terminkalender/eventsingl
 epage/?event_id=407&lang=de
END:VEVENT
END:VCALENDAR
