BEGIN:VCALENDAR
VERSION:2.0
METHOD:PUBLISH
PRODID:-//hacksw/handcal//NONSGML v1.0//EN
BEGIN:VEVENT
DTSTAMP:20260419T165413Z
DTSTART:20170311T093000Z
DTEND:20170311T113000Z
UID:20170311T093000Z-20170311T113000Z-408@www.runningsocks.de
SUMMARY:24. Finish Line Rothseelauf
DESCRIPTION:Die erste Probe im Frühjahr und seit Jahren ein Klassiker 
 !\nIn diesem Jahr an einem Samstag\, statt wie bisher Sonntags !!\nStr
 ecken:\n\n\n 	5\,2 Km\, Hobbylauf\, 1 Runde um den kleinen Rothsee\n 	
 5\,2 Km\, Nordic Walking\, 1 Runde um den kleinen Rothsee\n 	10\,4Km\,
  Hauptlauf\, 2 Runden um den kleinen Rothsee\n\nStartgeld:\n\n\n 	Hobb
 ylauf: 9\,00 EUR\n 	Nordic Walking: 9\,00 EUR\n 	Hauptlauf: 11\,00 EUR
 \n 	Nachmeldungen: 3\,00 EUR\n\nAnmeldungen:\n\nBis zum 09.03. online 
 möglich. Nachmeldungen gelten ab 10.03. und sind nur noch bei Finish-L
 ine Nürnberg\, oder bis 1Std. vor dem Start des jeweiligen Laufes vor 
 Ort möglich.\n\nZeiten:\n\n 	Abholung Unterlagen: ab 08:00 - 8:30 (Hob
 bylauf) bzw. 08:00 - 9:30 (Hauptlauf)\n 	Start Hobbylauf: 09:30\n 	Sta
 rt Hauptlauf: 10:30\n\nWeitere Info's wie immer direkt beim Veranstalt
 er: runningConcepts\nAusschreibung:\nrunningConcepts
X-ALT-DESC;FMTTYPE=text/html:<p style=text-align: center\;><strong>Die
  erste Probe im Frühjahr und seit Jahren ein Klassiker !</strong></p>\
 n<p style=text-align: center\;>In diesem Jahr an einem Samstag\, statt
  wie bisher Sonntags !!</p>\n<p style=text-align: justify\;><strong><s
 pan style=text-decoration: underline\;>Strecken:</span></strong></p>\n
 <ul>\n<li>5\,2 Km\, Hobbylauf\, 1 Runde um den kleinen Rothsee</li>\n<
 li>5\,2 Km\, Nordic Walking\, 1 Runde um den kleinen Rothsee</li>\n<li
 >10\,4Km\, Hauptlauf\, 2 Runden um den kleinen Rothsee</li>\n</ul>\n<p
  style=text-align: justify\;><span style=text-decoration: underline\;>
 <strong>Startgeld:</strong></span></p>\n<ul>\n<li>Hobbylauf: 9\,00 EUR
 </li>\n<li>Nordic Walking: 9\,00 EUR</li>\n<li>Hauptlauf: 11\,00 EUR</
 li>\n<li>Nachmeldungen: 3\,00 EUR</li>\n</ul>\n<p><span style=text-dec
 oration: underline\;><strong>Anmeldungen:</strong></span><br>\n<br>\nB
 is zum 09.03. online möglich. Nachmeldungen gelten ab 10.03. und sind 
 nur noch bei Finish-Line Nürnberg\, oder bis 1Std. vor dem Start des j
 eweiligen Laufes vor Ort möglich.</p>\n<p><span style=text-decoration:
  underline\;><strong>Zeiten:</strong></span></p>\n<ul>\n<li>Abholung U
 nterlagen: ab 08:00 &#8211\; 8:30 (Hobbylauf) bzw. 08:00 &#8211\; 9:30
  (Hauptlauf)</li>\n<li>Start Hobbylauf: 09:30</li>\n<li>Start Hauptlau
 f: 10:30</li>\n</ul>\n<p style=text-align: justify\;>Weitere Info&#821
 7\;s wie immer direkt beim Veranstalter: <a href=http://www.runningcon
 cepts.de/rothseelauf.html target=_blank>runningConcepts</a></p>\n<p st
 yle=text-align: justify\;><span style=text-decoration: underline\;><st
 rong>Ausschreibung:</strong></span></p>\n<p style=text-align: justify\
 ;><a href=http://www.runningconcepts.de/rothseelauf.html target=_blank
 >runningConcepts</a></p>\n
URL:https://www.runningsocks.de/wordpress/terminkalender/eventsinglepa
 ge/?event_id=408&lang=de
ATTACH:https://www.runningsocks.de/wordpress/terminkalender/eventsingl
 epage/?event_id=408&lang=de
LOCATION:Strandhaus Birkach\, Birkacher Uferweg 2\, Roth
END:VEVENT
END:VCALENDAR
