BEGIN:VCALENDAR
VERSION:2.0
METHOD:PUBLISH
PRODID:-//hacksw/handcal//NONSGML v1.0//EN
BEGIN:VEVENT
DTSTAMP:20260419T165414Z
DTSTART:20170129T090000Z
DTEND:20170129T120000Z
UID:20170129T090000Z-20170129T120000Z-409@www.runningsocks.de
SUMMARY:57. Prellsteinrennen
DESCRIPTION:Ein wahrlich harter\, 12Km langer  Crosslauf über Felder W
 iesen\, Wege und Steige zwischen Neutras\, Heuchling\, Bürtel und Hirs
 chbachtal. Gestartet wird bei jeder Witterung\; je nach Schneelage sin
 d auch Langlaufski die bessere Wahl (und vor allem erlaubt). Die Herau
 sforderung im Januar !!\nDas Rennen:\nDas Prellsteinrennen ist ein Man
 nschaftslauf. Eine Mannschaft besteht aus 3 Läufern. Die zwei besten Z
 eiten werden gewertet\, aber alle drei Läufer müssen das Ziel erreiche
 n und die Kontrollstellen passieren.\n\nDas Prellsteinrennen wird als 
 Crosslauf ausgetragen. Bei guter Schneelage kann auch mit Langlaufski 
 gelaufen werden. Es können Mannschaften mit Cross- und Skiläufern gebi
 ldet werden. Weiter können Damen und Herren eine Mannschaft bilden. Di
 e Läufer mit Skiern starten mit einer Zeitvorgabe vor den Crossläufern
 .\n\nDer Start der Mannschaften erfolgt mit einem Zeitabstand von eine
 r Minute.\nStartgebühr:\n\n 	33 € / Mannschaft (also 11 € je Person)\n
  	6 € / Hobbylauf\, Walking\n\nWertungen:\n\n\n\n 	Mannschaftswertung 
 Männer- bzw. gemischte Mannschaften\n 	Mannschaftswertung reine Frauen
 mannschaften\n 	Einzelwertung nach Altersklassen M/W für alle Finisher
 \n\nAnmeldungen:\n\n 	Online Anmeldung bis 21.01.\, 18:00. Danach nur 
 noch vor Ort am Veranstaltungstag\n\n\n\nWeitere Info:\nInzwischen wer
 den auch Strecken über 4Km (Walking und Gaudilauf) angeboten. Alles we
 itere sh. Homepage des Ausrichters. Seit 2015 wird die Ausrichtung des
  Prellsteinrennens vom MTP Hersbruck durchgeführt. Info und Anmeldung 
 unter: www.prellsteinrennen.de
X-ALT-DESC;FMTTYPE=text/html:<p>Ein wahrlich harter\, 12Km langer  Cro
 sslauf über Felder Wiesen\, Wege und Steige zwischen Neutras\, Heuchli
 ng\, Bürtel und Hirschbachtal. Gestartet wird bei jeder Witterung\; je
  nach Schneelage sind auch Langlaufski die bessere Wahl (und vor allem
  erlaubt). Die Herausforderung im Januar !!</p>\n<h4>Das Rennen:</h4>\
 n<p>Das Prellsteinrennen ist ein Mannschaftslauf. Eine Mannschaft best
 eht aus 3 Läufern. Die zwei besten Zeiten werden gewertet\, aber alle 
 drei Läufer müssen das Ziel erreichen und die Kontrollstellen passiere
 n.</p>\n<p>Das Prellsteinrennen wird als Crosslauf ausgetragen. Bei gu
 ter Schneelage kann auch mit Langlaufski gelaufen werden. Es können Ma
 nnschaften mit Cross- und Skiläufern gebildet werden. Weiter können Da
 men und Herren eine Mannschaft bilden. Die Läufer mit Skiern starten m
 it einer Zeitvorgabe vor den Crossläufern.</p>\n<p>Der Start der Manns
 chaften erfolgt mit einem Zeitabstand von einer Minute.</p>\n<h4>Start
 gebühr:</h4>\n<ul>\n<li>33 € / Mannschaft (also 11 € je Person)</li>\n
 <li>6 € / Hobbylauf\, Walking</li>\n</ul>\n<h4>Wertungen:</h4>\n<secti
 on class=av_textblock_section>\n<div class=avia_textblock >\n<ul>\n<li
 >Mannschaftswertung Männer- bzw. gemischte Mannschaften</li>\n<li>Mann
 schaftswertung reine Frauenmannschaften</li>\n<li>Einzelwertung nach A
 ltersklassen M/W für alle Finisher</li>\n</ul>\n<h4>Anmeldungen:</h4>\
 n<ul>\n<li>Online Anmeldung bis 21.01.\, 18:00. Danach nur noch vor Or
 t am Veranstaltungstag</li>\n</ul>\n</div>\n</section>\n<h4>Weitere In
 fo:</h4>\n<p>Inzwischen werden auch Strecken über 4Km (Walking und Gau
 dilauf) angeboten. Alles weitere sh. Homepage des Ausrichters. Seit 20
 15 wird die Ausrichtung des Prellsteinrennens vom MTP Hersbruck durchg
 eführt. Info und <a href=http://prellsteinrennen.de/anmeldung/ target=
 _blank>Anmeldung</a> unter: <a href=http://prellsteinrennen.de/ target
 =_blank>www.prellsteinrennen.de</a></p>\n
URL:https://www.runningsocks.de/wordpress/terminkalender/eventsinglepa
 ge/?event_id=409&lang=de
ATTACH:https://www.runningsocks.de/wordpress/terminkalender/eventsingl
 epage/?event_id=409&lang=de
LOCATION:Gasthof zum Neutrasfelsen\, Neutras 5\, Etzelwang
END:VEVENT
END:VCALENDAR
