BEGIN:VCALENDAR
VERSION:2.0
METHOD:PUBLISH
PRODID:-//hacksw/handcal//NONSGML v1.0//EN
BEGIN:VEVENT
DTSTAMP:20260419T165630Z
DTSTART:20170507T080000Z
DTEND:20170507T110000Z
UID:20170507T080000Z-20170507T110000Z-411@www.runningsocks.de
SUMMARY:16. Pühlheimer Frühlingslauf
DESCRIPTION:Start: \n\n\n 	10:00 Uhr    Läufer/Walker / Nordic Walker\
 n\nStrecken:\n\n\n 	5\,9 Km mit langer Steigung\n 	12\,6 Km (nur für g
 eübte Läufer\, stärkere Steigung)\n\nStartgeld: \n\n 	Erwachsene: 7\,0
 0 €\n 	Jugendliche ab 14J: 3\,00 €\n 	Kinder bis 13J: 0 €\n\nAnmeldesc
 hluß: \n\n 	05.05.\n 	Nachmeldungen am Starttag bis 1h vor dem Start: 
 2\,00 €\n\nPreise: \n\n 	Jeder Läufer bekommt eine Urkunde\n 	.. und d
 ie „Besten einen Sachpreis\n\nWeitere Infos und Online Anmeldung auf d
 er Seite des Veranstalters: Lauftreff Altdorf
X-ALT-DESC;FMTTYPE=text/html:<p style=text-align: justify\;><strong>St
 art: </strong></p>\n<ul>\n<li style=text-align: left\;>10:00 Uhr    Lä
 ufer/Walker / Nordic Walker</li>\n</ul>\n<p style=text-align: justify\
 ;><strong>Strecken:</strong></p>\n<ul>\n<li style=text-align: left\;>5
 \,9 Km mit langer Steigung</li>\n<li style=text-align: left\;>12\,6 Km
  (nur für geübte Läufer\, stärkere Steigung)</li>\n</ul>\n<p><strong>S
 tartgeld: </strong></p>\n<ul>\n<li>Erwachsene: 7\,00 €</li>\n<li>Jugen
 dliche ab 14J: 3\,00 €</li>\n<li>Kinder bis 13J: 0 €</li>\n</ul>\n<p><
 strong>Anmeldeschluß: </strong></p>\n<ul>\n<li>05.05.</li>\n<li>Nachme
 ldungen am Starttag bis 1h vor dem Start: 2\,00 €</li>\n</ul>\n<p><str
 ong>Preise: </strong></p>\n<ul>\n<li>Jeder Läufer bekommt eine Urkunde
 </li>\n<li>.. und die „Besten&#8220\; einen Sachpreis</li>\n</ul>\n<p 
 style=text-align: left\;>Weitere Infos und <a href=http://my1.raceresu
 lt.com/66440/registration?lang=de target=_blank>Online Anmeldung</a> a
 uf der Seite des Veranstalters: <a href=http://www.altdorfer-lauftreff
 .de/ target=_blank>Lauftreff Altdorf</a></p>\n
URL:https://www.runningsocks.de/wordpress/terminkalender/eventsinglepa
 ge/?event_id=411&lang=de
ATTACH:https://www.runningsocks.de/wordpress/terminkalender/eventsingl
 epage/?event_id=411&lang=de
LOCATION:Feuerwehrhaus\, Pühlheim\, Pühlheim\, Pühlheim
END:VEVENT
END:VCALENDAR
