BEGIN:VCALENDAR
VERSION:2.0
METHOD:PUBLISH
PRODID:-//hacksw/handcal//NONSGML v1.0//EN
BEGIN:VEVENT
DTSTAMP:20260419T165616Z
DTSTART:20170910T060000Z
DTEND:20170910T140000Z
UID:20170910T060000Z-20170910T140000Z-415@www.runningsocks.de
SUMMARY:6. medwork Triathlon Höchstadt
DESCRIPTION:Der medwork Triathlon Höchstadt findet 2017 nun schon zum 
 6. male statt.\nDer medwork Triathlon Höchstadt ist eine Sportveransta
 ltung für den Breiten- und Leistungssport und somit für jedermann. Das
  Starterfeld ist bunt gemischt. Männer und Frauen aller Altersgruppen\
 , Laufsport-/Triathlon-Vereine\, Firmengruppen\, sportliche Einsteiger
  und ambitionierte Leistungssportler gehen an den Start. (Quelle: http
 ://www.medwork-triathlon.de/).\n\nDie wichtigsten Daten in Kürze:\n\nS
 trecken / Disziplinen:\n\n 	Jedermann Einzel  / Staffel: 0\,4Km / 20km
  / 5Km\n 	Kurzdistanz Einzel / Staffel: 1\,5Km / 40Km / 10Km\n\nGeschw
 ommen wird im Freibad Höchstadt in Wellen mit max. 8 Startern / 50m Ba
 hn. Der Start erfolgt ab 9:30. Die Startzeiten jedes Teilnehmers sind 
 aus den Startunterlagen\, im Internet\, oder an der Infotafel im Freib
 ad ersichtlich.\n\nStartgebühren:\n\n\n\nMeldung bis\n\nKurzdistanz**\
 n\nStaffel Kurzdistanz**\nJedermann**\n\nStaffel Jedermann**\n\n\n\n31
 .03.2017\n70 € *\n94 € *\n34 €\n65 €\n\n\n30.06.2017\n76 € *\n100 € *\
 n40 €\n70 €\n\n\nab 01.07.2017\n80 € *\n104 € *\n44 €\n74 €\n\n\n* ent
 hält 16 EUR Gebühr für die Tageslizenz.\n\n** Bei Abholung der Startun
 terlagen am Samstag\, den 09.09.\, werden vom regulären Startgeld 5 € 
 zurückerstattet (dies gilt nicht für Nachmeldungen).\n\n\n\n\n 	Anmeld
 ungen: ab 22.02\n 	Meldeschluß: 27.08.\n 	Nachmeldungen am 10.09. bis 
 8:45: 10 €\n\nZeitplan (09.09.):\n\n\n\nStartnummernausgabe\n15:00\n–\
 n17:00\n\n\n\nZeitplan (10.09.):\n\n\n\nStartnummernausgabe\n07:00\n–\
 n08:00\n\n\nCheck-in bis\n07:30\n–\n09:00\n\n\nWettkampfbesprechung Ku
 rzdistanz/Staffel\n09:00\n\n\n\n\nErster Start Kurzdistanz/Staffel\n09
 :30\n\n\n\n\nWettkampfbesprechung Jedermann/Staffel\n10:30\n\n\n\n\nEr
 ster Start Jedermann/Staffel\n\n\n\n\n\nAuschecken Räder\n14:00\n–\n16
 :30\n\n\nSiegerehrung Kurzdistanz ab\n15:00\n\n\n\n\nSiegerehrung Jede
 rmann\, anschließend\n\n\n\n\n\n\nAlle weiteren Infos und Online Anmel
 dung direkt beim Veranstalter: medwork Triathlon Höchstadt\n\nAusschre
 ibung:\n\n[wpfilebase tag=file path='triathlon/medwork-hoechstadt/2017
 0910/20170910_medwork-tria-hoechstadt_Ausschreibung_1.pdf' /]\n\n 
X-ALT-DESC;FMTTYPE=text/html:<p style=text-align: center\;>Der medwork
  Triathlon Höchstadt findet 2017 nun schon zum 6. male statt.</p>\n<p>
 Der medwork Triathlon Höchstadt ist eine Sportveranstaltung für den Br
 eiten- und Leistungssport und somit für jedermann. Das Starterfeld ist
  bunt gemischt. Männer und Frauen aller Altersgruppen\, Laufsport-/Tri
 athlon-Vereine\, Firmengruppen\, sportliche Einsteiger und ambitionier
 te Leistungssportler gehen an den Start. (Quelle: http://www.medwork-t
 riathlon.de/).</p>\n<p>Die wichtigsten Daten in Kürze:</p>\n<p><strong
 >Strecken / Disziplinen:</strong></p>\n<ul>\n<li>Jedermann Einzel  / S
 taffel: 0\,4Km / 20km / 5Km</li>\n<li>Kurzdistanz Einzel / Staffel: 1\
 ,5Km / 40Km / 10Km</li>\n</ul>\n<p>Geschwommen wird im Freibad Höchsta
 dt in Wellen mit max. 8 Startern / 50m Bahn. Der Start erfolgt ab 9:30
 . Die Startzeiten jedes Teilnehmers sind aus den Startunterlagen\, im 
 Internet\, oder an der Infotafel im Freibad ersichtlich.</p>\n<p><stro
 ng>Startgebühren:</strong></p>\n<table border=0>\n<tbody>\n<tr><td><st
 rong>Meldung bis<br>\n</strong></td>\n<td><strong>Kurzdistanz**<br>\n<
 /strong></td>\n<td><strong>Staffel Kurzdistanz**</strong></td>\n<td><s
 trong>Jedermann**<br>\n</strong></td>\n<td><strong>Staffel Jedermann**
 <br>\n</strong></td></tr>\n<tr><td>31.03.2017</td>\n<td>70 € *</td>\n<
 td>94 € *</td>\n<td>34 €</td>\n<td>65 €</td></tr>\n<tr><td>30.06.2017<
 /td>\n<td>76 € *</td>\n<td>100 € *</td>\n<td>40 €</td>\n<td>70 €</td><
 /tr>\n<tr><td>ab 01.07.2017</td>\n<td>80 € *</td>\n<td>104 € *</td>\n<
 td>44 €</td>\n<td>74 €</td></tr>\n<tr><td colspan=5>* enthält 16 EUR G
 ebühr für die Tageslizenz.</p>\n<p>** Bei Abholung der Startunterlagen
  am <strong>Samstag\, den 09.09.</strong>\, werden vom regulären Start
 geld 5 € zurückerstattet (dies gilt nicht für Nachmeldungen).</td></tr
 >\n</tbody>\n</table>\n<ul>\n<li>Anmeldungen: ab 22.02</li>\n<li>Melde
 schluß: 27.08.</li>\n<li>Nachmeldungen am 10.09. bis 8:45: 10 €</li>\n
 </ul>\n<p><strong>Zeitplan (09.09.):</strong></p>\n<table border=0>\n<
 tbody>\n<tr><td>Startnummernausgabe</td>\n<td>15:00</td>\n<td>–</td>\n
 <td>17:00</td></tr>\n</tbody>\n</table>\n<p><strong>Zeitplan (10.09.):
 </strong></p>\n<table border=0>\n<tbody>\n<tr><td>Startnummernausgabe<
 /td>\n<td>07:00</td>\n<td>–</td>\n<td>08:00</td></tr>\n<tr><td>Check-i
 n bis</td>\n<td>07:30</td>\n<td>–</td>\n<td>09:00</td></tr>\n<tr><td>W
 ettkampfbesprechung Kurzdistanz/Staffel</td>\n<td>09:00</td>\n<td></td
 >\n<td></td></tr>\n<tr><td>Erster Start Kurzdistanz/Staffel</td>\n<td>
 09:30</td>\n<td></td>\n<td></td></tr>\n<tr><td>Wettkampfbesprechung Je
 dermann/Staffel</td>\n<td>10:30</td>\n<td></td>\n<td></td></tr>\n<tr><
 td>Erster Start Jedermann/Staffel</td>\n<td></td>\n<td></td>\n<td></td
 ></tr>\n<tr><td>Auschecken Räder</td>\n<td>14:00</td>\n<td>–</td>\n<td
 >16:30</td></tr>\n<tr><td>Siegerehrung Kurzdistanz ab</td>\n<td>15:00<
 /td>\n<td></td>\n<td></td></tr>\n<tr><td>Siegerehrung Jedermann\, ansc
 hließend</td>\n<td></td>\n<td></td>\n<td></td></tr>\n</tbody>\n</table
 >\n<p>Alle weiteren Infos und <a href=https://www.zeitgemaess.info/eve
 nt.php?ACCESSCODE=201709102>Online Anmeldung</a> direkt beim Veranstal
 ter: <a href=http://www.medwork-triathlon.de/>medwork Triathlon Höchst
 adt</a></p>\n<p><strong>Ausschreibung:</strong><br>\n<br>\n[wpfilebase
  tag=file path=&#8217\;triathlon/medwork-hoechstadt/20170910/20170910_
 medwork-tria-hoechstadt_Ausschreibung_1.pdf&#8216\; /]</p>\n<p>&nbsp\;
 </p>\n
URL:https://www.runningsocks.de/wordpress/terminkalender/eventsinglepa
 ge/?event_id=415&lang=de
ATTACH:https://www.runningsocks.de/wordpress/terminkalender/eventsingl
 epage/?event_id=415&lang=de
LOCATION:Freibad Höchstadt\, Kieferndorfer Weg 77\, Höchstadt
END:VEVENT
END:VCALENDAR
