BEGIN:VCALENDAR
VERSION:2.0
METHOD:PUBLISH
PRODID:-//hacksw/handcal//NONSGML v1.0//EN
BEGIN:VEVENT
DTSTAMP:20260419T165313Z
DTSTART:20170702T080000Z
DTEND:20170702T110000Z
UID:20170702T080000Z-20170702T110000Z-417@www.runningsocks.de
SUMMARY:30. Hersbrucker Volkstriathlon
DESCRIPTION:30. Hersbrucker Volkstriathlon\nVolks\,- Sprintdistanz übe
 r: 300 m - 20 km - 5 km\n\n\n 	Schwimmen: Hersbrucker Badesee\n 	Rad: 
 Hersbrucker Badesee über Föhrenbach\, Alfeld nach Waller\n 	Laufen: Wa
 ller - Gravenbuch - Waller\n\nWer darf mitmachen?\nab Jugend A (16/17)
  für Jedermann\, auch Vereinslose\, Hobby- und Freizeitsportler. Einze
 l- und Staffelmeldungen sind möglich.\nAnmeldung:\nAuf der Home des DA
 V Hersbruck unter folgendem Link: Zur Anmeldung\n\nMeldeschluss: 30.06
 .\, 20:00\n\nNachmeldungen am Wettkampftag ab 08:00: 5\,00 EUR\nStartg
 ebühren:\nEinzelstarter Jugend (bis 18 J.): 20\,00 EUR\n\nEinzelstarte
 r normal: 25\,00 EUR\n\nStaffel Jugend (bis 18 J.): 30\,00 EUR\n\nStaf
 fel normal: 35:00 EUR\nInformationen:\nWeitere Informationen sh. Aussc
 hreibung bzw. Internetseite des Veranstalters DAV Hersbruck oder unter
  Trimag.de\nAusschreibung:\n[wpfilebase tag=list id=281 tpl=data-table
  pagenav=1 /]
X-ALT-DESC;FMTTYPE=text/html:<p style=text-align: center\;><span style
 =font-size: 14pt\;>30. Hersbrucker Volkstriathlon</span></p>\n<p style
 =text-align: justify\;>Volks\,- Sprintdistanz über: 300 m &#8211\; 20 
 km &#8211\; 5 km</p>\n<ul>\n<li style=text-align: justify\;>Schwimmen:
  Hersbrucker Badesee</li>\n<li style=text-align: justify\;>Rad: Hersbr
 ucker Badesee über Föhrenbach\, Alfeld nach Waller</li>\n<li style=tex
 t-align: justify\;>Laufen: Waller &#8211\; Gravenbuch &#8211\; Waller<
 /li>\n</ul>\n<h4>Wer darf mitmachen?</h4>\n<p>ab Jugend A (16/17) für 
 Jedermann\, auch Vereinslose\, Hobby- und Freizeitsportler. Einzel- un
 d Staffelmeldungen sind möglich.</p>\n<h4>Anmeldung:</h4>\n<p>Auf der 
 Home des DAV Hersbruck unter folgendem Link: <a href=http://dav-hersbr
 uck.de/index.php/abteilungen-gruppen/triathlon-duathlon/veranstaltunge
 n/book/519-30-hersbrucker-volkstriathlon-einzelstarter>Zur Anmeldung</
 a></p>\n<p>Meldeschluss: 30.06.\, 20:00</p>\n<p>Nachmeldungen am Wettk
 ampftag ab 08:00: 5\,00 EUR</p>\n<h4>Startgebühren:</h4>\n<p>Einzelsta
 rter Jugend (bis 18 J.): 20\,00 EUR</p>\n<p>Einzelstarter normal: 25\,
 00 EUR</p>\n<p>Staffel Jugend (bis 18 J.): 30\,00 EUR</p>\n<p>Staffel 
 normal: 35:00 EUR</p>\n<h4>Informationen:</h4>\n<p>Weitere Information
 en sh. Ausschreibung bzw. Internetseite des Veranstalters <a href=http
 ://dav-hersbruck.de/index.php/abteilungen-gruppen/triathlon-duathlon/v
 eranstaltungen/event/0/115-triathlon/519-30-hersbrucker-volkstriathlon
 -einzelstarter target=_blank>DAV Hersbruck</a> oder unter <a href=http
 ://tri-mag.de/termine/28-hersbrucker-volkstriathlon>Trimag.de</a></p>\
 n<h4>Ausschreibung:</h4>\n<p>[wpfilebase tag=list id=281 tpl=data-tabl
 e pagenav=1 /]</p>\n
URL:https://www.runningsocks.de/wordpress/terminkalender/eventsinglepa
 ge/?event_id=417&lang=de
ATTACH:https://www.runningsocks.de/wordpress/terminkalender/eventsingl
 epage/?event_id=417&lang=de
LOCATION:Happurger Baggersee\, Bagger See\, Happurg
END:VEVENT
END:VCALENDAR
