BEGIN:VCALENDAR
VERSION:2.0
METHOD:PUBLISH
PRODID:-//hacksw/handcal//NONSGML v1.0//EN
BEGIN:VEVENT
DTSTAMP:20260419T165717Z
DTSTART:20170603T130000Z
DTEND:20170603T153000Z
UID:20170603T130000Z-20170603T153000Z-418@www.runningsocks.de
SUMMARY:15. Leinburger Kirwa Lauf
DESCRIPTION:Am Pfingst-Samstag\, den 03. Juni 2017 findet wieder der t
 raditionelle Kirwalauf Leinburg bereits zum 15. mal statt.\nDas mittle
 rweile im Landkreis bekannte Lauf-Event lockt bei meistens gutem Wette
 r viele laufbegeisterte Teilnehmern an.\nAlle dürfen mitmachen: Kinder
 \, Schüler und Erwachsene\, egal ob als Nordic-Walker oder Jogger.\n\n
 Ausschreibung:\n\nAuf der Seite des Veranstalters: TV Leinburg\n\nStar
 t / Ziel\n\n\nBrauereihof Bub / Leinburg\n\nLäufe und Startzeiten:\n\n
  	15:00h: Kinderlauf\, 0\,5 Km\n 	15:30h: Schülerlauf\, 1\,5 Km\n 	16:
 00h: Kirwalauf ca. 10 Km\n 	16:10h: Kirwalauf ca. 4\,5 Km\n 	16:10h: N
 ordic Walking ca. 4\,5 Km\n\nStartgeld:\n\n 	Kinder-/ Schülerlauf     
  2\,00 EUR (€ 2 Nachmeldegebühr nach 02.06.)\n 	Kirwalauf / Nordic-Wal
 king  8\,00 EUR (€ 2 Nachmeldegebühr nach 02.06.)\n\nStartnummernausga
 be:\n\n 	14:00h  – 15:00h  im Brauereihof Bub\n 	Nachmeldungen nur bis
 : 14:00h\n\nSiegerehrung:\n\n 	ca. 18:00h im Brauereihof Bub\n\nWas gi
 bt's für das Startgeld?\n\n 	Die 3 Schnellsten jedes Rennens (Kirwalau
 f)\, weiblich & männlich\, erhalten Sachpreise.\n 	Zudem erfolgt eine 
 Sachpreisverlosung unter allen Teilnehmern.\n\n\nAnmeldung:\n\nbis  02
 .06. - 19:00h bei:\nAngela Gruber\nBütenstrasse 7\, 91227 Leinburg\nTe
 lefon: 09120 / 18 12 99\nE-Mail: angela.gruber@t-online.de.de\nUnd dan
 ach noch ein Bierchen im Brauereihof\n\nFlyer:\n\n[wpfilebase tag=file
  path='lauf/leinburger-kirwalauf/20170603/20170603_Leinburger-Kirwalau
 f_Ausschreibung.pdf' tpl=data-table /]
X-ALT-DESC;FMTTYPE=text/html:<p>Am Pfingst-Samstag\, den 03. Juni 2017
  findet wieder der traditionelle Kirwalauf Leinburg bereits zum 15. ma
 l statt.<br>\nDas mittlerweile im Landkreis bekannte Lauf-Event lockt 
 bei meistens gutem Wetter viele laufbegeisterte Teilnehmern an.<br>\nA
 lle dürfen mitmachen: Kinder\, Schüler und Erwachsene\, egal ob als No
 rdic-Walker oder Jogger.</p>\n<p><strong>Ausschreibung:</strong><br>\n
 <br>\nAuf der Seite des Veranstalters: <a href=http://www.tvleinburg.d
 e/skiabteilung/kirwalauf.html target=_blank rel=noopener noreferrer>TV
  Leinburg</a></p>\n<p><strong>Start / Ziel<br>\n</strong><br>\n<br>\nB
 rauereihof Bub / Leinburg</p>\n<p><strong>Läufe und Startzeiten:</stro
 ng></p>\n<ul>\n<li>15:00h: Kinderlauf\, 0\,5 Km</li>\n<li>15:30h: Schü
 lerlauf\, 1\,5 Km</li>\n<li>16:00h: Kirwalauf ca. 10 Km</li>\n<li>16:1
 0h: Kirwalauf ca. 4\,5 Km</li>\n<li>16:10h: Nordic Walking ca. 4\,5 Km
 </li>\n</ul>\n<p><strong>Startgeld:</strong></p>\n<ul>\n<li>Kinder-/ S
 chülerlauf      2\,00 EUR (€ 2 Nachmeldegebühr nach 02.06.)</li>\n<li>
 Kirwalauf / Nordic-Walking  8\,00 EUR (€ 2 Nachmeldegebühr nach 02.06.
 )</li>\n</ul>\n<p><strong>Startnummernausgabe:</strong></p>\n<ul>\n<li
 >14:00h  – 15:00h  im <a href=http://www.leinburger-bier.de/>Brauereih
 of Bub</a></li>\n<li>Nachmeldungen nur bis: 14:00h</li>\n</ul>\n<p><st
 rong>Siegerehrung:</strong></p>\n<ul>\n<li>ca. 18:00h im <a href=http:
 //www.leinburger-bier.de/>Brauereihof Bub</a></li>\n</ul>\n<p><strong>
 Was gibt&#8217\;s für das Startgeld?</strong></p>\n<ul>\n<li>Die 3 Sch
 nellsten jedes Rennens (Kirwalauf)\, weiblich &amp\; männlich\, erhalt
 en Sachpreise.</li>\n<li>Zudem erfolgt eine Sachpreisverlosung unter a
 llen Teilnehmern.<span style=font-family: Arial\,Helvetica\,sans-serif
 \; font-size: small\;><br>\n</span></li>\n</ul>\n<p><strong>Anmeldung:
 </strong><br>\n<br>\nbis  02.06. &#8211\; 19:00h bei:</p>\n<p style=pa
 dding-left: 60px\;>Angela Gruber<br>\nBütenstrasse 7\, 91227 Leinburg<
 br>\nTelefon: 09120 / 18 12 99<br>\nE-Mail: <a id=linkgruen href=mailt
 o:angela.gruber@t-online.de target=_blank rel=noopener noreferrer>ange
 la.gruber@t-online.de.de</a></p>\n<p>Und danach noch ein Bierchen im <
 a href=http://www.leinburger-bier.de/ target=_blank rel=noopener noref
 errer>Brauereihof</a></p>\n<p>Flyer:</p>\n<p>[wpfilebase tag=file path
 =&#8217\;lauf/leinburger-kirwalauf/20170603/20170603_Leinburger-Kirwal
 auf_Ausschreibung.pdf&#8216\; tpl=data-table /]</p>\n
URL:https://www.runningsocks.de/wordpress/terminkalender/eventsinglepa
 ge/?event_id=418&lang=de
ATTACH:https://www.runningsocks.de/wordpress/terminkalender/eventsingl
 epage/?event_id=418&lang=de
LOCATION:Brauereihof Bub\, Marktplatz 14\, Leinburg
END:VEVENT
END:VCALENDAR
