BEGIN:VCALENDAR
VERSION:2.0
METHOD:PUBLISH
PRODID:-//hacksw/handcal//NONSGML v1.0//EN
BEGIN:VEVENT
DTSTAMP:20260419T165719Z
DTSTART:20170513T150000Z
DTEND:20170513T170000Z
UID:20170513T150000Z-20170513T170000Z-419@www.runningsocks.de
SUMMARY:17. Happurger Stauseelauf
DESCRIPTION:Wie gewohnt werden diverse Kinder- und Schülerläufe\, der 
 Hobbylauf mit einer Stauseerunde sowie der Hauptlauf über 10 km verans
 taltet.\nDie Strecken:\n\n\n\nStrecke\nKlasse\nStartgeld\nStartzeit\nB
 emerkung\n\n\n400 m\nVorschulkinder\n2\,00 EUR\nab 14:45\n\n\n\n800 m\
 nU10-U12\, M/W\n4\,00 EUR\nab 15:00\n\n\n\n1\,6 Km\nU14-U16\, M/W\n4\,
 00 EUR\n15:40\n\n\n\n3\,4 Km\nHobbylauf\n6\,00 EUR\n16:15\no. Klassenw
 ertung\n\n\n10 Km\nHauptlauf\n6\,00 EUR / 8\,00 EUR\n17:00\nm. Klassen
 wertung\n\n\n\nMannschaftswertung:\n\n 	Jeweils 3 Herren bzw. 3 Damen 
 innerhalb eines Vereines/Teams bilden ein Mannschaft.\n 	Die besten Ma
 nnschaften erhalten Sachpreise.\n\nMeldeschluß:\n\n 	12.05. bzw. am We
 ttkampftag bis 2h vor jeweiligem Rennen\n 	Nachmeldegebühr: 2\,00 EUR\
 n\nWeitere Info's und Anmeldung beim Veranstalter:  SC Happurg\n\nDown
 loads / Ausschreibung:\n\n[wpfilebase tag=file path='lauf/happurger-st
 auseelauf/20170513/20170513_Happurger-Stauseelauf_Ausschreibung.pdf' /
 ]
X-ALT-DESC;FMTTYPE=text/html:<p style=text-align: center\;>Wie gewohnt
  werden diverse Kinder- und Schülerläufe\, der Hobbylauf mit einer Sta
 useerunde sowie der Hauptlauf über 10 km veranstaltet.</p>\n<p><strong
 >Die Strecken:</strong></p>\n<table border=0>\n<tbody>\n<tr><td style=
 text-align: center\;><strong>Strecke</strong></td>\n<td style=text-ali
 gn: center\;><strong>Klasse</strong></td>\n<td style=text-align: cente
 r\;><strong>Startgeld</strong></td>\n<td style=text-align: center\;><s
 trong>Startzeit</strong></td>\n<td style=text-align: center\;><strong>
 Bemerkung</strong></td></tr>\n<tr><td style=text-align: center\;>400 m
 </td>\n<td style=text-align: center\;>Vorschulkinder</td>\n<td style=t
 ext-align: center\;>2\,00 EUR</td>\n<td style=text-align: center\;>ab 
 14:45</td>\n<td style=text-align: center\;></td></tr>\n<tr><td style=t
 ext-align: center\;>800 m</td>\n<td style=text-align: center\;>U10-U12
 \, M/W</td>\n<td style=text-align: center\;>4\,00 EUR</td>\n<td style=
 text-align: center\;>ab 15:00</td>\n<td style=text-align: center\;></t
 d></tr>\n<tr><td style=text-align: center\;>1\,6 Km</td>\n<td style=te
 xt-align: center\;>U14-U16\, M/W</td>\n<td style=text-align: center\;>
 4\,00 EUR</td>\n<td style=text-align: center\;>15:40</td>\n<td style=t
 ext-align: center\;></td></tr>\n<tr><td style=text-align: center\;>3\,
 4 Km</td>\n<td style=text-align: center\;>Hobbylauf</td>\n<td style=te
 xt-align: center\;>6\,00 EUR</td>\n<td style=text-align: center\;>16:1
 5</td>\n<td style=text-align: center\;>o. Klassenwertung</td></tr>\n<t
 r><td style=text-align: center\;>10 Km</td>\n<td style=text-align: cen
 ter\;>Hauptlauf</td>\n<td style=text-align: center\;>6\,00 EUR / 8\,00
  EUR</td>\n<td style=text-align: center\;>17:00</td>\n<td style=text-a
 lign: center\;>m. Klassenwertung</td></tr>\n</tbody>\n</table>\n<p><st
 rong>Mannschaftswertung:</strong></p>\n<ul>\n<li>Jeweils 3 Herren bzw.
  3 Damen innerhalb eines Vereines/Teams bilden ein Mannschaft.</li>\n<
 li>Die besten Mannschaften erhalten Sachpreise.</li>\n</ul>\n<p><stron
 g>Meldeschluß:</strong></p>\n<ul>\n<li>12.05. bzw. am Wettkampftag bis
  2h vor jeweiligem Rennen</li>\n<li>Nachmeldegebühr: 2\,00 EUR</li>\n<
 /ul>\n<p>Weitere Info&#8217\;s und Anmeldung beim Veranstalter:  <a hr
 ef=http://www.sc-happurg.de/stauseelauf.php target=_blank rel=noopener
  noreferrer>SC Happurg</a></p>\n<p><strong>Downloads / Ausschreibung:<
 /strong><br>\n<br>\n[wpfilebase tag=file path=&#8217\;lauf/happurger-s
 tauseelauf/20170513/20170513_Happurger-Stauseelauf_Ausschreibung.pdf&#
 8216\; /]</p>\n
URL:https://www.runningsocks.de/wordpress/terminkalender/eventsinglepa
 ge/?event_id=419&lang=de
ATTACH:https://www.runningsocks.de/wordpress/terminkalender/eventsingl
 epage/?event_id=419&lang=de
LOCATION:Happurger See\, Seepromenade 1\, Happurg
END:VEVENT
END:VCALENDAR
