BEGIN:VCALENDAR
VERSION:2.0
METHOD:PUBLISH
PRODID:-//hacksw/handcal//NONSGML v1.0//EN
BEGIN:VEVENT
DTSTAMP:20260419T165231Z
DTSTART:20100520T220000Z
DTEND:20100523T220000Z
UID:20100520T220000Z-20100523T220000Z-42@www.runningsocks.de
SUMMARY:Zabo Kärwa
DESCRIPTION:Weitere Infos sowie offizielles Program auf der Seite der 
 Interessengemeinschaft Zabo\n\n\n\nVoraussichhtliche Bandauftritte (Qu
 elle: Kneipengig Newsletter )\n\n21.05.2010: Vetter-Bühne             
           Staid as Quo (R) - Status Quo Cover\n\n22.05.2010: Vetter-Bü
 hne                       Sheila's Little Sister\n\n23.05.2010: Vetter
 -Bühne                       Bite The Beagle\n\n24.05.2010: Vetter-Büh
 ne                       S.A.M. - Südstaaten-Rock
X-ALT-DESC;FMTTYPE=text/html:<p>Weitere Infos sowie offizielles Progra
 m auf der Seite der <a href=http://www.zaboaktuell.de/ target=_blank>I
 nteressengemeinschaft Zabo</a></p>\n<p><br class=spacer_ /><br>\n<br>\
 nVoraussichhtliche Bandauftritte (Quelle: <a href=http://www.blues-wil
 l-eat.de/szuthews.htm>Kneipengig Newsletter</a> )</p>\n<p>21.05.2010: 
 Vetter-Bühne                       Staid as Quo (R) &#8211\; Status Qu
 o Cover</p>\n<p>22.05.2010: Vetter-Bühne                       Sheila&
 #8217\;s Little Sister</p>\n<p>23.05.2010: Vetter-Bühne               
         Bite The Beagle</p>\n<p>24.05.2010: Vetter-Bühne              
          S.A.M. &#8211\; Südstaaten-Rock</p>\n
URL:https://www.runningsocks.de/wordpress/terminkalender/eventsinglepa
 ge/?event_id=42&lang=de
ATTACH:https://www.runningsocks.de/wordpress/terminkalender/eventsingl
 epage/?event_id=42&lang=de
LOCATION:Adam-Reitenspießplatz\, Zerzabelshofer Hauptstraße 40\, Nürnb
 erg
END:VEVENT
END:VCALENDAR
