BEGIN:VCALENDAR
VERSION:2.0
METHOD:PUBLISH
PRODID:-//hacksw/handcal//NONSGML v1.0//EN
BEGIN:VEVENT
DTSTAMP:20260419T165513Z
DTSTART:20171119T090000Z
DTEND:20171119T160000Z
UID:20171119T090000Z-20171119T160000Z-421@www.runningsocks.de
SUMMARY:3. Kulmbacher Crosstriathlon
DESCRIPTION:Nach der erfolgreichen Auftaktveranstalung 2015 trägt der 
 ASV Kulmbach auch 2017 wieder einen Cross Triathlon aus.\nGeschwommen 
 wird im Hallenbad Kulmbach. Der Start erfolgt in Wellen ab 10:00. Dana
 ch haben die Athleten Zeit\, sich auf das Radfahren (MTB) und Laufen v
 orzubereiten. Das Radfahren und Laufen findet in / und um das Stadion 
 Sportzentrum Weiher statt.\n\nAb 13:30 startet das MTB fahren. Hier si
 nd 4 Runden zu je 4Km zu bewältigen. Die Strecke führt über Asphalt\, 
 Forstwegen und Single-Trails. Man darf gespannt sein\, welche Strecken
 fühung der Veranstalter dieser Jahr ausgeheckt hat. Direkt im Anschluß
  wird auf die Laufstrecke gewechselt\, hier sind 4 Runde zu je 1\,25Km
  zu Laufen. Bei jeder Runde\, Radfahren oder Laufen\, kommt man durch 
 das Stadion\, was vor allem die Zuschauer erfreuen wird.\n\nAuf Grund 
 des frühwinterlichen Termins ist bei dieser Veranstaltung die aktuelle
  Wetterlage sicher ausschlaggebend\, für den Zieleinlauf. Bei einer Sc
 hneelage tun sich selbst Hartgesottene mit dem MTB auf Singletrails sc
 hwer.\n\nDistanzen:\n\n\n\nArt\nDistanz\nBemerkung\n\n\nSchwimmen\n0\,
 5Km\nHallenbad\n\n\nRadfahren\n16Km\n4x 4Km MTB\, bei jeder Runde durc
 hs Stadion\n\n\nLaufen\n5Km\n4x 1\,25Km\, bei jeder Runde durchs Stadi
 on\n\n\n\nZeitplan:\n\n\n\n8:00 - 9:30\nAbholung der Startunterlagen u
 nd Nachmeldungen im Hallenbad.\n\n\n10:00 - 12:00\nSchwimmstarts in We
 llen\, alle 15 Minuten ein Start\, im Hallenbad.\n\n\n13:00\nWettkampf
 besprechung in der Wechselzone.\n\n\nAb 13:15\nStartaufstellung zum MT
 B Start im Stadion Sportzentrum Weiher sowie Kontrolle der Ablauflänge
 n in der Startaufstellung bei Teilnehmern unter 18 Jahren.\n\n\nUm 13.
 30 Uhr\nMTB-Start im Stadion Sportzentrum Weiher.\n\n\nCa. 16.30 Uhr\n
 Siegerehrung mit Tombola im Sportzentrum Weiher.\n\n\n\nStartgebühr:\n
 \n\n\nCross-Triathlon Einzel (500m – 16km – 5km):\n19\,00 Euro\n\n\nCr
 oss-Triathlon Staffel (500m – 16km – 5km):\n24\,00 Euro\n\n\n\nAnmeldu
 ng:\n\nOnline\, per Mail\, per Fax mittels Anmeldeformular bis 18.11.\
 n\nNachmeldung:\n\nAm 19.11. von 08:30 - 09:30 vor Ort. Nachmeldegebüh
 r: 5 EUR\n\nTeilnehmerlimit:\n\n200 Starter\n\nAlle Daten und Informat
 ionen ohne Gewähr. Aktuelle Informationen und Onlineanmeldung deriekt 
 beim Veranstalter: ASV Kulmbach\n\nAusschreibung:\n\n[wpfilebase tag=f
 ile path='triathlon/kulmbacher-crosstriathlon/20171119/20171119_Kulmba
 cherCrossTriathlon_Ausschreibung.pdf' /]
X-ALT-DESC;FMTTYPE=text/html:<p style=text-align: center\;>Nach der er
 folgreichen Auftaktveranstalung 2015 trägt der ASV Kulmbach auch 2017 
 wieder einen Cross Triathlon aus.</p>\n<p>Geschwommen wird im Hallenba
 d Kulmbach. Der Start erfolgt in Wellen ab 10:00. Danach haben die Ath
 leten Zeit\, sich auf das Radfahren (MTB) und Laufen vorzubereiten. Da
 s Radfahren und Laufen findet in / und um das Stadion Sportzentrum Wei
 her statt.</p>\n<p>Ab 13:30 startet das MTB fahren. Hier sind 4 Runden
  zu je 4Km zu bewältigen. Die Strecke führt über Asphalt\, Forstwegen 
 und Single-Trails. Man darf gespannt sein\, welche Streckenfühung der 
 Veranstalter dieser Jahr ausgeheckt hat. Direkt im Anschluß wird auf d
 ie Laufstrecke gewechselt\, hier sind 4 Runde zu je 1\,25Km zu Laufen.
  Bei jeder Runde\, Radfahren oder Laufen\, kommt man durch das Stadion
 \, was vor allem die Zuschauer erfreuen wird.</p>\n<p>Auf Grund des &#
 8222\;frühwinterlichen&#8220\; Termins ist bei dieser Veranstaltung di
 e aktuelle Wetterlage sicher ausschlaggebend\, für den Zieleinlauf. Be
 i einer Schneelage tun sich selbst Hartgesottene mit dem MTB auf Singl
 etrails schwer.</p>\n<p><strong>Distanzen</strong>:</p>\n<table class=
  aligncenter>\n<tbody>\n<tr><td style=text-align: center\;>Art</td>\n<
 td style=text-align: center\;>Distanz</td>\n<td style=text-align: cent
 er\;>Bemerkung</td></tr>\n<tr><td style=text-align: center\;>Schwimmen
 </td>\n<td style=text-align: center\;>0\,5Km</td>\n<td>Hallenbad</td><
 /tr>\n<tr><td style=text-align: center\;>Radfahren</td>\n<td style=tex
 t-align: center\;>16Km</td>\n<td>4x 4Km MTB\, bei jeder Runde durchs S
 tadion</td></tr>\n<tr><td style=text-align: center\;>Laufen</td>\n<td 
 style=text-align: center\;>5Km</td>\n<td>4x 1\,25Km\, bei jeder Runde 
 durchs Stadion</td></tr>\n</tbody>\n</table>\n<p><strong>Zeitplan</str
 ong>:</p>\n<table border=0 width=700 cellspacing=2 cellpadding=0>\n<tb
 ody>\n<tr><td valign=top width=300>8:00 &#8211\; 9:30</td>\n<td>Abholu
 ng der Startunterlagen und Nachmeldungen im Hallenbad.</td></tr>\n<tr>
 <td valign=top>10:00 &#8211\; 12:00</td>\n<td>Schwimmstarts in Wellen\
 , alle 15 Minuten ein Start\, im Hallenbad.</td></tr>\n<tr><td valign=
 top>13:00</td>\n<td>Wettkampfbesprechung in der Wechselzone.</td></tr>
 \n<tr><td valign=top>Ab 13:15</td>\n<td>Startaufstellung zum MTB Start
  im Stadion Sportzentrum Weiher sowie Kontrolle der Ablauflängen in de
 r Startaufstellung bei Teilnehmern unter 18 Jahren.</td></tr>\n<tr><td
  valign=top>Um 13.30 Uhr</td>\n<td>MTB-Start im Stadion Sportzentrum W
 eiher.</td></tr>\n<tr><td valign=top>Ca. 16.30 Uhr</td>\n<td>Siegerehr
 ung mit Tombola im Sportzentrum Weiher.</td></tr>\n</tbody>\n</table>\
 n<p><strong>Startgebühr</strong>:</p>\n<table border=0 width=700 cells
 pacing=2 cellpadding=0>\n<tbody>\n<tr><td valign=top width=450>Cross-T
 riathlon Einzel (500m – 16km – 5km):</td>\n<td>19\,00 Euro</td></tr>\n
 <tr><td valign=top>Cross-Triathlon Staffel (500m – 16km – 5km):</td>\n
 <td>24\,00 Euro</td></tr>\n</tbody>\n</table>\n<p><strong>Anmeldung</s
 trong>:</p>\n<p>Online\, per Mail\, per Fax mittels Anmeldeformular bi
 s 18.11.</p>\n<p><strong>Nachmeldung:</strong><br>\n<br>\nAm 19.11. vo
 n 08:30 &#8211\; 09:30 vor Ort. Nachmeldegebühr: 5 EUR</p>\n<p><strong
 >Teilnehmerlimit</strong>:</p>\n<p>200 Starter</p>\n<p>Alle Daten und 
 Informationen ohne Gewähr. Aktuelle Informationen und Onlineanmeldung 
 deriekt beim Veranstalter: <a href=http://ausdauersport-kulmbach.de/ t
 arget=_blank rel=noopener>ASV Kulmbach</a></p>\n<p>Ausschreibung:</p>\
 n<p>[wpfilebase tag=file path=&#8217\;triathlon/kulmbacher-crosstriath
 lon/20171119/20171119_KulmbacherCrossTriathlon_Ausschreibung.pdf&#8216
 \; /]</p>\n
URL:https://www.runningsocks.de/wordpress/terminkalender/eventsinglepa
 ge/?event_id=421&lang=de
ATTACH:https://www.runningsocks.de/wordpress/terminkalender/eventsingl
 epage/?event_id=421&lang=de
LOCATION:Hallenbad Kulmbach\, Hardenbergstraße 41\, Kulmbach
END:VEVENT
END:VCALENDAR
