BEGIN:VCALENDAR
VERSION:2.0
METHOD:PUBLISH
PRODID:-//hacksw/handcal//NONSGML v1.0//EN
BEGIN:VEVENT
DTSTAMP:20260419T165618Z
DTSTART:20171231T120000Z
DTEND:20171231T140000Z
UID:20171231T120000Z-20171231T140000Z-422@www.runningsocks.de
SUMMARY:15. Nürnberger Silvesterlauf
DESCRIPTION:Liebe Läuferinnen und Läufer des letztjährigen Silvesterla
 ufs\, es ist wieder soweit. Ab 2. 10. ist die Online-Anmeldung zum Nür
 nberger Silvesterlauf geöffnet.\nBis 18.11. gibt es Frühbucher Rabatte
 \, also schnell zuschlagen und nicht vergessen.  Erfahrungsgemäß ist d
 er Lauf schon vor Ende der Anmeldefrist ausgebucht (Teilnehmerlimit: 1
 317). Von der Startgebühr wird ein Teil gespendet:\n0\,50 € der Startg
 ebühr gehen als Spende an die Wärmestube der Caritas und der Stadtmiss
 ion Nürnberg.\nStart und Ziel:\n\nBeim Café Seehaus auf dem Johann-Soe
 rgel-Weg direkt vor dem neuen Steg am Wöhrder See\n\nAnmelde\,- Startg
 ebühren:\n\nFrühbucherrabatt bis 18.11.\n10 km Hauptlauf: 15€\n5 km Ho
 bbylauf: 10 €\nBambini und Schülerlauf: 4 €\n\nNormalpreis ab 19.11.\n
 10 km Hauptlauf: 20 €\n5 km Hobbylauf: 13 €\nBambini und Schülerlauf: 
 4 €\n\nNachmeldungen ab 16.12.\n(sofern noch Plätze vorhanden)\n10 km 
 Hauptlauf: 25 €\n5 km Hobbylauf: 15 €\nBambini und Schülerlauf: 4 €\n\
 nEin Funktionsshirt kann für 15 EUR zusätzlich bei der Anmeldung beste
 llt werden (solange Vorrat reicht)\nZeitplan:\n10:45 Uhr: Start 400 m 
 Bambinilauf\n11:00 Uhr: Start 1600 m Schülerlauf\n11:15 Uhr: Siegerehr
 ung Bambinilauf\n11:30 Uhr: Start 5 km Hobbylauf\n12:15 Uhr: Siegerehr
 ung Schüler- und Hobbylauf\n13:00 Uhr: Start 10 km Hauptlauf\n14:30 Uh
 r: Siegerehrung Hauptlauf und Teamcup\n\nGutmann Team Cup:\n\nAuch die
 ses Jahr gibt es wieder den Gutmann Team Cup.  Beim 10-km-Hauptlauf we
 rden alle Teams gewertet\, die mit gleichem Vereins- oder Gruppennamen
  (bitte bei der Online-Anmeldung unbedingt auf gleiche Bezeichnung ach
 ten!) eingetragen sind. Gewertet werden alle Teams mit den Zeiten der 
 fünf bestplatzierten Finisher. Die Wertung erfolgt immer als Mixed-Wer
 tung\, d.h. es erfolgt keine getrennte Frauen- und Männerwertung.\n\nA
 usschreibung\, Veranstalter\, Anmeldung:\n\nAusschreibung: direkt beim
  Veranstalter oder hier:\n\n[wpfilebase tag=file path='lauf/silvesterl
 auf-nuernberg/20171231/20171231_SilvesterlaufNuernberg_Ausschreibung.p
 df' /]\n\nOnline Anmeldung: direkt beim Veranstalter\n\nWeitere\, aktu
 elle Info's und Anmeldung beim Veranstalter:\n\nTeam Klinikum Nürnberg
  e. V.
X-ALT-DESC;FMTTYPE=text/html:<p style=text-align: center\;>Liebe Läufe
 rinnen und Läufer des letztjährigen Silvesterlaufs\, es ist wieder sow
 eit. Ab 2. 10. ist die Online-Anmeldung zum Nürnberger Silvesterlauf g
 eöffnet.</p>\n<p>Bis 18.11. gibt es Frühbucher Rabatte\, also schnell 
 zuschlagen und nicht vergessen.  Erfahrungsgemäß ist der Lauf schon vo
 r Ende der Anmeldefrist ausgebucht (Teilnehmerlimit: 1317). Von der St
 artgebühr wird ein Teil gespendet:</p>\n<p style=text-align: center\;>
 0\,50 € der Startgebühr gehen als Spende an die Wärmestube der Caritas
  und der Stadtmission Nürnberg.</p>\n<p><span style=text-decoration: u
 nderline\;><strong>Start und Ziel:</strong></span><br>\n<br>\nBeim Caf
 é Seehaus auf dem Johann-Soergel-Weg direkt vor dem neuen Steg am Wöhr
 der See</p>\n<p><span style=text-decoration: underline\;><strong>Anmel
 de\,- Startgebühren:</strong></span></p>\n<p><strong>Frühbucherrabatt 
 bis 18.11.</strong><br>\n10 km Hauptlauf: 15€<br>\n5 km Hobbylauf: 10 
 €<br>\nBambini und Schülerlauf: 4 €</p>\n<p><strong>Normalpreis ab 19.
 11.<br>\n</strong>10 km Hauptlauf: 20 €<br>\n5 km Hobbylauf: 13 €<br>\
 nBambini und Schülerlauf: 4 €</p>\n<p><strong>Nachmeldungen ab 16.12.<
 br>\n(sofern noch Plätze vorhanden)<br>\n</strong>10 km Hauptlauf: 25 
 €<br>\n5 km Hobbylauf: 15 €<br>\nBambini und Schülerlauf: 4 €</p>\n<p>
 Ein Funktionsshirt kann für 15 EUR zusätzlich bei der Anmeldung bestel
 lt werden (solange Vorrat reicht)</p>\n<h3>Zeitplan:</h3>\n<p>10:45 Uh
 r: Start 400 m Bambinilauf<br>\n11:00 Uhr: Start 1600 m Schülerlauf<br
 >\n11:15 Uhr: Siegerehrung Bambinilauf<br>\n11:30 Uhr: Start 5 km Hobb
 ylauf<br>\n12:15 Uhr: Siegerehrung Schüler- und Hobbylauf<br>\n13:00 U
 hr: Start 10 km Hauptlauf<br>\n14:30 Uhr: Siegerehrung Hauptlauf und T
 eamcup</p>\n<p><span style=text-decoration: underline\;><strong>Gutman
 n Team Cup:</strong></span><br>\n<br>\nAuch dieses Jahr gibt es wieder
  den Gutmann Team Cup.  Beim 10-km-Hauptlauf werden alle Teams gewerte
 t\, die mit gleichem Vereins- oder Gruppennamen (bitte bei der Online-
 Anmeldung unbedingt auf gleiche Bezeichnung achten!) eingetragen sind.
  Gewertet werden alle Teams mit den Zeiten der fünf bestplatzierten Fi
 nisher. Die Wertung erfolgt immer als Mixed-Wertung\, d.h. es erfolgt 
 keine getrennte Frauen- und Männerwertung.</p>\n<p><strong><span style
 =text-decoration: underline\;>Ausschreibung\, Veranstalter\, Anmeldung
 :</span></strong><br>\n<br>\nAusschreibung: <a href=https://team-klini
 kum-nuernberg.de/silvesterlauf/ausschreibung target=_blank rel=noopene
 r>direkt beim Veranstalter</a> oder hier:</p>\n<p>[wpfilebase tag=file
  path=&#8217\;lauf/silvesterlauf-nuernberg/20171231/20171231_Silvester
 laufNuernberg_Ausschreibung.pdf&#8216\; /]</p>\n<p>Online Anmeldung: <
 a href=http://www.chipzeit.de/anmeldungen/2017123101/ target=_blank re
 l=noopener>direkt beim Veranstalter</a></p>\n<p>Weitere\, aktuelle Inf
 o&#8217\;s und Anmeldung beim Veranstalter:</p>\n<p><a href=http://www
 .silvesterlauf-nuernberg.de/ target=_blank rel=noopener>Team Klinikum 
 Nürnberg e. V.</a></p>\n
URL:https://www.runningsocks.de/wordpress/terminkalender/eventsinglepa
 ge/?event_id=422&lang=de
ATTACH:https://www.runningsocks.de/wordpress/terminkalender/eventsingl
 epage/?event_id=422&lang=de
LOCATION:Cafe Seehaus\, Veilhofstr. 38\,\, Nürnberg
END:VEVENT
END:VCALENDAR
