BEGIN:VCALENDAR
VERSION:2.0
METHOD:PUBLISH
PRODID:-//hacksw/handcal//NONSGML v1.0//EN
BEGIN:VEVENT
DTSTAMP:20260419T165615Z
DTSTART:20171112T090000Z
DTEND:20171112T110000Z
UID:20171112T090000Z-20171112T110000Z-423@www.runningsocks.de
SUMMARY:Nürnberger Winterlaufserie 2017-2018\, Lauf 1
DESCRIPTION:Rund um den Dutzendteich\, im Herzen Nürnbergs gelegen\, f
 indet von November bis Februar die Nürnberger Winterlaufserie statt. V
 eranstaltet von Sissy Baumann's runningConcepts\, werden drei Läufe\, 
 mit jeweils zwei Strecken pro Lauf angeboten.\nDatum der Läufe:\n\n\n 
 	Lauf 1: 12.11.2017\n 	Lauf 2: 13.01.2018\n 	Lauf 3: 04.02.2018\n\nSta
 rt für alle Läufe : \n\n\n 	10:00 Uhr\n\nStrecken:\n\n\n 	Lauf 1: 5Km 
 / 10Km\n 	Lauf 2: 10Km / 15Km\n 	Lauf 3: 10Km / 20Km\n 	Wertung für di
 e Winterlaufserie: Lauf 1: 10Km / Lauf 2: 15Km / Lauf 3: 20Km\n\nStart
 gelder: \n\n 	Lauf 1 - 5Km: 8 € / Lauf 1 - 10Km: 15 €\n 	Lauf 2 - 10Km
 : 13 € / Lauf 2 - 15Km: 18 €\n 	Lauf 3 - 10Km: 15 € / Lauf 3 - 20Km: 2
 0 €\n 	Alle 3 Läufe der Serie: 45 € (alle 3 Läufe müssen zu Beginn der
  Serie gebucht werden\, ansonsten Zahlung der Einzel-Startgebühren)\n\
 nAnmeldeschluß: \n\n 	Lauf 1: 10.11. / Nachmeldungen ab 11.11.\, am St
 arttag bis 1h vor dem Start: 3 €\n 	Lauf 2: 11.01 / Nachmeldungen ab 1
 2.01.\, am Starttag bis 1h vor dem Start: 3 €\n 	Lauf 3: 02.02. / Nach
 meldungen ab 03.02.\, am Starttag bis 1h vor dem Start: 3 €\n\nAlle we
 itere Infos und Online Anmeldung Lauf 1 auf der Seite des Veranstalter
 s: runningConcepts
X-ALT-DESC;FMTTYPE=text/html:<p style=text-align: justify\;>Rund um de
 n Dutzendteich\, im Herzen Nürnbergs gelegen\, findet von November bis
  Februar die Nürnberger Winterlaufserie statt. Veranstaltet von Sissy 
 Baumann&#8217\;s runningConcepts\, werden drei Läufe\, mit jeweils zwe
 i Strecken pro Lauf angeboten.</p>\n<p style=text-align: justify\;><st
 rong>Datum der Läufe:</strong></p>\n<ul>\n<li style=text-align: justif
 y\;>Lauf 1: 12.11.2017</li>\n<li style=text-align: justify\;>Lauf 2: 1
 3.01.2018</li>\n<li style=text-align: justify\;>Lauf 3: 04.02.2018</li
 >\n</ul>\n<p style=text-align: justify\;><strong>Start für alle Läufe 
 : </strong></p>\n<ul>\n<li style=text-align: left\;>10:00 Uhr</li>\n</
 ul>\n<p style=text-align: justify\;><strong>Strecken:</strong></p>\n<u
 l>\n<li style=text-align: left\;>Lauf 1: 5Km / 10Km</li>\n<li style=te
 xt-align: left\;>Lauf 2: 10Km / 15Km</li>\n<li style=text-align: left\
 ;>Lauf 3: 10Km / 20Km</li>\n<li style=text-align: left\;>Wertung für d
 ie Winterlaufserie: Lauf 1: <strong>10Km</strong> / Lauf 2: <strong>15
 Km</strong> / Lauf 3: <strong>20Km</strong></li>\n</ul>\n<p><strong>St
 artgelder: </strong></p>\n<ul>\n<li>Lauf 1 &#8211\; 5Km: <strong>8 €</
 strong> / Lauf 1 &#8211\; 10Km: <strong>15 €</strong></li>\n<li>Lauf 2
  &#8211\; 10Km: <strong>13 €</strong> / Lauf 2 &#8211\; 15Km: <strong>
 18 €</strong></li>\n<li>Lauf 3 &#8211\; 10Km: <strong>15 €</strong> / 
 Lauf 3 &#8211\; 20Km:<strong> 20 €</strong></li>\n<li>Alle 3 Läufe der
  Serie: <strong>45 € </strong>(alle 3 Läufe müssen zu Beginn der Serie
  gebucht werden\, ansonsten Zahlung der Einzel-Startgebühren)</li>\n</
 ul>\n<p><strong>Anmeldeschluß: </strong></p>\n<ul>\n<li>Lauf 1: 10.11.
  / Nachmeldungen ab 11.11.\, am Starttag bis 1h vor dem Start: 3 €</li
 >\n<li>Lauf 2: 11.01 / Nachmeldungen ab 12.01.\, am Starttag bis 1h vo
 r dem Start: 3 €</li>\n<li>Lauf 3: 02.02. / Nachmeldungen ab 03.02.\, 
 am Starttag bis 1h vor dem Start: 3 €</li>\n</ul>\n<p style=text-align
 : left\;>Alle weitere Infos und <a href=http://my5.raceresult.com/7931
 7/registration?lang=de target=_blank rel=noopener>Online Anmeldung Lau
 f 1</a> auf der Seite des Veranstalters: <a href=http://runningconcept
 s.de/winterlaeufe.htm>runningConcepts</a></p>\n
URL:https://www.runningsocks.de/wordpress/terminkalender/eventsinglepa
 ge/?event_id=423&lang=de
ATTACH:https://www.runningsocks.de/wordpress/terminkalender/eventsingl
 epage/?event_id=423&lang=de
LOCATION:Gutmann am Dutzendteich\, Bayernstraße 150\, Nürnberg
END:VEVENT
END:VCALENDAR
