BEGIN:VCALENDAR
VERSION:2.0
METHOD:PUBLISH
PRODID:-//hacksw/handcal//NONSGML v1.0//EN
BEGIN:VEVENT
DTSTAMP:20260419T165211Z
DTSTART:20171209T090000Z
DTEND:20171209T120000Z
UID:20171209T090000Z-20171209T120000Z-426@www.runningsocks.de
SUMMARY:15. Run & Bike Ungerthal
DESCRIPTION:Zwei Läufer teilen sich ein Fahrrad. Dabei darf der Abstan
 d zwischen dem Läufer und dem Radfahrer niemals mehr als 10 Meter betr
 agen. Das “Paar” kann sich beliebig jederzeit abwechseln.\nACHTUNG: Al
 le Daten und Termin sind noch unbestätigt !!\n\n\n\n\nStart:\n10.00 Uh
 r\, Waldparkplatz im Ungerthal\n\n\nStrecke:\nWellige\, vom öffentlich
 en Verkehr\ngeschlossene Waldwege\, ca. 17 km\n\n\nKlasseneinteilung:\
 nMänner\, Frauen und gemischte Paare\n\n\nOrganisationsbeitrag:\n15\,0
 0€ pro Paar\n\n\nAnmeldung:\nHier klicken\n\n\nNachmeldung:\nVor Ort\,
  ab 08 Uhr\, 20\,00€ pro Paar\n\n\nSonstiges:\nKuchenbuffet\, Grillen\
 ,Getränke im\nZielraum\, sowie ein Lagerfeuer.\n(keine Duschmöglichkei
 ten)\n\n\nSiegerehrung:\nCa. 1/2 Std. nach dem letzten\nZieleinlauf\n\
 n\nOrganisation:\nfun-race.org\n\n\n\nQuelle: www.fun-race.org\n\nAuss
 chreibung:\n\n 	Folgt\, sobald verfügbar
X-ALT-DESC;FMTTYPE=text/html:<p>Zwei Läufer teilen sich ein Fahrrad. D
 abei darf der Abstand zwischen dem Läufer und dem Radfahrer niemals me
 hr als 10 Meter betragen. Das “Paar” kann sich beliebig jederzeit abwe
 chseln.</p>\n<p style=text-align: center\;><span style=color: #ff0000\
 ;><strong>ACHTUNG: Alle Daten und Termin sind noch unbestätigt !!</str
 ong></span></p>\n<table style=border: 1px solid #b0c4de\; width: 384px
 \; height: 236px\; border=1 frame=void rules=all align=center>\n<tbody
 >\n<tr><td><span style=font-size: small\;>Start:</span></td>\n<td><spa
 n style=font-size: small\;>10.00 Uhr\, Waldparkplatz im Ungerthal</spa
 n></td></tr>\n<tr><td><span style=font-size: small\;>Strecke:</span></
 td>\n<td><span style=font-size: small\;>Wellige\, vom öffentlichen Ver
 kehr<br>\ngeschlossene Waldwege\, ca. 17 km</span></td></tr>\n<tr><td>
 <span style=font-size: small\;>Klasseneinteilung:</span></td>\n<td><sp
 an style=font-size: small\;>Männer\, Frauen und gemischte Paare</span>
 </td></tr>\n<tr><td><span style=font-size: small\;>Organisationsbeitra
 g:</span></td>\n<td><span style=font-size: small\;>15\,00€ pro Paar</s
 pan></td></tr>\n<tr><td><span style=font-size: small\;>Anmeldung:</spa
 n></td>\n<td><span style=font-size: small\;><a href=http://www.fun-rac
 e.org/termine target=_blank rel=noopener>Hier klicken</a></span></td><
 /tr>\n<tr><td><span style=font-size: small\;>Nachmeldung:</span></td>\
 n<td><span style=font-size: small\;>Vor Ort\, ab 08 Uhr\, 20\,00€ pro 
 Paar</span></td></tr>\n<tr><td><span style=font-size: small\;>Sonstige
 s:</span></td>\n<td><span style=font-size: small\;>Kuchenbuffet\, Gril
 len\,Getränke im<br>\nZielraum\, sowie ein Lagerfeuer.<br>\n(keine Dus
 chmöglichkeiten)</span></td></tr>\n<tr><td><span style=font-size: smal
 l\;>Siegerehrung:</span></td>\n<td><span style=font-size: small\;>Ca. 
 1/2 Std. nach dem letzten<br>\nZieleinlauf</span></td></tr>\n<tr><td><
 span style=font-size: small\;>Organisation:</span></td>\n<td><a href=h
 ttp://www.fun-race.org/willkommen/ target=_blank rel=noopener><span st
 yle=font-size: small\;>fun-race.org</span></a></td></tr>\n</tbody>\n</
 table>\n<p>Quelle: <a href=http://www.fun-race.org/ target=_blank rel=
 noopener>www.fun-race.org</a></p>\n<p>Ausschreibung:</p>\n<ul>\n<li>Fo
 lgt\, sobald verfügbar</li>\n</ul>\n
URL:https://www.runningsocks.de/wordpress/terminkalender/eventsinglepa
 ge/?event_id=426&lang=de
ATTACH:https://www.runningsocks.de/wordpress/terminkalender/eventsingl
 epage/?event_id=426&lang=de
LOCATION:Waldparkplatz im Ungerthal\, Ungerthaler Straße\, Büchenbach
END:VEVENT
END:VCALENDAR
