BEGIN:VCALENDAR
VERSION:2.0
METHOD:PUBLISH
PRODID:-//hacksw/handcal//NONSGML v1.0//EN
BEGIN:VEVENT
DTSTAMP:20260419T165513Z
DTSTART:20180128T090000Z
DTEND:20180128T120000Z
UID:20180128T090000Z-20180128T120000Z-427@www.runningsocks.de
SUMMARY:58. Prellsteinrennen
DESCRIPTION:Ein wahrlich harter\, 12Km langer  Crosslauf über Felder W
 iesen\, Wege und Steige zwischen Neutras\, Heuchling\, Bürtel und Hirs
 chbachtal. Gestartet wird bei jeder Witterung\; je nach Schneelage sin
 d auch Langlaufski die bessere Wahl (und vor allem erlaubt). Die Herau
 sforderung im Januar !!\nDas Rennen:\nDas Prellsteinrennen ist ein Man
 nschaftslauf. Eine Mannschaft besteht aus 3 Läufern. Die zwei besten Z
 eiten werden gewertet\, aber alle drei Läufer müssen das Ziel erreiche
 n und die Kontrollstellen passieren.\n\nDas Prellsteinrennen wird als 
 Crosslauf ausgetragen. Bei guter Schneelage kann auch mit Langlaufski 
 gelaufen werden. Es können Mannschaften mit Cross- und Skiläufern gebi
 ldet werden. Weiter können Damen und Herren eine Mannschaft bilden. Di
 e Läufer mit Skiern starten mit einer Zeitvorgabe vor den Crossläufern
 .\n\nDer Start der Mannschaften erfolgt mit einem Zeitabstand von eine
 r Minute.\nStartgebühr:\n\n 	33 € / Mannschaft (also 11 € je Person)\n
  	Nachmeldung: 39 € / Mannschaft (also 13 € je Person)\n\nWertungen:\n
 \n\n\n 	Mannschaftswertung Männer- bzw. gemischte Mannschaften\n 	Mann
 schaftswertung reine Frauenmannschaften\n 	Einzelwertung nach Alterskl
 assen M/W für alle Finisher\n\nAnmeldungen:\n\n 	Online Anmeldung bis 
 15.01. Danach nur noch vor Ort am Veranstaltungstag bis 09:15\n\n\n\nW
 eitere Info:\nDie letztes Jahr noch angebotenen Strecken über 4Km (Wal
 king und Gaudilauf) wurden wieder aus dem Programm genommen. Alles wei
 tere sh. Homepage des Ausrichters. Seit 2015 wird die Ausrichtung des 
 Prellsteinrennens vom MTP Hersbruck durchgeführt. Info und Anmeldung u
 nter: www.prellsteinrennen.de
X-ALT-DESC;FMTTYPE=text/html:<p>Ein wahrlich harter\, 12Km langer  Cro
 sslauf über Felder Wiesen\, Wege und Steige zwischen Neutras\, Heuchli
 ng\, Bürtel und Hirschbachtal. Gestartet wird bei jeder Witterung\; je
  nach Schneelage sind auch Langlaufski die bessere Wahl (und vor allem
  erlaubt). Die Herausforderung im Januar !!</p>\n<h4>Das Rennen:</h4>\
 n<p>Das Prellsteinrennen ist ein Mannschaftslauf. Eine Mannschaft best
 eht aus 3 Läufern. Die zwei besten Zeiten werden gewertet\, aber alle 
 drei Läufer müssen das Ziel erreichen und die Kontrollstellen passiere
 n.</p>\n<p>Das Prellsteinrennen wird als Crosslauf ausgetragen. Bei gu
 ter Schneelage kann auch mit Langlaufski gelaufen werden. Es können Ma
 nnschaften mit Cross- und Skiläufern gebildet werden. Weiter können Da
 men und Herren eine Mannschaft bilden. Die Läufer mit Skiern starten m
 it einer Zeitvorgabe vor den Crossläufern.</p>\n<p>Der Start der Manns
 chaften erfolgt mit einem Zeitabstand von einer Minute.</p>\n<h4>Start
 gebühr:</h4>\n<ul>\n<li>33 € / Mannschaft (also 11 € je Person)</li>\n
 <li>Nachmeldung: 39 € / Mannschaft (also 13 € je Person)</li>\n</ul>\n
 <h4>Wertungen:</h4>\n<section class=av_textblock_section>\n<div class=
 avia_textblock >\n<ul>\n<li>Mannschaftswertung Männer- bzw. gemischte 
 Mannschaften</li>\n<li>Mannschaftswertung reine Frauenmannschaften</li
 >\n<li>Einzelwertung nach Altersklassen M/W für alle Finisher</li>\n</
 ul>\n<h4>Anmeldungen:</h4>\n<ul>\n<li>Online Anmeldung bis 15.01. Dana
 ch nur noch vor Ort am Veranstaltungstag bis 09:15</li>\n</ul>\n</div>
 \n</section>\n<h4>Weitere Info:</h4>\n<p>Die letztes Jahr noch angebot
 enen Strecken über 4Km (Walking und Gaudilauf) wurden wieder aus dem P
 rogramm genommen. Alles weitere sh. Homepage des Ausrichters. Seit 201
 5 wird die Ausrichtung des Prellsteinrennens vom MTP Hersbruck durchge
 führt. Info und <a href=http://prellsteinrennen.de/anmeldung/ target=_
 blank rel=noopener>Anmeldung</a> unter: <a href=http://prellsteinrenne
 n.de/ target=_blank rel=noopener>www.prellsteinrennen.de</a></p>\n
URL:https://www.runningsocks.de/wordpress/terminkalender/eventsinglepa
 ge/?event_id=427&lang=de
ATTACH:https://www.runningsocks.de/wordpress/terminkalender/eventsingl
 epage/?event_id=427&lang=de
LOCATION:Gasthof zum Neutrasfelsen\, Neutras 5\, Etzelwang
END:VEVENT
END:VCALENDAR
