BEGIN:VCALENDAR
VERSION:2.0
METHOD:PUBLISH
PRODID:-//hacksw/handcal//NONSGML v1.0//EN
BEGIN:VEVENT
DTSTAMP:20260419T165736Z
DTSTART:20180317T090000Z
DTEND:20180317T160000Z
UID:20180317T090000Z-20180317T160000Z-428@www.runningsocks.de
SUMMARY:18. Erlanger Winterwaldlauf
DESCRIPTION:Strecke:\n\nEbene Rundkurse durch Waldgebiet Brucker Lache
  auf gut belaufbaren Waldwegen mit km-Schildern\; Start und Ziel am Pf
 arrzentrum St. Marien\n\nIn Kürze:\n\n\n\nLauf\nStreckenlänge\nStartze
 it\nStartgebühr €\n\n\nSBK Walking\n5 oder 10 km\n10:00\n5\,00\n\n\nTr
 ail-Lauf\n7\,5Km\n10:00\n10\,00**\n\n\nBambini\n0\,3Km\n11:30\n-\n\n\n
 Schülerinnen\, U10 *\n1\,0Km\n11:45\n-\n\n\nSchüler\, U10 *\n1\,0Km\n1
 2:00\n-\n\n\nSchülerInnen\, U12 + U14 *\n1\,7Km\n12:15\n-\n\n\nAllianz
  Jugendlauf (U16 - U20)\n5Km\n13:00\n-\n\n\nSparkassenlauf\n15 km\n13:
 00\n14\,00**\n\n\nSiemenslauf\n10 Km\n15:00\n12\,00**\n\n\nEisertstaff
 el\n2 x 5Km\n15:00\n16\,00**\n\n\n*Lauf um den Jonny Pokal\n\n** 2\,00
  € Bonus auf Anmeldungen bis 25.02.\n\n\n\nAnmeldung\, Nachmeldung:\n\
 nBis 11.03. Online\, Nachmeldungen + 5 €\, ebenso Ummeldungen 5 € ab 2
 5.02.\n\nNachmeldungen sowie Ausgabe Startunterlagen am 16.03. zwische
 n 12:30 - 17:00 bei Intersport Eisert Erlangen\, und am Wettkampftag i
 m Wettkampfbüro.\n\nStartunterlagen:\n\n 	Am 16.03. zwischen 12:30 - 1
 7:00 bei Intersport Eisert Erlangen\n 	Am Wettkampftag\, Grundschule '
 Brucker Lache'\, Zeißstraße 51\, ab 9:00\n\nSosntiges:\n\nAktuelle Inf
 o's sowie Online Anmeldung auf der Seite des Veranstalters: SGS Leicht
 athletik\n\nTeilnehmerlimit: 1200
X-ALT-DESC;FMTTYPE=text/html:<p><strong>Strecke:</strong><br>\n<br>\nE
 bene Rundkurse durch Waldgebiet &#8222\;Brucker Lache&#8220\; auf gut 
 belaufbaren Waldwegen mit km-Schildern\; Start und Ziel am Pfarrzentru
 m St. Marien</p>\n<p><span style=text-decoration: underline\;><strong>
 In Kürze:</strong></span></p>\n<table border=0 align=center>\n<tbody>\
 n<tr><td><strong>Lauf</strong></td>\n<td style=text-align: center\;><s
 trong>Streckenlänge</strong></td>\n<td style=text-align: center\;><str
 ong>Startzeit</strong></td>\n<td style=text-align: center\;><strong>St
 artgebühr €</strong></td></tr>\n<tr><td><strong>SBK Walking</strong></
 td>\n<td style=text-align: center\;>5 oder 10 km</td>\n<td style=text-
 align: center\;>10:00</td>\n<td style=text-align: center\;>5\,00</td><
 /tr>\n<tr><td><strong>Trail-Lauf</strong></td>\n<td style=text-align: 
 center\;>7\,5Km</td>\n<td style=text-align: center\;>10:00</td>\n<td s
 tyle=text-align: center\;>10\,00**</td></tr>\n<tr><td><strong>Bambini<
 /strong></td>\n<td style=text-align: center\;>0\,3Km</td>\n<td style=t
 ext-align: center\;>11:30</td>\n<td style=text-align: center\;>&#8211\
 ;</td></tr>\n<tr><td><strong><strong>Schülerinnen\, U10 *</strong></st
 rong></td>\n<td style=text-align: center\;>1\,0Km</td>\n<td style=text
 -align: center\;>11:45</td>\n<td style=text-align: center\;>&#8211\;</
 td></tr>\n<tr><td><strong><strong>Schüler\, U10 *</strong></strong></t
 d>\n<td style=text-align: center\;>1\,0Km</td>\n<td style=text-align: 
 center\;>12:00</td>\n<td style=text-align: center\;>&#8211\;</td></tr>
 \n<tr><td><strong><strong>SchülerInnen\, U12 + U14 *</strong></strong>
 </td>\n<td style=text-align: center\;>1\,7Km</td>\n<td style=text-alig
 n: center\;>12:15</td>\n<td style=text-align: center\;>&#8211\;</td></
 tr>\n<tr><td><strong>Allianz Jugendlauf (U16 &#8211\; U20)</strong></t
 d>\n<td style=text-align: center\;>5Km</td>\n<td style=text-align: cen
 ter\;>13:00</td>\n<td style=text-align: center\;>&#8211\;</td></tr>\n<
 tr><td><strong>Sparkassenlauf</strong></td>\n<td style=text-align: cen
 ter\;>15 km</td>\n<td style=text-align: center\;>13:00</td>\n<td style
 =text-align: center\;>14\,00**</td></tr>\n<tr><td><strong>Siemenslauf<
 /strong></td>\n<td style=text-align: center\;>10 Km</td>\n<td style=te
 xt-align: center\;>15:00</td>\n<td style=text-align: center\;>12\,00**
 </td></tr>\n<tr><td><strong>Eisertstaffel</strong></td>\n<td style=tex
 t-align: center\;>2 x 5Km</td>\n<td style=text-align: center\;>15:00</
 td>\n<td style=text-align: center\;>16\,00**</td></tr>\n<tr><td colspa
 n=4>*Lauf um den Jonny Pokal</p>\n<p>** 2\,00 € Bonus auf Anmeldungen 
 bis 25.02.</td></tr>\n</tbody>\n</table>\n<p><strong>Anmeldung\, Nachm
 eldung:</strong><br>\n<br>\nBis 11.03. Online\, Nachmeldungen + 5 €\, 
 ebenso Ummeldungen 5 € ab 25.02.</p>\n<p>Nachmeldungen sowie Ausgabe S
 tartunterlagen am 16.03. zwischen 12:30 &#8211\; 17:00 bei Intersport 
 Eisert Erlangen\, und am Wettkampftag im Wettkampfbüro.</p>\n<p><stron
 g>Startunterlagen:</strong></p>\n<ul>\n<li>Am 16.03. zwischen 12:30 &#
 8211\; 17:00 bei Intersport Eisert Erlangen</li>\n<li>Am Wettkampftag\
 , Grundschule &#8218\;Brucker Lache&#8216\;\, Zeißstraße 51\, ab 9:00<
 /li>\n</ul>\n<p><strong>Sosntiges:</strong><br>\n<br>\nAktuelle Info&#
 8217\;s sowie <a href=https://www.wkm-iad.de/wwl18_onlineanmeldung_d.p
 hp target=_blank rel=noopener>Online Anmeldung</a> auf der Seite des V
 eranstalters: <a href=http://www.winterwaldlauf.de/ target=_blank rel=
 noopener>SGS Leichtathletik</a></p>\n<p>Teilnehmerlimit: <strong>1200<
 /strong></p>\n
URL:https://www.runningsocks.de/wordpress/terminkalender/eventsinglepa
 ge/?event_id=428&lang=de
ATTACH:https://www.runningsocks.de/wordpress/terminkalender/eventsingl
 epage/?event_id=428&lang=de
LOCATION:Grundschule an der Brucker Lache\, Zeißstraße 51\, Erlangen
END:VEVENT
END:VCALENDAR
