BEGIN:VCALENDAR
VERSION:2.0
METHOD:PUBLISH
PRODID:-//hacksw/handcal//NONSGML v1.0//EN
BEGIN:VEVENT
DTSTAMP:20260419T165632Z
DTSTART:20180607T160000Z
DTEND:20180607T180000Z
UID:20180607T160000Z-20180607T180000Z-429@www.runningsocks.de
SUMMARY:15. FunRun Südwest
DESCRIPTION:Nicht zu lang und nicht zu kurz!\n9\,9 km Streckenlänge un
 d seit 2014: 5Km – für Wenigläufer eine gut schaffbare Herausforderung
 \, für Vielläufer ein willkommenes Training. Umso mehr bei dem reizvol
 len Streckenverlauf über Asphalt\, Schotter- und Feldwege.\nLos geht’s
  vom Südwestpark aus Richtung Gebersdorf. Im Wiesengrund führt die Str
 ecke immer der Rednitz entlang gen Fürth. Nach einer Kehrtwende heißt 
 es dann an den grünen Uferzonen neben dem Rhein-Main-Donau-Kanal: Ends
 purt zurück bis zum Südwestpark!\nFür ausreichend Verpflegungsposten e
 ntlang der Strecke ist selbstverständlich gesorgt.\nDie wichtigsten Fa
 kten:\n\n 	Start/Ziel: im Südwestpark\n 	Strecke Läufer/Nordic Walker:
 \n9\,9 km (über Gebersdorf die Rednitz entlang Richtung Fürth\, am Ufe
 r des Main-Donau-Kanals zurück zum Südwestpark)\n 	Strecke Läufer:\n5\
 ,0 km\, Begrenzung auf maximal 400 Läufer (südlich Richtung Main-Donau
 - Kanal entlang – bis zu einer Wende nach ca. 2\,5 km)\n 	Strecke Kind
 er (4 bis 6 Jahre):\neine Runde durch den Südwestpark\n 	Strecke Schül
 er (7 bis 14 Jahre):\neine Runde durch den Südwestpark\n\nAlle Startze
 iten:\n\n 	ab 15:00 Uhr: Nachmeldung und Abholung der Starterunterlage
 n im Start-/Zielbereich\n 	18.00 Uhr: Kinder\n 	18:15 Uhr: Schüler\n 	
 18:30 Uhr: 9\,9 km Läufer\n 	18:35 Uhr: 9\,9 km Walker\n 	18:45 Uhr: 5
  km Läufer\n 	ca. 19:05 Uhr: erster Zieleinlauf\n 	ca. 20:30 Uhr: Sieg
 erehrung\n\nIn der Startgebühr inbegriffen:\n\n 	Transponder-Zeitmessu
 ng\n 	Dusch- und Umkleidemöglichkeiten\n 	Verpflegungsposten auf der S
 trecke\n 	Urkunde (als Online-Ausdruck)\n 	Parkplätze in den Parkhäuse
 rn\n\nUm den wachsenden Organisationsaufwand\,  sowie weiter soziale I
 nitiativen in der Region mit Spenden fördern zu können\, wird ab 2016 
 eine Aufwandsentschädigung für das Funktions Shirt  erhoben. Während K
 inder/Schüler das Shirt kostenlos überstreifen\, können es Erwachsene 
 gegen eine Aufwandspauschale von sieben Euro bei der Registrierung in 
 der Wunschgröße mit bestellen. T-Shirt Bestellungen sind nur bis 31.03
 . möglich!\nAnmeldungen und Startgebühren:\n\n\n\n\nFrühbucherpreis \n
 \n(bis 31.03.)\nNormaler Preis\n\n(ab 01.04.)\n\n\n\n\nEinzelläufer Er
 wachsen\n12 €\n15 €\n\n\nGruppe Erwachsen\n10 €\n12 €\n\n\nFunktions-S
 hirt (nur bis 31.03.)\n7 €\n-\n\n\nEinzelläufer/Gruppe Kind/Schüler\nk
 ostenlos\n5 €\n\n\n\n\n\nONLINE-Anmeldeschluss\nist der 01.06.\n\nAnme
 ldung vor Ort\nam 07.06. ab 15 Uhr\n\n\nWeitere Info's beim Veranstalt
 er: SÜD-WEST-PARK Management GmbH sowie Online Anmeldungen\n\nAlle Inf
 o's ©FunRun Südwest\n\nAusschreibung\, Kurzinfo:\n\n[wpfilebase tag=li
 st id=294 tpl=data-table pagenav=1 num=10 /]
X-ALT-DESC;FMTTYPE=text/html:<h2 style=text-align: center\;>Nicht zu l
 ang und nicht zu kurz!</h2>\n<p style=text-align: justify\;>9\,9 km St
 reckenlänge und seit 2014: 5Km – für Wenigläufer eine gut schaffbare H
 erausforderung\, für Vielläufer ein willkommenes Training. Umso mehr b
 ei dem reizvollen Streckenverlauf über Asphalt\, Schotter- und Feldweg
 e.<br>\nLos geht’s vom Südwestpark aus Richtung Gebersdorf. Im Wieseng
 rund führt die Strecke immer der Rednitz entlang gen Fürth. Nach einer
  Kehrtwende heißt es dann an den grünen Uferzonen neben dem Rhein-Main
 -Donau-Kanal: Endspurt zurück bis zum Südwestpark!</p>\n<p>Für ausreic
 hend Verpflegungsposten entlang der Strecke ist selbstverständlich ges
 orgt.</p>\n<h3><strong>Die wichtigsten Fakten:</strong></h3>\n<ul>\n<l
 i><strong>Start/Ziel:</strong> im Südwestpark</li>\n<li><strong>Streck
 e Läufer/Nordic Walker:</strong><br>\n9\,9 km (über Gebersdorf die Red
 nitz entlang Richtung Fürth\, am Ufer des Main-Donau-Kanals zurück zum
  Südwestpark)</li>\n<li><b>Strecke Läufer</b>:<br>\n5\,0 km\, Begrenzu
 ng auf maximal 400 Läufer (südlich Richtung Main-Donau- Kanal entlang 
 – bis zu einer Wende nach ca. 2\,5 km)</li>\n<li><strong>Strecke Kinde
 r (4 bis 6 Jahre):</strong><br>\neine Runde durch den Südwestpark</li>
 \n<li><strong>Strecke Schüler (7 bis 14 Jahre):</strong><br>\neine Run
 de durch den Südwestpark</li>\n</ul>\n<h3>Alle Startzeiten:</h3>\n<ul>
 \n<li>ab 15:00 Uhr: Nachmeldung und Abholung der Starterunterlagen im 
 Start-/Zielbereich</li>\n<li>18.00 Uhr: Kinder</li>\n<li>18:15 Uhr: Sc
 hüler</li>\n<li>18:30 Uhr: 9\,9 km Läufer</li>\n<li>18:35 Uhr: 9\,9 km
  Walker</li>\n<li>18:45 Uhr: 5 km Läufer</li>\n<li>ca. 19:05 Uhr: erst
 er Zieleinlauf</li>\n<li>ca. 20:30 Uhr: Siegerehrung</li>\n</ul>\n<h3 
 id=c47><strong>In der Startgebühr inbegriffen:</strong></h3>\n<ul>\n<l
 i>Transponder-Zeitmessung</li>\n<li>Dusch- und Umkleidemöglichkeiten</
 li>\n<li>Verpflegungsposten auf der Strecke</li>\n<li>Urkunde (als Onl
 ine-Ausdruck)</li>\n<li>Parkplätze in den Parkhäusern</li>\n</ul>\n<p>
 Um den wachsenden Organisationsaufwand\,  sowie weiter soziale Initiat
 iven in der Region mit Spenden fördern zu können\, wird ab 2016 eine A
 ufwandsentschädigung für das Funktions Shirt  erhoben. Während <strong
 >Kinder/Schüler das Shirt kostenlos</strong> überstreifen\, können es 
 Erwachsene gegen eine Aufwandspauschale von sieben Euro bei der Regist
 rierung in der Wunschgröße mit bestellen. <strong>T-Shirt Bestellungen
  sind nur bis 31.03. möglich!</strong></p>\n<h3>Anmeldungen und Startg
 ebühren:</h3>\n<table>\n<thead>\n<tr><th colspan=1 rowspan=1 scope=col
 ></th>\n<th colspan=1 rowspan=1 scope=col><strong>Frühbucherpreis </st
 rong></p>\n<p><strong>(bis 31.03.)</strong></th>\n<th colspan=1 rowspa
 n=1 scope=col><strong>Normaler Preis</strong><br>\n<br>\n(ab 01.04.)</
 th></tr>\n</thead>\n<tbody>\n<tr><td><strong>Einzelläufer Erwachsen</s
 trong></td>\n<td>12 €</td>\n<td>15 €</td></tr>\n<tr><td><strong>Gruppe
  Erwachsen</strong></td>\n<td>10 €</td>\n<td>12 €</td></tr>\n<tr><td><
 strong>Funktions-Shirt (nur bis 31.03.)</strong></td>\n<td>7 €</td>\n<
 td>&#8211\;</td></tr>\n<tr><td><strong>Einzelläufer/Gruppe Kind/Schüle
 r</strong></td>\n<td>kostenlos</td>\n<td>5 €</td></tr>\n</tbody>\n</ta
 ble>\n<div id=c110>\n<p><strong>ONLINE-Anmeldeschluss</strong><br>\nis
 t der 01.06.</p>\n<p><strong>Anmeldung vor Ort</strong><br>\nam 07.06.
  ab 15 Uhr</p>\n</div>\n<p>Weitere Info&#8217\;s beim Veranstalter: <a
  href=http://www.funrunsuedwest.de/ target=_blank rel=noopener>SÜD-WES
 T-PARK Management GmbH</a> sowie Online <a href=http://www.funrunsuedw
 est.de/anmeldung.html target=_blank rel=noopener>Anmeldungen</a></p>\n
 <p>Alle Info&#8217\;s <a href=http://www.funrunsuedwest.de/ target=_bl
 ank rel=noopener>©FunRun Südwest</a></p>\n<p>Ausschreibung\, Kurzinfo:
 </p>\n<p>[wpfilebase tag=list id=294 tpl=data-table pagenav=1 num=10 /
 ]</p>\n
URL:https://www.runningsocks.de/wordpress/terminkalender/eventsinglepa
 ge/?event_id=429&lang=de
ATTACH:https://www.runningsocks.de/wordpress/terminkalender/eventsingl
 epage/?event_id=429&lang=de
LOCATION:Südwestpark\, Südwestpark 41\, Nürnberg
END:VEVENT
END:VCALENDAR
