BEGIN:VCALENDAR
VERSION:2.0
METHOD:PUBLISH
PRODID:-//hacksw/handcal//NONSGML v1.0//EN
BEGIN:VEVENT
DTSTAMP:20260419T165210Z
DTSTART:20100603T153000Z
DTEND:20100606T210000Z
UID:20100603T153000Z-20100606T210000Z-43@www.runningsocks.de
SUMMARY:13. Fränkisches Bierfest - Nürnberg
DESCRIPTION:28 Brauereien aus Franken und dem Umland  sowie aus Nürnbe
 rgs Partnerstädten laden ein zum Informieren\, Probieren  und gesellig
 en Beisammensein im romantischen Burggraben unterhalb der  Kaiserburg.
  80 Sorten Bier und viele Essensstände mit fränkischen  Spezialitäten 
 lassen keine kulinarischen Wünsche offen.\n\nFür ein umfassendes Rahme
 nprogramm sorgen eine Schau-Brauerei\,  Musikgruppen\, Spielmannszüge 
 und Tanzgruppen. Natürlich wird auch  Kindern einiges geboten. So gibt
  es einen Streichelzoo\, eine Hüpfburg  und viele andere interessante 
 Aktionen.\n\nÖffnungszeiten\n Donnerstag: 11.00 - 23.00 Uhr\n Freitag\
 , Samstag: 14.00 - 23.00 Uhr\n Sonntag: 11.00 - 23.00 Uhr\n\nTeilnehme
 nde Brauereien:\n Brauerei Hebendanz\, Forchheim\n Lindenbräu\, Gräfen
 berg\n Brauerei Neder\, Forchheim\n Brauerei Rittmayer\, Hallerndorf\n
  Brauerei Mönchshof\, Kulmbach\n Brauerei Hartmann\, Würgau\n Brauerei
  Kuchlbauer\, Nürnberg\n Schanzenbräu\, Gostenhof\n Spalter Bräu\, Spa
 lt\n Brauerei Reh\, Lohndorf\n Landwehr Bräu\, Reichelshofen\n Brauere
 i Penning\, Hetzelsdorf\n Brauerei Meister\, Unterzaunsbach\n Brauerei
  Alt\, Dietzhof\n Pyraser\, Pyras\n Brauerei Hofmann\, Hohenschwärz\n 
 Stöckel Bräu\, Hintergereuth\n Brauerei Krug\, Breitenlesau\n Brauerei
  Strauß\, Wettelsheim\n Brauerei Zirndorf\, Zirndorf\n Brauerei Gutman
 n\, Titting\n Brauerei Leitner\, Schwabach\n Limbacher Brauerei\, Limb
 ach\n Brauerei Kitzmann\, Erlangen\n Brauerei Nikl\, Pretzfeld\n Braue
 rei Porter\n Brauerei Skopje\n Köstritzer\n\nWeitere Infos bei: Touris
 mus Nürnberg oder www.frankenradar.de
X-ALT-DESC;FMTTYPE=text/html:<p>28 Brauereien aus Franken und dem Umla
 nd  sowie aus Nürnbergs Partnerstädten laden ein zum Informieren\, Pro
 bieren  und geselligen Beisammensein im romantischen Burggraben unterh
 alb der  Kaiserburg. 80 Sorten Bier und viele Essensstände mit fränkis
 chen  Spezialitäten lassen keine kulinarischen Wünsche offen.</p>\n<p>
 Für ein umfassendes Rahmenprogramm sorgen eine Schau-Brauerei\,  Musik
 gruppen\, Spielmannszüge und Tanzgruppen. Natürlich wird auch  Kindern
  einiges geboten. So gibt es einen Streichelzoo\, eine Hüpfburg  und v
 iele andere interessante Aktionen.</p>\n<p><strong>Öffnungszeiten</str
 ong><br>\n Donnerstag: 11.00 &#8211\; 23.00 Uhr<br>\n Freitag\, Samsta
 g: 14.00 &#8211\; 23.00 Uhr<br>\n Sonntag: 11.00 &#8211\; 23.00 Uhr</p
 >\n<p><strong>Teilnehmende Brauereien:</strong><br>\n Brauerei Hebenda
 nz\, Forchheim<br>\n Lindenbräu\, Gräfenberg<br>\n Brauerei Neder\, Fo
 rchheim<br>\n Brauerei Rittmayer\, Hallerndorf<br>\n Brauerei Mönchsho
 f\, Kulmbach<br>\n Brauerei Hartmann\, Würgau<br>\n Brauerei Kuchlbaue
 r\, Nürnberg<br>\n Schanzenbräu\, Gostenhof<br>\n Spalter Bräu\, Spalt
 <br>\n Brauerei Reh\, Lohndorf<br>\n Landwehr Bräu\, Reichelshofen<br>
 \n Brauerei Penning\, Hetzelsdorf<br>\n Brauerei Meister\, Unterzaunsb
 ach<br>\n Brauerei Alt\, Dietzhof<br>\n Pyraser\, Pyras<br>\n Brauerei
  Hofmann\, Hohenschwärz<br>\n Stöckel Bräu\, Hintergereuth<br>\n Braue
 rei Krug\, Breitenlesau<br>\n Brauerei Strauß\, Wettelsheim<br>\n Brau
 erei Zirndorf\, Zirndorf<br>\n Brauerei Gutmann\, Titting<br>\n Brauer
 ei Leitner\, Schwabach<br>\n Limbacher Brauerei\, Limbach<br>\n Brauer
 ei Kitzmann\, Erlangen<br>\n Brauerei Nikl\, Pretzfeld<br>\n Brauerei 
 Porter<br>\n Brauerei Skopje<br>\n Köstritzer</p>\n<p>Weitere Infos be
 i: <a href=http://tourismus.nuernberg.de target=_blank>Tourismus Nürnb
 erg</a> oder <a href=http://www.frankenradar.de/events/fraenkisches-bi
 erfest-nuernberg target=_blank>www.frankenradar.de</a></p>\n
URL:https://www.runningsocks.de/wordpress/terminkalender/eventsinglepa
 ge/?event_id=43&lang=de
ATTACH:https://www.runningsocks.de/wordpress/terminkalender/eventsingl
 epage/?event_id=43&lang=de
LOCATION:Burggraben unterhalb der Kaiserburg\, Auf der Burg 13\, Nürnb
 erg
END:VEVENT
END:VCALENDAR
