BEGIN:VCALENDAR
VERSION:2.0
METHOD:PUBLISH
PRODID:-//hacksw/handcal//NONSGML v1.0//EN
BEGIN:VEVENT
DTSTAMP:20260419T165718Z
DTSTART:20180303T093000Z
DTEND:20180303T113000Z
UID:20180303T093000Z-20180303T113000Z-430@www.runningsocks.de
SUMMARY:25. Rothseelauf
DESCRIPTION:Die erste Probe im Frühjahr und seit Jahren ein Klassiker 
 !\nStrecken:\n\n\n 	5\,2 Km\, Hobbylauf\, Nordic Walking\, 1 Runde um 
 den kleinen Rothsee\n 	10\,4Km\, Hauptlauf\, 2 Runden um den kleinen R
 othsee\n\nStartgeld:\n\n\n 	Hobbylauf: 9\,00 EUR\n 	Nordic Walking: 9\
 ,00 EUR\n 	Hauptlauf: 11\,00 EUR\n 	Nachmeldungen: 3\,00 EUR\n\nAnmeld
 ungen:\n\nBis zum 01.03. online möglich.\n\nNachmeldungen gelten ab 02
 .03. und sind nur noch bei runningConcepts am Obstmarkt 22 in Nürnberg
  von 11:00 - 16:00\, oder am Veranstaltungstag bis 1 Std. vor dem Star
 t des jeweiligen Laufes vor Ort möglich.\n\n \n\nZeiten:\n\n 	Abholung
  Startunterlagen am 02.03.: 11:00 - 16:00\, runningConcepts am Obstmar
 kt 22 in Nürnberg\n 	Abholung Startunterlagen am 03.03.: ab 08:00\, Bi
 rkach\, Start/Zielbereich\n 	Start Hobbylauf: 09:30\n 	Start Nordic Wa
 lking: 09:30\n 	Start Hauptlauf: 10:30\n\nWeitere Info's wie immer dir
 ekt beim Veranstalter: runningConcepts\nAusschreibung:\nrunningConcept
 s
X-ALT-DESC;FMTTYPE=text/html:<p style=text-align: center\;><strong>Die
  erste Probe im Frühjahr und seit Jahren ein Klassiker !</strong></p>\
 n<p style=text-align: justify\;><strong><span style=text-decoration: u
 nderline\;>Strecken:</span></strong></p>\n<ul>\n<li>5\,2 Km\, Hobbylau
 f\, Nordic Walking\, 1 Runde um den kleinen Rothsee</li>\n<li>10\,4Km\
 , Hauptlauf\, 2 Runden um den kleinen Rothsee</li>\n</ul>\n<p style=te
 xt-align: justify\;><span style=text-decoration: underline\;><strong>S
 tartgeld:</strong></span></p>\n<ul>\n<li>Hobbylauf: 9\,00 EUR</li>\n<l
 i>Nordic Walking: 9\,00 EUR</li>\n<li>Hauptlauf: 11\,00 EUR</li>\n<li>
 Nachmeldungen: 3\,00 EUR</li>\n</ul>\n<p><span style=text-decoration: 
 underline\;><strong>Anmeldungen:</strong></span><br>\n<br>\nBis zum 01
 .03. online möglich.</p>\n<p>Nachmeldungen gelten ab 02.03. und sind n
 ur noch bei runningConcepts am Obstmarkt 22 in Nürnberg von 11:00 &#82
 11\; 16:00\, oder am Veranstaltungstag bis 1 Std. vor dem Start des je
 weiligen Laufes vor Ort möglich.</p>\n<p>&nbsp\;</p>\n<p><span style=t
 ext-decoration: underline\;><strong>Zeiten:</strong></span></p>\n<ul>\
 n<li>Abholung Startunterlagen am 02.03.: 11:00 &#8211\; 16:00\, runnin
 gConcepts am Obstmarkt 22 in Nürnberg</li>\n<li>Abholung Startunterlag
 en am 03.03.: ab 08:00\, Birkach\, Start/Zielbereich</li>\n<li>Start H
 obbylauf: 09:30</li>\n<li>Start Nordic Walking: 09:30</li>\n<li>Start 
 Hauptlauf: 10:30</li>\n</ul>\n<p style=text-align: justify\;>Weitere I
 nfo&#8217\;s wie immer direkt beim Veranstalter: <a href=http://www.ru
 nningconcepts.de/rothseelauf.html target=_blank rel=noopener>runningCo
 ncepts</a></p>\n<p style=text-align: justify\;><span style=text-decora
 tion: underline\;><strong>Ausschreibung:</strong></span></p>\n<p style
 =text-align: justify\;><a href=http://www.runningconcepts.de/rothseela
 uf.html target=_blank rel=noopener>runningConcepts</a></p>\n
URL:https://www.runningsocks.de/wordpress/terminkalender/eventsinglepa
 ge/?event_id=430&lang=de
ATTACH:https://www.runningsocks.de/wordpress/terminkalender/eventsingl
 epage/?event_id=430&lang=de
LOCATION:Strandhaus Birkach\, Birkacher Uferweg 2\, Roth
END:VEVENT
END:VCALENDAR
