BEGIN:VCALENDAR
VERSION:2.0
METHOD:PUBLISH
PRODID:-//hacksw/handcal//NONSGML v1.0//EN
BEGIN:VEVENT
DTSTAMP:20260419T165529Z
DTSTART:20180722T060000Z
DTEND:20180722T150000Z
UID:20180722T060000Z-20180722T150000Z-431@www.runningsocks.de
SUMMARY:36. GEALAN Triathlon Hof
DESCRIPTION:Kurzinfo:\n\nStreckenlängen:\n\n 	1\,5Km / 40Km / 10Km (Ku
 rz\, Einzel und Staffel)\n 	0\,75Km / 20Km / 5Km (Sprint\, Einzel und 
 Staffel)\n 	0\,35Km / 20Km / 5Km (Jedermann\, Einzel)\n\nStartzeiten:\
 n\n 	Kurz\, Einzel und Staffel: 11:10\n 	Sprint\, Einzel und Staffel: 
 10:00\n 	Jedermann\, Einzel: 10:00\n\nAusgabe Startunterlagen (Therape
 utisches Zentraum Hof):\n\n 	Am Vortag: 18:00 - 20:00\n 	Am Wettkampft
 ag: 08:00 - 09:30\n\nAnmeldeschluß: 18.07.2018 oder bei Erreichen des 
 Starterlimits\n\nStartgelder:\n\n\n\n\nJedermann\nSprint\nSprint/ Staf
 fel\nKurz\nKurz/ Staffel\n\n\nBis 31.03.\n20\,00 €\n25\,00 €\n54\,00 €
 \n30\,00 €\n66\,00 €\n\n\nBis 31.05.\n25\,00 €\n30\,00 €\n54\,00 €\n35
 \,00 €\n66\,00 €\n\n\nAb 01.06.\n30\,00 €\n35\,00 €\n54\,00 €\n40\,00 
 €\n66\,00 €\n\n\nNachmeldung\nsofern noch Kontingent vorhanden ist am 
 Wettkampftag von 8.00Uhr bis 9.00Uhr und am Vortag\nvon 18:00Uhr bis 2
 0:00Uhr gegen eine Nachmeldegebühr von 5€\n\n\nTageslizenz ohne\nDTU-S
 tartpass\n\n\n\n16\,00 €\n\n\n\n\nWeitere Details bitte der Ausschreib
 ung entnehmen.  Alle weiteren\, aktuellen Infos und Online Anmeldung d
 irekt beim Veranstalter: Gealan Triathlon Hof\n\nAusschreibung:\n\n[wp
 filebase tag=list id=295 tpl=data-table pagenav=1 /]
X-ALT-DESC;FMTTYPE=text/html:<p>Kurzinfo:</p>\n<p><span style=text-dec
 oration: underline\;><strong>Streckenlängen:</strong></span></p>\n<ul>
 \n<li>1\,5Km / 40Km / 10Km (Kurz\, Einzel und Staffel)</li>\n<li>0\,75
 Km / 20Km / 5Km (Sprint\, Einzel und Staffel)</li>\n<li>0\,35Km / 20Km
  / 5Km (Jedermann\, Einzel)</li>\n</ul>\n<p><span style=text-decoratio
 n: underline\;><strong>Startzeiten:</strong></span></p>\n<ul>\n<li>Kur
 z\, Einzel und Staffel: 11:10</li>\n<li>Sprint\, Einzel und Staffel: 1
 0:00</li>\n<li>Jedermann\, Einzel: 10:00</li>\n</ul>\n<p><span style=t
 ext-decoration: underline\;><strong>Ausgabe Startunterlagen (Therapeut
 isches Zentraum Hof):</strong></span></p>\n<ul>\n<li>Am Vortag: 18:00 
 &#8211\; 20:00</li>\n<li>Am Wettkampftag: 08:00 &#8211\; 09:30</li>\n<
 /ul>\n<p>Anmeldeschluß: 18.07.2018 oder bei Erreichen des Starterlimit
 s</p>\n<p><span style=text-decoration: underline\;><strong>Startgelder
 :</strong></span></p>\n<table width=510>\n<tbody>\n<tr><td width=93></
 td>\n<td width=85><strong>Jedermann</strong></td>\n<td width=88><stron
 g>Sprint</strong></td>\n<td width=88><strong>Sprint/ Staffel</strong><
 /td>\n<td width=78><strong>Kurz</strong></td>\n<td width=78><strong>Ku
 rz/ Staffel</strong></td></tr>\n<tr><td>Bis 31.03.</td>\n<td style=tex
 t-align: center\; width=85>20\,00 €</td>\n<td style=text-align: center
 \; width=88>25\,00 €</td>\n<td style=text-align: center\; width=88>54\
 ,00 €</td>\n<td style=text-align: center\; width=78>30\,00 €</td>\n<td
  style=text-align: center\; width=78>66\,00 €</td></tr>\n<tr><td>Bis 3
 1.05.</td>\n<td style=text-align: center\; width=85>25\,00 €</td>\n<td
  style=text-align: center\; width=88>30\,00 €</td>\n<td style=text-ali
 gn: center\; width=88>54\,00 €</td>\n<td style=text-align: center\; wi
 dth=78>35\,00 €</td>\n<td style=text-align: center\; width=78>66\,00 €
 </td></tr>\n<tr><td>Ab 01.06.</td>\n<td style=text-align: center\; wid
 th=85>30\,00 €</td>\n<td style=text-align: center\; width=88>35\,00 €<
 /td>\n<td style=text-align: center\; width=88>54\,00 €</td>\n<td style
 =text-align: center\; width=78>40\,00 €</td>\n<td style=text-align: ce
 nter\; width=78>66\,00 €</td></tr>\n<tr><td>Nachmeldung</td>\n<td styl
 e=text-align: center\; colspan=5 width=417>sofern noch Kontingent vorh
 anden ist am Wettkampftag von 8.00Uhr bis 9.00Uhr und am Vortag<br>\nv
 on 18:00Uhr bis 20:00Uhr gegen eine Nachmeldegebühr von 5€</td></tr>\n
 <tr><td width=93>Tageslizenz ohne<br>\nDTU-Startpass</td>\n<td width=8
 5></td>\n<td width=88></td>\n<td width=88></td>\n<td style=text-align:
  center\; width=78>16\,00 €</td>\n<td width=78></td></tr>\n</tbody>\n<
 /table>\n<p>Weitere Details bitte der Ausschreibung entnehmen.  Alle w
 eiteren\, aktuellen Infos und Online Anmeldung direkt beim Veranstalte
 r: <a href=http://www.ifl-hof.de/sportarten/triathlon/gealan-triathlon
 .html target=_blank rel=noopener>Gealan Triathlon Hof</a></p>\n<p><spa
 n style=text-decoration: underline\;><strong>Ausschreibung:</strong></
 span><br>\n<br>\n[wpfilebase tag=list id=295 tpl=data-table pagenav=1 
 /]</p>\n
URL:https://www.runningsocks.de/wordpress/terminkalender/eventsinglepa
 ge/?event_id=431&lang=de
ATTACH:https://www.runningsocks.de/wordpress/terminkalender/eventsingl
 epage/?event_id=431&lang=de
LOCATION:Untreusee\, Untreusee\, Hof
END:VEVENT
END:VCALENDAR
