BEGIN:VCALENDAR
VERSION:2.0
METHOD:PUBLISH
PRODID:-//hacksw/handcal//NONSGML v1.0//EN
BEGIN:VEVENT
DTSTAMP:20260419T165718Z
DTSTART:20180617T050000Z
DTEND:20180617T180000Z
UID:20180617T050000Z-20180617T180000Z-432@www.runningsocks.de
SUMMARY:7. Stadttriathlon Forchheim
DESCRIPTION:Im Jahr 2010 ging mit dem 18. Altstadtfest-Triathlon des V
 FB in Forchheim eine Ära zu Ende. Die Weiterführung des beliebten Tria
 thlon stand auf der Kippe. Jedoch führte der SSV Forchheim ab 2012 die
  Tradition des Forchheimer Stadt-Triathlon fort. Und somit findet dies
 es Jahr der nun 7. Stadttriathlon in Forchheim statt. Die Strecken sin
 d für Schüler und Jedermänner ausgerichtet\, und bieten somit für Anfä
 nger\, Fortgeschrittene oder auch Profis einen Anreiz.\nStrecken:\n\n\
 n\n\nSchwimmen\nRadfahren\nLaufen\n\n\nLandesliga Nord\n0\,75 Km\n20 K
 m\n5 Km\n\n\nJedermann\n0\,5 Km\n20 Km\n5 Km\n\n\nFitnessdistanz\n0\,3
  Km\n10 Km\n2\,5 Km\n\n\nSchülerdistanz\n0\,3 Km\n10 Km\n2\,5 Km\n\n\n
 \nZeitplan:\n\n\n\nam 16.06.:\n\n\n16:00 - 18:00\nRegistrierung und Au
 sgabe der Startnummern im Königsbad\n\n\nam 17.06.:\n\n\n7:00 - 8:15\n
 Registrierung und Ausgabe der Startnummern im Königsbad für alle Start
 er\n\n\n7:00 - 8:30\nCheck-In in die Wechselzone am Königsbad\nZum Che
 ck in sind mitzubringen Fahrrad und Radhelm mit jeweils angebrachter K
 lebenummer\, Check in mit aufgesetztem und geschlossenem Helm sowie al
 le Laufsachen.\n\n\n8:40\nWettkampfbesprechung für alle Teilnehmer am 
 Außenbecken\, Freibad Käsröthe\nTeilnahme an der Wettkampfbesprechung 
 ist Pflicht!\n\n\nStart ab 9:00\n\n \n\n \n\n \n\n \n\n \nDer Start er
 folgt in Wellen mit ca. 8 Personen pro 50 m-Schwimmbahn\, danach Schwi
 mmstart in Abständen von ca. 15 min. Die Startnummer und Start-Uhrzeit
  des jeweiligen Athleten wird auf der Homepage im Vorfeld sowie im Fre
 ibad auf der Infotafel angegeben. Die Teilnehmer sind selbst dafür ver
 antwortlich\, rechtzeitig im Vorstartbereich einzutreffen.\n\nab ca.  
 9:00 Schüler (300 m) Gruppe 1\n\nab ca. 9:15 Fitness (300m) Gruppe 2\n
 \nab ca. 9:35 Jedermann (500m) Gruppe 3\n\n.....\nbis ca. 11:00 Jederm
 ann (500 m) Gruppe 8\n\nca. 11:45 Landesliga (750m) Gruppe 9\n\n\n10:0
 0 - 15:00\nTriathlon Messe\n\n\n13:30 - 15:30\nCheck-Out\, Fahrradaush
 ändigung inkl. Wechselbeutel nur an die Teilnehmer gegen Vorlage der S
 tartnummer und Rückgabe des Transponders.\n\n\nca. 13:30\nSiegerehrung
  (alle Distanzen u. Wertungen) im Zielbereich\ndavor Tombola (Verlosun
 g vieler schöner Sachpreise)\n\n\n\nStartgelder:\n\n\n\nZeitraum\nSchü
 ler         \nFitness \nJedermann   \nStaffel Jedermann   \nLandesliga
 \n\n\nAnmeldung bis 31.03.\n19 €\n24 €\n35 €\n65 €\n35 €\n\n\nAnmeldun
 g ab 01.04.\n24 €\n29 €\n39 €\n74 €\n39 €\n\n\n\nOnline Anmeldung bis:
  08.06.\n\nNachmeldung: 16.06.\, 16:00 - 18:00\, sofern noch Startplät
 ze zur Verfügung stehen\n\nNachmeldegebühr: 5 €\n\nAlle weiteren\, akt
 uellen Infos\, sowie Online Anmeldung direkt beim Veranstalter: SSV Fo
 rchheim\n\nAusschreibung:\n\nfolgt sobald verfügbar
X-ALT-DESC;FMTTYPE=text/html:<p style=text-align: center\;>Im Jahr 201
 0 ging mit dem 18. Altstadtfest-Triathlon des VFB in Forchheim eine Är
 a zu Ende. Die Weiterführung des beliebten Triathlon stand auf der Kip
 pe. Jedoch führte der SSV Forchheim ab 2012 die Tradition des Forchhei
 mer Stadt-Triathlon fort. Und somit findet dieses Jahr der nun 7. Stad
 ttriathlon in Forchheim statt. Die Strecken sind für Schüler und Jeder
 männer ausgerichtet\, und bieten somit für Anfänger\, Fortgeschrittene
  oder auch Profis einen Anreiz.</p>\n<p>Strecken:</p>\n<table class= a
 ligncenter>\n<tbody>\n<tr><td></td>\n<td style=text-align: center\;><s
 trong>Schwimmen</strong></td>\n<td style=text-align: center\;><strong>
 Radfahren</strong></td>\n<td style=text-align: center\;><strong>Laufen
 </strong></td></tr>\n<tr><td>Landesliga Nord</td>\n<td style=text-alig
 n: center\;>0\,75 Km</td>\n<td style=text-align: center\;>20 Km</td>\n
 <td style=text-align: center\;>5 Km</td></tr>\n<tr><td>Jedermann</td>\
 n<td style=text-align: center\;>0\,5 Km</td>\n<td style=text-align: ce
 nter\;>20 Km</td>\n<td style=text-align: center\;>5 Km</td></tr>\n<tr>
 <td>Fitnessdistanz</td>\n<td style=text-align: center\;>0\,3 Km</td>\n
 <td style=text-align: center\;>10 Km</td>\n<td style=text-align: cente
 r\;>2\,5 Km</td></tr>\n<tr><td>Schülerdistanz</td>\n<td style=text-ali
 gn: center\;>0\,3 Km</td>\n<td style=text-align: center\;>10 Km</td>\n
 <td style=text-align: center\;>2\,5 Km</td></tr>\n</tbody>\n</table>\n
 <p>Zeitplan:</p>\n<table style=width: 792px\; border=0>\n<tbody>\n<tr>
 <td style=width: 784px\; colspan=2><strong>am 16.06.:</strong></td></t
 r>\n<tr><td style=width: 105px\;>16:00 &#8211\; 18:00</td>\n<td style=
 width: 679px\;>Registrierung und Ausgabe der Startnummern im Königsbad
 </td></tr>\n<tr><td style=width: 784px\; colspan=2><strong>am 17.06.:<
 /strong></td></tr>\n<tr><td style=width: 105px\;>7:00 &#8211\; 8:15</t
 d>\n<td style=width: 679px\;>Registrierung und Ausgabe der Startnummer
 n im Königsbad für alle Starter</td></tr>\n<tr><td style=width: 105px\
 ; align=left valign=top>7:00 &#8211\; 8:30</td>\n<td style=width: 679p
 x\;><strong>Check-In in die Wechselzone</strong> am Königsbad<br>\nZum
  Check in sind mitzubringen Fahrrad und Radhelm mit jeweils angebracht
 er Klebenummer\, Check in mit aufgesetztem und geschlossenem Helm sowi
 e alle Laufsachen.</td></tr>\n<tr><td style=width: 105px\;>8:40</td>\n
 <td style=width: 679px\;><strong>Wettkampfbesprechung für alle Teilneh
 mer</strong> am Außenbecken\, Freibad Käsröthe<br>\nTeilnahme an der W
 ettkampfbesprechung ist Pflicht!</td></tr>\n<tr><td style=width: 105px
 \; valign=top>Start ab 9:00</p>\n<p>&nbsp\;</p>\n<p>&nbsp\;</p>\n<p>&n
 bsp\;</p>\n<p>&nbsp\;</p>\n<p>&nbsp\;</td>\n<td style=width: 679px\;>D
 er Start erfolgt in Wellen mit ca. 8 Personen pro 50 m-Schwimmbahn\, d
 anach Schwimmstart in Abständen von ca. 15 min. Die Startnummer und St
 art-Uhrzeit des jeweiligen Athleten wird auf der Homepage im Vorfeld s
 owie im Freibad auf der Infotafel angegeben. Die Teilnehmer sind selbs
 t dafür verantwortlich\, rechtzeitig im Vorstartbereich einzutreffen.<
 /p>\n<p>ab ca.  9:00 Schüler (300 m) Gruppe 1</p>\n<p>ab ca. 9:15 Fitn
 ess (300m) Gruppe 2</p>\n<p>ab ca. 9:35 Jedermann (500m) Gruppe 3</p>\
 n<p>&#8230\;..<br>\nbis ca. 11:00 Jedermann (500 m) Gruppe 8</p>\n<p>c
 a. 11:45 Landesliga (750m) Gruppe 9</td></tr>\n<tr><td style=width: 10
 5px\; align=left valign=top>10:00 &#8211\; 15:00</td>\n<td style=width
 : 679px\;><strong>Triathlon Messe</strong></td></tr>\n<tr><td style=wi
 dth: 105px\;>13:30 &#8211\; 15:30</td>\n<td style=width: 679px\;><stro
 ng>Check-Ou</strong>t\, Fahrradaushändigung inkl. Wechselbeutel nur an
  die Teilnehmer gegen Vorlage der Startnummer und Rückgabe des Transpo
 nders.</td></tr>\n<tr><td style=width: 105px\;>ca. 13:30</td>\n<td sty
 le=width: 679px\;><strong>Siegerehrung</strong> (alle Distanzen u. Wer
 tungen) im Zielbereich<br>\ndavor Tombola (Verlosung vieler schöner Sa
 chpreise)</td></tr>\n</tbody>\n</table>\n<p><strong>Startgelder:</stro
 ng></p>\n<table border=0>\n<tbody>\n<tr><td><strong>Zeitraum</strong><
 /td>\n<td style=text-align: center\;><strong>Schüler         </strong>
 </td>\n<td style=text-align: center\;><strong>Fitness </strong></td>\n
 <td style=text-align: center\;><strong>Jedermann   </strong></td>\n<td
  style=text-align: center\;><strong>Staffel Jedermann   </strong></td>
 \n<td style=text-align: center\;><strong>Landesliga</strong></td></tr>
 \n<tr><td>Anmeldung bis 31.03.</td>\n<td style=text-align: center\;>19
  €</td>\n<td style=text-align: center\;>24 €</td>\n<td style=text-alig
 n: center\;>35 €</td>\n<td style=text-align: center\;>65 €</td>\n<td s
 tyle=text-align: center\;>35 €</td></tr>\n<tr><td>Anmeldung ab 01.04.<
 /td>\n<td style=text-align: center\;>24 €</td>\n<td style=text-align: 
 center\;>29 €</td>\n<td style=text-align: center\;>39 €</td>\n<td styl
 e=text-align: center\;>74 €</td>\n<td style=text-align: center\;>39 €<
 /td></tr>\n</tbody>\n</table>\n<p>Online Anmeldung bis: 08.06.</p>\n<p
 >Nachmeldung: 16.06.\, 16:00 &#8211\; 18:00\, sofern noch Startplätze 
 zur Verfügung stehen</p>\n<p>Nachmeldegebühr: 5 €</p>\n<p>Alle weitere
 n\, aktuellen Infos\, sowie<a href=http://www.stadttriathlon-forchheim
 .de/index.php/anmeldung/anmeldung-einzel target=_blank rel=noopener> O
 nline Anmeldung</a> direkt beim Veranstalter: <a href=http://www.stadt
 triathlon-forchheim.de/ target=_blank rel=noopener>SSV Forchheim</a></
 p>\n<p><strong>Ausschreibung:</strong><br>\n<br>\nfolgt sobald verfügb
 ar</p>\n
URL:https://www.runningsocks.de/wordpress/terminkalender/eventsinglepa
 ge/?event_id=432&lang=de
ATTACH:https://www.runningsocks.de/wordpress/terminkalender/eventsingl
 epage/?event_id=432&lang=de
LOCATION:Königsbad Forchheim\, Käsröthe 4\, Forchheim
END:VEVENT
END:VCALENDAR
