BEGIN:VCALENDAR
VERSION:2.0
METHOD:PUBLISH
PRODID:-//hacksw/handcal//NONSGML v1.0//EN
BEGIN:VEVENT
DTSTAMP:20260419T165141Z
DTSTART:20180630T060000Z
DTEND:20180630T170000Z
UID:20180630T060000Z-20180630T170000Z-433@www.runningsocks.de
SUMMARY:10. 12h MTB Rennen - Schnaittach
DESCRIPTION:12 Stunden auf dem Mountainbike!\nAls Einzelfahrer oder im
  Team! Egal ob Profi oder ambitionierte Breitensportler - Der Spaßfakt
 or steht im Vordergrund. Auf einem abgesteckten Rundkurs fahren die Mo
 untainbikerinnen und Mountainbiker innerhalb von 12 Stunden möglichst 
 viele Runden. Wer am meisten Runden schafft ist Sieger.\n\nDie jährlic
 h steigenden Teilnehmerzahlen beweisen es - diese Art von Mountainbike
  Rennen wird immer beliebter. Daher wurde auch die Idee geboren\, ein 
 eigenes 12h Rennen zu veranstalten. Inzwischen geht das 12h Rennen in 
 die 8. Auflage.\n\nDer RC Schnaittach lädt daher alle Hobby- und Profi
 biker\, sowie alle Sportbegeisterte zu diesem Event ein.\n\nGlückliche
 rweise bekamen wir Ende Februar nochmals die Chance\, ein 4er Team Her
 ren für die Veranstaltung zu melden. Eine endgültige Bestätigung liegt
  noch nicht vor\, aber wir sind guter Dinge.\n\n \n\nTeams:\n\n 	Einze
 lstarter (Damen\, Herren)\n 	Einzelstarter (Seniorinnen\, Senioren\n 	
 Zweier-Team (Damen\, Herren\, Mixed)\n 	Vierer–Team (Damen\, Herren\, 
 Mixed)\n\nStartkontingente: \n\n 	Einzelfahrer: 30 Startplätze\n 	2er-
 Teams: 40 Startplätze\n 	4er-Teams: 50 Startplätze\n\nStrecke:\n\nAuss
 chließlich Wiese\, Wald- und Schotterwege. Rundkurs mit ca. 7 km Länge
  und ca. 100 HM. Streckenlänge und Runden können vom Veranstalter geän
 dert werden.\n\nStartgeld:\n\n 	Einzelstarter           40\,00 € * / 5
 0\,00 €\n 	2er-Mannschaft      80\,00 € * / 100\,00 €\n 	4er-Mannschaf
 t     160\,00 € * /200\,00 €\n\n* bei Anmeldung bis zum 31.05.\n\nAnme
 ldung: 01.02.\n\nAuf Grund der immensen Nachfrage ist eine Anmeldung z
 wingend am 01.02 otwendig\, um einen der begehrten Startplätze zu erga
 ttern :-)\n\nAnmeldeschluß: 04.06.\n\nDas Startgeld beinhaltet die Ver
 pflegung der Teilnehmer während des Rennens.\n\nWeitere Infos und Onli
 ne Anmeldung beim Veranstalter: Radclub Schnaittachtal e.V.
X-ALT-DESC;FMTTYPE=text/html:<h3 style=text-align: center\;><span styl
 e=text-decoration: underline\;>12 Stunden auf dem Mountainbike!</span>
 </h3>\n<p>Als Einzelfahrer oder im Team! Egal ob &#8222\;Profi&#8220\;
  oder ambitionierte Breitensportler &#8211\; Der Spaßfaktor steht im V
 ordergrund. Auf einem abgesteckten Rundkurs fahren die Mountainbikerin
 nen und Mountainbiker innerhalb von 12 Stunden möglichst viele Runden.
  Wer am meisten Runden schafft ist Sieger.</p>\n<p>Die jährlich steige
 nden Teilnehmerzahlen beweisen es &#8211\; diese Art von Mountainbike 
 Rennen wird immer beliebter. Daher wurde auch die Idee geboren\, ein e
 igenes 12h Rennen zu veranstalten. Inzwischen geht das 12h Rennen in d
 ie 8. Auflage.</p>\n<p>Der RC Schnaittach lädt daher alle Hobby- und P
 rofibiker\, sowie alle Sportbegeisterte zu diesem Event ein.</p>\n<p><
 span style=color: #ff9900\;>Glücklicherweise bekamen wir Ende Februar 
 nochmals die Chance\, ein 4er Team Herren für die Veranstaltung zu mel
 den. Eine endgültige Bestätigung liegt noch nicht vor\, aber wir sind 
 guter Dinge.</span><br>\n<br>\n&nbsp\;</p>\n<p><strong>Teams:</strong>
 </p>\n<ul>\n<li>Einzelstarter (Damen\, Herren)</li>\n<li>Einzelstarter
  (Seniorinnen\, Senioren</li>\n<li>Zweier-Team (Damen\, Herren\, Mixed
 )</li>\n<li>Vierer–Team (Damen\, Herren\, Mixed)</li>\n</ul>\n<p><stro
 ng>Startkontingente: </strong></p>\n<ul>\n<li>Einzelfahrer: 30 Startpl
 ätze</li>\n<li>2er-Teams: 40 Startplätze</li>\n<li>4er-Teams: 50 Start
 plätze</li>\n</ul>\n<p><strong>Strecke:</strong><br>\n<br>\nAusschließ
 lich Wiese\, Wald- und Schotterwege. Rundkurs mit ca. 7 km Länge und c
 a. 100 HM. Streckenlänge und Runden können vom Veranstalter geändert w
 erden.</p>\n<p><strong>Startgeld:</strong></p>\n<ul>\n<li>Einzelstarte
 r           40\,00 € * / 50\,00 €</li>\n<li>2er-Mannschaft      80\,00
  € * / 100\,00 €</li>\n<li>4er-Mannschaft     160\,00 € * /200\,00 €</
 li>\n</ul>\n<p>* bei Anmeldung bis zum 31.05.</p>\n<p>Anmeldung: <stro
 ng>01.02.</strong><br>\n<br>\nAuf Grund der immensen Nachfrage ist ein
 e Anmeldung zwingend am 01.02 otwendig\, um einen der begehrten Startp
 lätze zu ergattern :-)</p>\n<p>Anmeldeschluß: 04.06.</p>\n<p>Das Start
 geld beinhaltet die Verpflegung der Teilnehmer während des Rennens.</p
 >\n<p>Weitere Infos und Online Anmeldung beim Veranstalter: <a href=ht
 tp://www.12h-rc-schnaittachtal.de/cms/website.php target=_blank rel=no
 opener>Radclub Schnaittachtal e.V.</a></p>\n
URL:https://www.runningsocks.de/wordpress/terminkalender/eventsinglepa
 ge/?event_id=433&lang=de
ATTACH:https://www.runningsocks.de/wordpress/terminkalender/eventsingl
 epage/?event_id=433&lang=de
LOCATION:An der Alle / Badstraße\, Badstraße 4\, Schnaittach
END:VEVENT
END:VCALENDAR
