BEGIN:VCALENDAR
VERSION:2.0
METHOD:PUBLISH
PRODID:-//hacksw/handcal//NONSGML v1.0//EN
BEGIN:VEVENT
DTSTAMP:20260419T165352Z
DTSTART:20180610T040000Z
DTEND:20180610T140000Z
UID:20180610T040000Z-20180610T140000Z-434@www.runningsocks.de
SUMMARY:20. Jura Radmarathon\, Lupburg
DESCRIPTION:Jura-Radmarathon - Die etwas andere Veranstaltung in famil
 iärer Atmosphäre\nOnlineanmeldung: ab 01.03.\n\nAnmeldeschluß: wenn Te
 ilnehmerlimit von 1500 Startern erreicht ist\, bzw. 03.06.\n\nÜbersich
 t: MTB Touren\, Strecken\, Startgebühren\, Startzeiten\n\n\n\nTour\nSt
 recke\nKm\nPreis bis 30.04.\nPreis ab 01.05.\nStartzeit\n\n\n6\nMTB Ei
 nsteiger\n30\n6 EUR\n6 EUR\n08:00 - 11:00\n\n\n7\nMTB\n45\n 9 EUR\n14 
 EUR\n06:00 - 09:00\n\n\n8\nMTB\n56\n10 EUR\n15 EUR\n06:00 - 09:00\n\n\
 n9\nMTB\n75\n12 EUR\n17 EUR\n06:00 - 08:00\n\n\n10\nMTB Marathon\n94\n
 17 EUR\n22 EUR\n06:00 - 07:30\n\n\n\nAktueller Flyer und Streckenpläne
  zum 20. Jura Radmarathon rund um Lupburg:\n\n[wpfilebase tag=list id=
 296 tpl=data-table pagenav=1 sort='
X-ALT-DESC;FMTTYPE=text/html:<p style=text-align: center\;><span style
 =font-size: 18px\;><em>&#8222\;Jura-Radmarathon &#8211\; Die etwas and
 ere Veranstaltung in familiärer Atmosphäre&#8220\;</em></span></p>\n<p
 ><strong>Onlineanmeldung:</strong> ab 01.03.</p>\n<p><strong>Anmeldesc
 hluß:</strong> wenn Teilnehmerlimit von 1500 Startern erreicht ist\, b
 zw. 03.06.</p>\n<p><strong>Übersicht:</strong> MTB Touren\, Strecken\,
  Startgebühren\, Startzeiten</p>\n<table>\n<tbody>\n<tr><td><strong>To
 ur</strong></td>\n<td><strong>Strecke</strong></td>\n<td><strong>Km</s
 trong></td>\n<td><strong>Preis bis 30.04.</strong></td>\n<td><strong>P
 reis ab 01.05.</strong></td>\n<td><strong>Startzeit</strong></td></tr>
 \n<tr><td style=text-align: center\;>6</td>\n<td style=text-align: cen
 ter\;>MTB Einsteiger</td>\n<td>30</td>\n<td style=text-align: center\;
 >6 EUR</td>\n<td style=text-align: center\;>6 EUR</td>\n<td>08:00 &#82
 11\; 11:00</td></tr>\n<tr><td style=text-align: center\;>7</td>\n<td s
 tyle=text-align: center\;>MTB</td>\n<td>45</td>\n<td style=text-align:
  center\;> 9 EUR</td>\n<td style=text-align: center\;>14 EUR</td>\n<td
 >06:00 &#8211\; 09:00</td></tr>\n<tr><td style=text-align: center\;>8<
 /td>\n<td style=text-align: center\;>MTB</td>\n<td>56</td>\n<td style=
 text-align: center\;>10 EUR</td>\n<td style=text-align: center\;>15 EU
 R</td>\n<td>06:00 &#8211\; 09:00</td></tr>\n<tr><td style=text-align: 
 center\;>9</td>\n<td style=text-align: center\;>MTB</td>\n<td>75</td>\
 n<td style=text-align: center\;>12 EUR</td>\n<td style=text-align: cen
 ter\;>17 EUR</td>\n<td>06:00 &#8211\; 08:00</td></tr>\n<tr><td style=t
 ext-align: center\;>10</td>\n<td style=text-align: center\;>MTB Marath
 on</td>\n<td>94</td>\n<td style=text-align: center\;>17 EUR</td>\n<td 
 style=text-align: center\;>22 EUR</td>\n<td>06:00 &#8211\; 07:30</td><
 /tr>\n</tbody>\n</table>\n<p>Aktueller Flyer und Streckenpläne zum 20.
  Jura Radmarathon rund um Lupburg:</p>\n<p>[wpfilebase tag=list id=296
  tpl=data-table pagenav=1 sort='&lt\;file_display_name&#8216\; /]</p>\
 n<p style=text-align: justify\;>Weitere Info&#8217\;s und Onlineanmeld
 ung beim Veranstalter: <a href=http://www.jura-radmarathon.de target=_
 blank rel=noopener>Sportverein 1959 Lupburg e.V</a></p>\n
URL:https://www.runningsocks.de/wordpress/terminkalender/eventsinglepa
 ge/?event_id=434&lang=de
ATTACH:https://www.runningsocks.de/wordpress/terminkalender/eventsingl
 epage/?event_id=434&lang=de
LOCATION:Schul- und Sportgelände\, Reiselbergweg 3\, Lupburg
END:VEVENT
END:VCALENDAR
