BEGIN:VCALENDAR
VERSION:2.0
METHOD:PUBLISH
PRODID:-//hacksw/handcal//NONSGML v1.0//EN
BEGIN:VEVENT
DTSTAMP:20260419T165631Z
DTSTART:20180519T140000Z
DTEND:20180519T170000Z
UID:20180519T140000Z-20180519T170000Z-436@www.runningsocks.de
SUMMARY:16. Leinburger Kirwa Lauf
DESCRIPTION:Inzwischen zum 16. male findet\, wie immer am Pfingst-Sams
 tag\, der traditionelle Kirwa-Lauf in Leinburg statt.\nDas mittlerweil
 e im ganzen Landkreis bekannte Lauf-Event lockt bei meistens gutem Wet
 ter viele laufbegeisterte Teilnehmern an. Je nach gewählter Distanz ge
 ht es über Asphaltwege\, oder auch Wald- und Flurwege auf die Strecke.
 \nAlle dürfen mitmachen: Kinder\, Schüler und Erwachsene\, egal ob als
  Nordic-Walker oder Jogger.\n\nStart und Ziel befindet sich im Hof der
  Brauerei Bub in Leinburg\, wo dann auch Reichliches für Hunger und Du
 rst angeboten wird.\n\nAusschreibung:\n\n 	Auf der Seite des Veranstal
 ters: TV Leinburg\n\nStart / Ziel\n\n\n 	Brauereihof Bub / Leinburg\n\
 nLäufe und Startzeiten:\n\n 	15:00h: Kinderlauf\, 0\,5 Km\n 	15:30h: S
 chülerlauf\, 1\,5 Km\n 	16:00h: Kirwalauf ca. 10 Km\n 	16:10h: Kirwala
 uf ca. 4\,5 Km\n 	16:10h: Nordic Walking ca. 4\,5 Km\n\nStartgeld:\n\n
  	Kinder-/ Schülerlauf      2\,00 EUR (€ 2 Nachmeldegebühr nach 18.05.
 )\n 	Kirwalauf / Nordic-Walking  8\,00 EUR (€ 2 Nachmeldegebühr nach 1
 8.05.)\n\nStartnummernausgabe:\n\n 	14:00h  – 15:00h  im Brauereihof B
 ub\n 	Nachmeldungen nur bis: 14:00h\n\nSiegerehrung:\n\n 	ca. 18:00h i
 m Brauereihof Bub\n\nWas gibt's für das Startgeld?\n\n 	Die 3 Schnells
 ten jedes Rennens (Kirwalauf)\, weiblich & männlich\, erhalten Sachpre
 ise.\n 	Zudem erfolgt eine Sachpreisverlosung unter allen Teilnehmern.
 \n\n\nAnmeldung:\n\nbis  18.05. - 19:00h bei:\nAngela Gruber\nBütenstr
 asse 7\, 91227 Leinburg\nTelefon: 09120 / 18 12 99\nE-Mail: angela.gru
 ber@t-online.de.de\nFlyer:\n\n[wpfilebase tag=file path='lauf/leinburg
 er-kirwalauf/20180519/20180519_Kirwalauf_Leinburg.pdf' tpl=download-bu
 tton /]
X-ALT-DESC;FMTTYPE=text/html:<p>Inzwischen zum 16. male findet\, wie i
 mmer am Pfingst-Samstag\, der traditionelle Kirwa-Lauf in Leinburg sta
 tt.<br>\nDas mittlerweile im ganzen Landkreis bekannte Lauf-Event lock
 t bei meistens gutem Wetter viele laufbegeisterte Teilnehmern an. Je n
 ach gewählter Distanz geht es über Asphaltwege\, oder auch Wald- und F
 lurwege auf die Strecke.<br>\nAlle dürfen mitmachen: Kinder\, Schüler 
 und Erwachsene\, egal ob als Nordic-Walker oder Jogger.</p>\n<p>Start 
 und Ziel befindet sich im <a href=http://www.leinburger-bier.de/>Hof d
 er Brauerei Bub</a> in Leinburg\, wo dann auch Reichliches für Hunger 
 und Durst angeboten wird.</p>\n<p><strong>Ausschreibung:</strong></p>\
 n<ul>\n<li>Auf der Seite des Veranstalters: <a href=http://www.tvleinb
 urg.de/skiabteilung/kirwalauf_ausschreibung_2018.html target=_blank re
 l=noopener noreferrer>TV Leinburg</a></li>\n</ul>\n<p><strong>Start / 
 Ziel<br>\n</strong></p>\n<ul>\n<li>Brauereihof Bub / Leinburg</li>\n</
 ul>\n<p><strong>Läufe und Startzeiten:</strong></p>\n<ul>\n<li>15:00h:
  Kinderlauf\, 0\,5 Km</li>\n<li>15:30h: Schülerlauf\, 1\,5 Km</li>\n<l
 i>16:00h: Kirwalauf ca. 10 Km</li>\n<li>16:10h: Kirwalauf ca. 4\,5 Km<
 /li>\n<li>16:10h: Nordic Walking ca. 4\,5 Km</li>\n</ul>\n<p><strong>S
 tartgeld:</strong></p>\n<ul>\n<li>Kinder-/ Schülerlauf      2\,00 EUR 
 (€ 2 Nachmeldegebühr nach 18.05.)</li>\n<li>Kirwalauf / Nordic-Walking
   8\,00 EUR (€ 2 Nachmeldegebühr nach 18.05.)</li>\n</ul>\n<p><strong>
 Startnummernausgabe:</strong></p>\n<ul>\n<li>14:00h  – 15:00h  im <a h
 ref=http://www.leinburger-bier.de/>Brauereihof Bub</a></li>\n<li>Nachm
 eldungen nur bis: 14:00h</li>\n</ul>\n<p><strong>Siegerehrung:</strong
 ></p>\n<ul>\n<li>ca. 18:00h im <a href=http://www.leinburger-bier.de/>
 Brauereihof Bub</a></li>\n</ul>\n<p><strong>Was gibt&#8217\;s für das 
 Startgeld?</strong></p>\n<ul>\n<li>Die 3 Schnellsten jedes Rennens (Ki
 rwalauf)\, weiblich &amp\; männlich\, erhalten Sachpreise.</li>\n<li>Z
 udem erfolgt eine Sachpreisverlosung unter allen Teilnehmern.<span sty
 le=font-family: Arial\,Helvetica\,sans-serif\; font-size: small\;><br>
 \n</span></li>\n</ul>\n<p><strong>Anmeldung:</strong><br>\n<br>\nbis  
 18.05. &#8211\; 19:00h bei:</p>\n<p style=padding-left: 60px\;>Angela 
 Gruber<br>\nBütenstrasse 7\, 91227 Leinburg<br>\nTelefon: 09120 / 18 1
 2 99<br>\nE-Mail: <a id=linkgruen href=mailto:angela.gruber@t-online.d
 e target=_blank rel=noopener noreferrer>angela.gruber@t-online.de.de</
 a></p>\n<p>Flyer:</p>\n<p>[wpfilebase tag=file path=&#8217\;lauf/leinb
 urger-kirwalauf/20180519/20180519_Kirwalauf_Leinburg.pdf&#8216\; tpl=d
 ownload-button /]</p>\n
URL:https://www.runningsocks.de/wordpress/terminkalender/eventsinglepa
 ge/?event_id=436&lang=de
ATTACH:https://www.runningsocks.de/wordpress/terminkalender/eventsingl
 epage/?event_id=436&lang=de
LOCATION:Brauereihof Bub\, Marktplatz 14\, Leinburg
END:VEVENT
END:VCALENDAR
