BEGIN:VCALENDAR
VERSION:2.0
METHOD:PUBLISH
PRODID:-//hacksw/handcal//NONSGML v1.0//EN
BEGIN:VEVENT
DTSTAMP:20260419T165314Z
DTSTART:20100515T050000Z
DTEND:20100515T141500Z
UID:20100515T050000Z-20100515T141500Z-44@www.runningsocks.de
SUMMARY:11. Landkreislauf Nürnberger land
DESCRIPTION:Am 15. Mai 2010 findet der Landkreislauf Nürnberger Land z
 um 11. mal  statt. Er hat sich als eines der größten Events im Landkre
 is         etabliert. Und er ist weiterhin modern und entwickelt sich 
  weiter.\n\nDie Streckenabschnitte (10Abschnitte\, ca. 60\,9Km):\n\n\n
 \nNr\nVon\nNach\nEntfernung\nArt\nStartzeit\n\n\n1\nFeucht\nWinkelhaid
 \n8\,3Km\nschwer\n7:00\n\n\n2\nWinkelhaid\nRöthenbach b.Altdorf\n4\,8K
 m\nleicht\n8:10\n\n\n3\nRöthenbach b.Altdorf\nWeißenbrunn\n5\,3Km\nmit
 tel\n8:55\n\n\n4\nWeißenbrunn\nDiepersdorf\n7\,0Km\nmittel\n9:45\n\n\n
 5\nDiepersdorf\nSchwaig\n7\,6Km\nmittel\n10:50\n\n\n6\nSchwaig\nRücker
 sdorf\n4\,9Km\nleicht\n12:00\n\n\n7\nRückersdorf\nGünthersbühl\n6\,1Km
 \nschwer\n12:50\n\n\n8\nGünthersbühl\nSimonshofen\n6\,7Km\nschwer\n13:
 50\n\n\n9\nSimonshofen\nGroßbellhofen\n5\,5Km\nmittel\n15:00\n\n\n10\n
 Großbellhofen\nFreiröttenbach\n4\,9Km\nleicht\n16:00\n\n\n\nÄnderungen
  vorbehalten. Ankunft am Festplatz Freiröttenbach ab ca. 16:15 Uhr. Bi
 tte beachten Sie eventuelle Änderungen der Strecken: !! Aktuelles !!
X-ALT-DESC;FMTTYPE=text/html:<p>Am 15. Mai 2010 findet der Landkreisla
 uf Nürnberger Land zum 11. mal  statt. Er hat sich als eines der größt
 en Events im Landkreis         etabliert. Und er ist weiterhin modern 
 und entwickelt sich  weiter.</p>\n<p>Die Streckenabschnitte (10Abschni
 tte\, ca. 60\,9Km):</p>\n<table style=border: 1px solid #b0c4de\; bord
 er=1 frame=void rules=all align=center>\n<tbody>\n<tr style=text-align
 : center\;><td><strong>Nr</strong></td>\n<td><strong>Von</strong></td>
 \n<td><strong>Nach</strong></td>\n<td><strong>Entfernung</strong></td>
 \n<td><strong>Art</strong></td>\n<td><strong>Startzeit</strong></td></
 tr>\n<tr><td>1</td>\n<td>Feucht</td>\n<td>Winkelhaid</td>\n<td>8\,3Km<
 /td>\n<td>schwer</td>\n<td>7:00</td></tr>\n<tr><td>2</td>\n<td>Winkelh
 aid</td>\n<td>Röthenbach b.Altdorf</td>\n<td>4\,8Km</td>\n<td>leicht</
 td>\n<td>8:10</td></tr>\n<tr><td>3</td>\n<td>Röthenbach b.Altdorf</td>
 \n<td>Weißenbrunn</td>\n<td>5\,3Km</td>\n<td>mittel</td>\n<td>8:55</td
 ></tr>\n<tr><td>4</td>\n<td>Weißenbrunn</td>\n<td>Diepersdorf</td>\n<t
 d>7\,0Km</td>\n<td>mittel</td>\n<td>9:45</td></tr>\n<tr><td>5</td>\n<t
 d>Diepersdorf</td>\n<td>Schwaig</td>\n<td>7\,6Km</td>\n<td>mittel</td>
 \n<td>10:50</td></tr>\n<tr><td>6</td>\n<td>Schwaig</td>\n<td>Rückersdo
 rf</td>\n<td>4\,9Km</td>\n<td>leicht</td>\n<td>12:00</td></tr>\n<tr><t
 d>7</td>\n<td>Rückersdorf</td>\n<td>Günthersbühl</td>\n<td>6\,1Km</td>
 \n<td>schwer</td>\n<td>12:50</td></tr>\n<tr><td>8</td>\n<td>Günthersbü
 hl</td>\n<td>Simonshofen</td>\n<td>6\,7Km</td>\n<td>schwer</td>\n<td>1
 3:50</td></tr>\n<tr><td>9</td>\n<td>Simonshofen</td>\n<td>Großbellhofe
 n</td>\n<td>5\,5Km</td>\n<td>mittel</td>\n<td>15:00</td></tr>\n<tr><td
 >10</td>\n<td>Großbellhofen</td>\n<td>Freiröttenbach</td>\n<td>4\,9Km<
 /td>\n<td>leicht</td>\n<td>16:00</td></tr>\n</tbody>\n</table>\n<p>Änd
 erungen vorbehalten. Ankunft am Festplatz Freiröttenbach ab ca. 16:15 
 Uhr. Bitte beachten Sie eventuelle Änderungen der Strecken: <a href=ht
 tp://www.landkreislauf.de/index.php?mod=aktuelles target=_blank>!! Akt
 uelles !!</a></p>\n
URL:https://www.runningsocks.de/wordpress/terminkalender/eventsinglepa
 ge/?event_id=44&lang=de
ATTACH:https://www.runningsocks.de/wordpress/terminkalender/eventsingl
 epage/?event_id=44&lang=de
LOCATION:Start 1. Etappe\, 11. Landkreislauf Nbg. Land\, Industriestra
 ße 12\, Feucht
END:VEVENT
END:VCALENDAR
