BEGIN:VCALENDAR
VERSION:2.0
METHOD:PUBLISH
PRODID:-//hacksw/handcal//NONSGML v1.0//EN
BEGIN:VEVENT
DTSTAMP:20260419T165718Z
DTSTART:20180505T090000Z
DTEND:20180505T210000Z
UID:20180505T090000Z-20180505T210000Z-440@www.runningsocks.de
SUMMARY:Schanzenbräu Brauereifest
DESCRIPTION:Schanzenbräu Brauereifest\nTermin steht fest\, alles weite
 re folgt\, sobald verfügbar....\n\nInfos: Schanzenbräu Brauerei
X-ALT-DESC;FMTTYPE=text/html:<p style=text-align: center\;><strong>Sch
 anzenbräu Brauereifest</strong></p>\n<p>Termin steht fest\, alles weit
 ere folgt\, sobald verfügbar&#8230\;.</p>\n<p>Infos: <a href=https://w
 ww.schanzenbraeu.de/>Schanzenbräu Brauerei</a></p>\n
URL:https://www.runningsocks.de/wordpress/terminkalender/eventsinglepa
 ge/?event_id=440&lang=de
ATTACH:https://www.runningsocks.de/wordpress/terminkalender/eventsingl
 epage/?event_id=440&lang=de
LOCATION:Schanzenbräu Brauerei\, Proeslerstraße 3\, Nürnberg
END:VEVENT
END:VCALENDAR
