BEGIN:VCALENDAR
VERSION:2.0
METHOD:PUBLISH
PRODID:-//hacksw/handcal//NONSGML v1.0//EN
BEGIN:VEVENT
DTSTAMP:20260419T165503Z
DTSTART:20181231T120000Z
DTEND:20181231T140000Z
UID:20181231T120000Z-20181231T140000Z-441@www.runningsocks.de
SUMMARY:16. Nürnberger Silvesterlauf
DESCRIPTION:Liebe Läuferinnen und Läufer des letztjährigen Silvesterla
 ufs\, es ist wieder soweit. Ab 01. 10. ist die Online-Anmeldung zum Nü
 rnberger Silvesterlauf geöffnet.\nBis 18.11. gibt es Frühbucher Rabatt
 e\, also schnell zuschlagen und nicht vergessen.  Erfahrungsgemäß ist 
 der Lauf schon vor Ende der Anmeldefrist ausgebucht (Teilnehmerlimit: 
 1318). Von der Startgebühr wird ein Teil gespendet:\n0\,50 € der Start
 gebühr gehen als Spende an die Wärmestube der Caritas und der Stadtmis
 sion Nürnberg.\nStart und Ziel:\n\nBeim Café Seehaus auf dem Johann-So
 ergel-Weg direkt vor dem neuen Steg am Wöhrder See\n\nAnmelde\,- Start
 gebühren:\n\nFrühbucherrabatt bis 18.11.\n10 km Hauptlauf: 15€\n5 km H
 obbylauf: 10 €\nBambini und Schülerlauf: 4 €\n\nNormalpreis ab 19.11.\
 n10 km Hauptlauf: 20 €\n5 km Hobbylauf: 13 €\nBambini und Schülerlauf:
  4 €\n\nNachmeldungen ab 17.12.\n(sofern noch Plätze vorhanden)\n10 km
  Hauptlauf: 25 €\n5 km Hobbylauf: 15 €\nBambini und Schülerlauf: 4 €\n
 \nEin Funktionsshirt (dieses Jahr ein Langarmshirt) kann für 19 EUR zu
 sätzlich bei der Anmeldung bestellt werden (solange Vorrat reicht)\nZe
 itplan:\n10:45 Uhr: Start 400 m Bambinilauf\n11:00 Uhr: Start 1600 m S
 chülerlauf\n11:15 Uhr: Siegerehrung Bambinilauf\n11:30 Uhr: Start 5 km
  Hobbylauf\n12:15 Uhr: Siegerehrung Schüler- und Hobbylauf\n13:00 Uhr:
  Start 10 km Hauptlauf\n14:30 Uhr: Siegerehrung Hauptlauf und Teamcup\
 n\nGutmann Team Cup:\n\nAuch dieses Jahr gibt es wieder den Gutmann Te
 am Cup.  Beim 10-km-Hauptlauf werden alle Teams gewertet\, die mit gle
 ichem Vereins- oder Gruppennamen (bitte bei der Online-Anmeldung unbed
 ingt auf gleiche Bezeichnung achten!) eingetragen sind. Gewertet werde
 n alle Teams mit den Zeiten der fünf bestplatzierten Finisher. Die Wer
 tung erfolgt immer als Mixed-Wertung\, d.h. es erfolgt keine getrennte
  Frauen- und Männerwertung.\n\nAusschreibung\, Veranstalter\, Anmeldun
 g:\n\nAusschreibung: direkt beim Veranstalter oder hier:\n\n[wpfilebas
 e tag=file path='lauf/silvesterlauf-nuernberg/20181231/20181231_Silves
 terlaufNuernberg_Ausschreibung.pdf' tpl=download-button /]\n\nOnline A
 nmeldung: direkt beim Veranstalter\n\nWeitere\, aktuelle Info's und An
 meldung beim Veranstalter:\n\nTeam Klinikum Nürnberg e. V.
X-ALT-DESC;FMTTYPE=text/html:<p style=text-align: center\;>Liebe Läufe
 rinnen und Läufer des letztjährigen Silvesterlaufs\, es ist wieder sow
 eit. Ab 01. 10. ist die Online-Anmeldung zum Nürnberger Silvesterlauf 
 geöffnet.</p>\n<p>Bis 18.11. gibt es Frühbucher Rabatte\, also schnell
  zuschlagen und nicht vergessen.  Erfahrungsgemäß ist der Lauf schon v
 or Ende der Anmeldefrist ausgebucht (Teilnehmerlimit: 1318). Von der S
 tartgebühr wird ein Teil gespendet:</p>\n<p style=text-align: center\;
 >0\,50 € der Startgebühr gehen als Spende an die Wärmestube der Carita
 s und der Stadtmission Nürnberg.</p>\n<p><span style=text-decoration: 
 underline\;><strong>Start und Ziel:</strong></span><br>\n<br>\nBeim Ca
 fé Seehaus auf dem Johann-Soergel-Weg direkt vor dem neuen Steg am Wöh
 rder See</p>\n<p><span style=text-decoration: underline\;><strong>Anme
 lde\,- Startgebühren:</strong></span></p>\n<p><strong>Frühbucherrabatt
  bis 18.11.</strong><br>\n10 km Hauptlauf: 15€<br>\n5 km Hobbylauf: 10
  €<br>\nBambini und Schülerlauf: 4 €</p>\n<p><strong>Normalpreis ab 19
 .11.<br>\n</strong>10 km Hauptlauf: 20 €<br>\n5 km Hobbylauf: 13 €<br>
 \nBambini und Schülerlauf: 4 €</p>\n<p><strong>Nachmeldungen ab 17.12.
 <br>\n(sofern noch Plätze vorhanden)<br>\n</strong>10 km Hauptlauf: 25
  €<br>\n5 km Hobbylauf: 15 €<br>\nBambini und Schülerlauf: 4 €</p>\n<p
 >Ein Funktionsshirt (dieses Jahr ein Langarmshirt) kann für 19 EUR zus
 ätzlich bei der Anmeldung bestellt werden (solange Vorrat reicht)</p>\
 n<h3>Zeitplan:</h3>\n<p>10:45 Uhr: Start 400 m Bambinilauf<br>\n11:00 
 Uhr: Start 1600 m Schülerlauf<br>\n11:15 Uhr: Siegerehrung Bambinilauf
 <br>\n11:30 Uhr: Start 5 km Hobbylauf<br>\n12:15 Uhr: Siegerehrung Sch
 üler- und Hobbylauf<br>\n13:00 Uhr: Start 10 km Hauptlauf<br>\n14:30 U
 hr: Siegerehrung Hauptlauf und Teamcup</p>\n<p><span style=text-decora
 tion: underline\;><strong>Gutmann Team Cup:</strong></span><br>\n<br>\
 nAuch dieses Jahr gibt es wieder den Gutmann Team Cup.  Beim 10-km-Hau
 ptlauf werden alle Teams gewertet\, die mit gleichem Vereins- oder Gru
 ppennamen (bitte bei der Online-Anmeldung unbedingt auf gleiche Bezeic
 hnung achten!) eingetragen sind. Gewertet werden alle Teams mit den Ze
 iten der fünf bestplatzierten Finisher. Die Wertung erfolgt immer als 
 Mixed-Wertung\, d.h. es erfolgt keine getrennte Frauen- und Männerwert
 ung.</p>\n<p><strong><span style=text-decoration: underline\;>Ausschre
 ibung\, Veranstalter\, Anmeldung:</span></strong><br>\n<br>\nAusschrei
 bung: <a href=https://team-klinikum-nuernberg.de/silvesterlauf/ausschr
 eibung target=_blank rel=noopener>direkt beim Veranstalter</a> oder hi
 er:</p>\n<p>[wpfilebase tag=file path=&#8217\;lauf/silvesterlauf-nuern
 berg/20181231/20181231_SilvesterlaufNuernberg_Ausschreibung.pdf&#8216\
 ; tpl=download-button /]</p>\n<p>Online Anmeldung: <a href=http://www.
 chipzeit.de/anmeldungen/2018123101/ target=_blank rel=noopener>direkt 
 beim Veranstalter</a></p>\n<p>Weitere\, aktuelle Info&#8217\;s und Anm
 eldung beim Veranstalter:</p>\n<p><a href=http://www.silvesterlauf-nue
 rnberg.de/ target=_blank rel=noopener>Team Klinikum Nürnberg e. V.</a>
 </p>\n
URL:https://www.runningsocks.de/wordpress/terminkalender/eventsinglepa
 ge/?event_id=441&lang=de
ATTACH:https://www.runningsocks.de/wordpress/terminkalender/eventsingl
 epage/?event_id=441&lang=de
LOCATION:Cafe Seehaus\, Veilhofstr. 38\,\, Nürnberg
END:VEVENT
END:VCALENDAR
