BEGIN:VCALENDAR
VERSION:2.0
METHOD:PUBLISH
PRODID:-//hacksw/handcal//NONSGML v1.0//EN
BEGIN:VEVENT
DTSTAMP:20260419T165615Z
DTSTART:20181215T130000Z
DTEND:20181215T160000Z
UID:20181215T130000Z-20181215T160000Z-446@www.runningsocks.de
SUMMARY:16. Run & Bike Ungerthal
DESCRIPTION:Inzwischen zum 16. male wird der Run & Bike im schönen Ung
 ertahl\, nahe Schawabach\, durchgeführt. Eine kleine Gruppe eingefleis
 chter und verrückter Sportler wird sich bei jeder Witterung den Anford
 erungen der welligen Strecke stellen\, in der Hoffung\, noch einige Ku
 chenstücke und Glühwein nach dem Zieleinlauf zu ergattern :-)\n\nEin R
 un & Bike ist ein besonderer Lauf\, der wie folgt durchgeführt wird:\n
 \nZwei Läufer teilen sich ein Fahrrad. Dabei darf der Abstand zwischen
  dem Läufer und dem Radfahrer niemals mehr als 10 Meter betragen. Das 
 “Paar” kann sich beliebig jederzeit abwechseln.\n\n\n\nStart:\n14.00 U
 hr\, Waldparkplatz im Ungerthal\n\n\nStrecke:\nWellige\, vom öffentlic
 hen Verkehr\ngeschlossene Waldwege\, ca. 17 km\n\n\nKlasseneinteilung:
 \nMänner\, Frauen und gemischte Paare\n\n\nOrganisationsbeitrag (Barza
 hlung bei Abholung der Startunterlagen vor Ort\, ab 13:00):\n20\,00€ p
 ro Paar\n\n\n\nAnmeldung bis 13.12.:\nHier klicken \n\n\nSonstiges:\nK
 uchenbuffet und Getränke im Zielraum\, sowie ein Lagerfeuer\, keine Du
 schmöglichkeiten\n\n\nSiegerehrung:\nCa. 1/2 Std. nach dem letzten\nZi
 eleinlauf\n\n\nOrganisation\, Ausschreibung:\nHier klicken\n\n\n\nQuel
 le: www.fun-race.org
X-ALT-DESC;FMTTYPE=text/html:<p>Inzwischen zum 16. male wird der Run &
 amp\; Bike im schönen Ungertahl\, nahe Schawabach\, durchgeführt. Eine
  kleine Gruppe eingefleischter und verrückter Sportler wird sich bei j
 eder Witterung den Anforderungen der welligen Strecke stellen\, in der
  Hoffung\, noch einige Kuchenstücke und Glühwein nach dem Zieleinlauf 
 zu ergattern :-)</p>\n<p>Ein Run &amp\; Bike ist ein besonderer Lauf\,
  der wie folgt durchgeführt wird:</p>\n<p>Zwei Läufer teilen sich ein 
 Fahrrad. Dabei darf der Abstand zwischen dem Läufer und dem Radfahrer 
 niemals mehr als 10 Meter betragen. Das “Paar” kann sich beliebig jede
 rzeit abwechseln.</p>\n<table style=border: 1px solid #b0c4de\; width:
  384px\; height: 236px\; border=1 frame=void rules=all align=center>\n
 <tbody>\n<tr><td><span style=font-size: small\;>Start:</span></td>\n<t
 d><span style=font-size: small\;>14.00 Uhr\, Waldparkplatz im Ungertha
 l</span></td></tr>\n<tr><td><span style=font-size: small\;>Strecke:</s
 pan></td>\n<td><span style=font-size: small\;>Wellige\, vom öffentlich
 en Verkehr<br>\ngeschlossene Waldwege\, ca. 17 km</span></td></tr>\n<t
 r><td><span style=font-size: small\;>Klasseneinteilung:</span></td>\n<
 td><span style=font-size: small\;>Männer\, Frauen und gemischte Paare<
 /span></td></tr>\n<tr><td><span style=font-size: small\;>Organisations
 beitrag (Barzahlung bei Abholung der Startunterlagen vor Ort\, ab 13:0
 0):</span></td>\n<td><span style=font-size: small\;>20\,00€ pro Paar<b
 r>\n</span></td></tr>\n<tr><td><span style=font-size: small\;>Anmeldun
 g bis 13.12.:</span></td>\n<td><span style=font-size: small\;><a href=
 https://www.fun-race.org/termine>Hier klicken </a></span></td></tr>\n<
 tr><td><span style=font-size: small\;>Sonstiges:</span></td>\n<td><spa
 n style=font-size: small\;>Kuchenbuffet und Getränke im Zielraum\, sow
 ie ein Lagerfeuer\, keine Duschmöglichkeiten</span></td></tr>\n<tr><td
 ><span style=font-size: small\;>Siegerehrung:</span></td>\n<td><span s
 tyle=font-size: small\;>Ca. 1/2 Std. nach dem letzten<br>\nZieleinlauf
 </span></td></tr>\n<tr><td><span style=font-size: small\;>Organisation
 \, Ausschreibung:</span></td>\n<td><a href=http://www.fun-race.org/ter
 mine-ausschreibungen/run-bike-2013/><span style=font-size: small\;>Hie
 r klicken</span></a></td></tr>\n</tbody>\n</table>\n<p>Quelle: <a href
 =http://www.fun-race.org/ target=_blank rel=noopener>www.fun-race.org<
 /a></p>\n
URL:https://www.runningsocks.de/wordpress/terminkalender/eventsinglepa
 ge/?event_id=446&lang=de
ATTACH:https://www.runningsocks.de/wordpress/terminkalender/eventsingl
 epage/?event_id=446&lang=de
LOCATION:Waldparkplatz im Ungerthal\, Ungerthaler Straße\, Büchenbach
END:VEVENT
END:VCALENDAR
