BEGIN:VCALENDAR
VERSION:2.0
METHOD:PUBLISH
PRODID:-//hacksw/handcal//NONSGML v1.0//EN
BEGIN:VEVENT
DTSTAMP:20260419T165615Z
DTSTART;VALUE=DATE:20181215
DTEND;VALUE=DATE:20181216
UID:20181214T230000Z-20181215T225959Z-447@www.runningsocks.de
SUMMARY:Tages Skifahrt Samnaun/Ischgl
DESCRIPTION:Mit dem Schneebeben Express geht es für Ski Enthusiasten b
 ei einer Tages Skifahrt am 15.12. (nachts) zu einem exzellenten Skigeb
 iet:\nSkiarena Samnaun / Ischgl\, Alp Trida\, Idalp\ndas mit ca.238Km 
 zu den größten Sigebieten der Ostalpen gehört.\nBei Interesse hier anm
 elden (Samnaun-Ischgl (CH) - mit After Snow Event - Rückreise 19:00)\n
 Das Skigebiet: Samnaun / Ischgl
X-ALT-DESC;FMTTYPE=text/html:<p>Mit dem Schneebeben Express geht es fü
 r Ski Enthusiasten bei einer Tages Skifahrt am 15.12. (nachts) zu eine
 m exzellenten Skigebiet:</p>\n<p style=text-align: center\;>Skiarena S
 amnaun / Ischgl\, Alp Trida\, Idalp</p>\n<p style=text-align: left\;>d
 as mit ca.238Km zu den größten Sigebieten der Ostalpen gehört.</p>\n<p
  style=text-align: left\;><a href=https://booking.easy-booking-system.
 com/9a5c815e23a59246e30148a1fbf37f3b/504460/0/0>Bei Interesse hier anm
 elden (Samnaun-Ischgl (CH) &#8211\; mit After Snow Event &#8211\; Rück
 reise 19:00)</a></p>\n<p>Das Skigebiet: <a href=https://www.samnaun-en
 gadin.ch/winter/aktiv/infos-zum-skigebiet/skigebiet-samnaun-ischgl.htm
 l>Samnaun / Ischgl</a></p>\n
URL:https://www.runningsocks.de/wordpress/terminkalender/eventsinglepa
 ge/?event_id=447&lang=de
ATTACH:https://www.runningsocks.de/wordpress/terminkalender/eventsingl
 epage/?event_id=447&lang=de
LOCATION:Skiarena Samnaun\, \, Samnaun
END:VEVENT
END:VCALENDAR
