BEGIN:VCALENDAR
VERSION:2.0
METHOD:PUBLISH
PRODID:-//hacksw/handcal//NONSGML v1.0//EN
BEGIN:VEVENT
DTSTAMP:20260419T165506Z
DTSTART;VALUE=DATE:20190119
DTEND;VALUE=DATE:20190120
UID:20190118T230000Z-20190119T225959Z-448@www.runningsocks.de
SUMMARY:Tages Skifahrt Silvretta Montafon
DESCRIPTION:Mit dem Schneebeben Express geht es für Ski Enthusiasten b
 ei einer Tages Skifahrt am 19.01.2019 (nachts) zu einem exzellenten Sk
 igebiet:\nSilvretta Montafon\nDie Silvretta Montafon bietet allen Wint
 ersportlern 140 bestens präparierte Pistenkilometer\, 36 Liftanlagen u
 nd 70 unterschiedlichste Freeride-Routen – und somit optimale Bedingun
 gen für einen aktiven Urlaub.\nBei Interesse hier anmelden (Silvretta 
 Montafon (AT) - mit After Snow Event - Rückreise 19:00 Uhr)\nDas Skige
 biet: Silvretta Montafon
X-ALT-DESC;FMTTYPE=text/html:<p>Mit dem Schneebeben Express geht es fü
 r Ski Enthusiasten bei einer Tages Skifahrt am 19.01.2019 (nachts) zu 
 einem exzellenten Skigebiet:</p>\n<p style=text-align: center\;>Silvre
 tta Montafon</p>\n<p style=text-align: left\;>Die Silvretta Montafon b
 ietet allen Wintersportlern 140 bestens präparierte Pistenkilometer\, 
 36 Liftanlagen und 70 unterschiedlichste Freeride-Routen – und somit o
 ptimale Bedingungen für einen aktiven Urlaub.</p>\n<p style=text-align
 : left\;><a href=https://booking.easy-booking-system.com/9a5c815e23a59
 246e30148a1fbf37f3b/504471/0/0>Bei Interesse hier anmelden (Silvretta 
 Montafon (AT) &#8211\; mit After Snow Event &#8211\; Rückreise 19:00 U
 hr)</a></p>\n<p>Das Skigebiet: <a href=https://www.silvretta-montafon.
 at/de/winter>Silvretta Montafon</a></p>\n
URL:https://www.runningsocks.de/wordpress/terminkalender/eventsinglepa
 ge/?event_id=448&lang=de
ATTACH:https://www.runningsocks.de/wordpress/terminkalender/eventsingl
 epage/?event_id=448&lang=de
LOCATION:Silvretta Montafon\, Sankt Gallenkirch 198a\, St. Gallenkirch
END:VEVENT
END:VCALENDAR
